BEGIN:VCALENDAR
VERSION:2.0
PRODID:-//Ingenieurkammer Thüringen - ECPv5.8.0//NONSGML v1.0//EN
CALSCALE:GREGORIAN
METHOD:PUBLISH
X-WR-CALNAME:Ingenieurkammer Thüringen
X-ORIGINAL-URL:https://ikth.de/startseite
X-WR-CALDESC:Events for Ingenieurkammer Thüringen
BEGIN:VTIMEZONE
TZID:Europe/Berlin
BEGIN:DAYLIGHT
TZOFFSETFROM:+0100
TZOFFSETTO:+0200
TZNAME:CEST
DTSTART:20260329T010000
END:DAYLIGHT
BEGIN:STANDARD
TZOFFSETFROM:+0200
TZOFFSETTO:+0100
TZNAME:CET
DTSTART:20261025T010000
END:STANDARD
END:VTIMEZONE
BEGIN:VEVENT
DTSTART;TZID=Europe/Berlin:20260318T080000
DTEND;TZID=Europe/Berlin:20260518T140000
DTSTAMP:20260421T032047
CREATED:20251208T143657Z
LAST-MODIFIED:20251209T093118Z
UID:9512-1773820800-1779112800@ikth.de
SUMMARY:Tragwerksplaner/in in der Denkmalpflege - Bestandsaufnahme und Voruntersuchung
DESCRIPTION:Themen Seminarblock  2: \n\nMethodik der Aufnahme\nUntersuchung und Bewertung historischer Tragwerke\nAuswerten und Einbeziehen von Ergebnissen der Quellen und Bauforschung\nRestauratorische Untersuchungen\nBauphysikalische\, bauchemische und baubiologische Voruntersuchungen\nErstellen von statisch-konstruktiven Bestandsaufnahmen\nStatisch-konstruktive Bestandsaufnahme und deren Wertung\nWeiterbearbeitung alter Befunde\nModifikation und Ergänzung vorhandener Pläne und Dokumentationen\nBautechnische Voruntersuchungen\nZiele und technische Möglichkeiten\nDokumentation\, Analyse und Weiterverarbeitung der Ergebnisse\nUntersuchungsmethoden\nBestimmung von Materialkennwerten und -zuständen durch Bohrwiderstandsmessung\nEndoskopie\nProbeentnahme und Laboranalyse\nSchwingungsmessung\, Ultraschall\, Mikrowelle\nAugenscheinliche und handwerkliche Untersuchung\n\nZertifikatslehrgang in 8 Seminarblöcken / Einstieg jederzeit möglich \nZur Anmeldung kommen Sie hier. \nDiese Veranstaltung wird von der Ingenieurkammer Thüringen anerkannt.
URL:https://ikth.de/startseite/event/tragwerksplaner-in-in-der-denkmalpflege-bestandsaufnahme-und-voruntersuchung-2/
CATEGORIES:Online-Veranstaltung,Seminar,Sonstiges,Tragwerksplanung
END:VEVENT
BEGIN:VEVENT
DTSTART;TZID=Europe/Berlin:20260330T090000
DTEND;TZID=Europe/Berlin:20260330T163000
DTSTAMP:20260421T032047
CREATED:20260303T101104Z
LAST-MODIFIED:20260303T101104Z
UID:11386-1774861200-1774888200@ikth.de
SUMMARY:MC-Planertage - Infrastruktur
DESCRIPTION:[vc_row][vc_column][vc_column_text css=““]Das Programm für den MC-Planertag Infrastruktur finden Sie unter: \nProgramm_Planertag_Infrastruktur.pdf\n \nsowie die \nAnmeldung unter: \nhttps://www.mc-bauchemie.de/veranstaltungen-sc-berlin/anmeldung.html \nDiese Veranstaltung wird mit 6 Weiterbildungsstunden anerkannt.\n[/vc_column_text][/vc_column][/vc_row]
URL:https://ikth.de/startseite/event/mc-planertage-infrastruktur/
LOCATION:MC-Bauchemie\, Ausbildungszentrum\, Müllerstraße 7\, Bottrop\, 46242
CATEGORIES:Bautechnik,Bauwesen,Tagung
END:VEVENT
BEGIN:VEVENT
DTSTART;TZID=Europe/Berlin:20260330T100000
DTEND;TZID=Europe/Berlin:20260330T121500
DTSTAMP:20260421T032047
CREATED:20260320T083334Z
LAST-MODIFIED:20260320T083334Z
UID:14624-1774864800-1774872900@ikth.de
SUMMARY:Hülle erneuern – Werte erhalten: Planung und Ausführung im Bestand
DESCRIPTION:[vc_row][vc_column][vc_column_text css=““] \n\n\nAuf folgende Inhalte kannst Du Dich freuen:\n\n\n\n\n\n\n\n\n\n\n\n\nWerde Experte für sichere\, nachhaltige und zukunftsfähige Gebäudehüllen im Bestand – Sei bei unserer Fortbildung dabei! \n\n\n\n\n\n\n\n\n\n\n\n\n\n\n\nDie Erneuerung der Gebäudehülle im Bestand erfordert sichere und normgerechte Lösungen – insbesondere bei Flucht- und Rettungswegen\, Automatiktüren und intelligenter Türtechnik. In dieser Veranstaltung zeigt GEZE\, wie sich durch moderne Rettungswegtechnik\, Nachrüstung und Anbindung an die Gebäudeleittechnik Betriebssicherheit\, Energieeffizienz und Werterhalt nachhaltig steigern lassen. Bestandsgebäude stellen besondere Anforderungen an Planung und Ausführung der Gebäudehülle. In diesem Webinar zeigt Kalzip\, welche gestalterischen\, bauphysikalischen und statischen Aspekte bei der Erneuerung von Fassaden im Bestand zu berücksichtigen sind. Im Fokus stehen vorgehängte hinterlüftete Fassaden aus Aluminium\, ihre konstruktiven Möglichkeiten sowie ihr Beitrag zur dauerhaften Erhaltung und behutsamen Weiterentwicklung bestehender Gebäude. Anhand objektbezogener Lösungen wird erläutert\, wie sich vorhandene Bausubstanz respektvoll weiterbauen und funktional wie gestalterisch neu interpretieren lässt. Die Sanierung von Bestandsfassaden verlangt heute mehr als eine neue Oberfläche – gesucht ist eine zeitgemäße Gebäudehülle\, die Technik\, Ästhetik und Langlebigkeit vereint. Die vorgehängte hinterlüftete Fassade (VHF) aus Keramik bietet dafür eine überzeugende Lösung. Im Rahmen des Symposiums “ zeigt der Vortrag von Leipfinger-Bader zur VHF-Keramikfassade\, wie architektonische Qualität und technische Leistungsfähigkeit im Bestand zusammenfinden. \n\nWeitere Informationen finden Sie unter: https://www.wirliebenbau.de/planer-symposium-huelle-erneuern-werte-erhalten-planung-und-ausfuehrung-im-bestand/ \n\nDiese Veranstaltung wird mit 3 Weiterbildungsstunden anerkannt.\n\n\n\n\n\n\n\n\n[/vc_column_text][/vc_column][/vc_row]
URL:https://ikth.de/startseite/event/huelle-erneuern-werte-erhalten-planung-und-ausfuehrung-im-bestand/
LOCATION:Online
CATEGORIES:Bautechnik,Bauwesen,Online-Veranstaltung,Sanierung
END:VEVENT
BEGIN:VEVENT
DTSTART;TZID=Europe/Berlin:20260330T140000
DTEND;TZID=Europe/Berlin:20260330T153000
DTSTAMP:20260421T032047
CREATED:20260320T083800Z
LAST-MODIFIED:20260320T083800Z
UID:14630-1774879200-1774884600@ikth.de
SUMMARY:Nah- und Fernwärmesysteme – Der Schlüssel zur Energiewende
DESCRIPTION:[vc_row][vc_column][vc_column_text css=““] \n\n\nAuf folgende Inhalte kannst Du Dich freuen:\n\n\n\n\nErfahre mehr über Nah- und Fernwärmesysteme – Sei bei unserer Fortbildung dabei! \nIn dieser Fortbildung von BRUGG erhältst Du umfassende Einblicke in die Welt der Nah- und Fernwärmesysteme. Erfahre\, wie moderne Wärmenetze aufgebaut sind\, welche Wärmequellen genutzt werden und wie die effiziente Verteilung und Übergabe von Wärme funktioniert. Es wird Dir wertvolles Wissen über vorisolierte PEX-Systeme\, ihre Vorteile und die entscheidende Rolle einer optimierten Wärmeübergabe vermittelt. Lerne\, wie flexible Rohrlösungen zur Effizienzsteigerung beitragen und welche Technologien die nachhaltige Wärmeversorgung voranbringen. Nutze diese Chance\, Dein Fachwissen zu erweitern und werde Profi für innovative Wärmetechnologien! \n\nWeitere Informationen finden Sie unter: https://www.wirliebenbau.de/online-veranstaltung-nah-und-fernwaermesysteme-der-schluessel-zur-energiewende/ \nDiese Veranstaltung wird mit 2 Weiterbildungsstunden anerkannt.\n\n[/vc_column_text][/vc_column][/vc_row]
URL:https://ikth.de/startseite/event/nah-und-fernwaermesysteme-der-schluessel-zur-energiewende-2/
LOCATION:Online
CATEGORIES:Energieberatung,Online-Veranstaltung,Versorgungstechnik
END:VEVENT
BEGIN:VEVENT
DTSTART;TZID=Europe/Berlin:20260331T090000
DTEND;TZID=Europe/Berlin:20260331T163000
DTSTAMP:20260421T032047
CREATED:20260303T101608Z
LAST-MODIFIED:20260303T101608Z
UID:11395-1774947600-1774974600@ikth.de
SUMMARY:MC-Planertag - Parkhaus
DESCRIPTION:[vc_row][vc_column][vc_column_text css=““]Das Programm für den MC-Planertag Infrastruktur finden Sie unter: \nPlaner_Programm_Parkhaus\n \nsowie die \nAnmeldung unter: \nhttps://www.mc-bauchemie.de/veranstaltungen-sc-berlin/anmeldung.html \nDiese Veranstaltung wird mit 6 Weiterbildungsstunden anerkannt.\n[/vc_column_text][/vc_column][/vc_row]
URL:https://ikth.de/startseite/event/mc-planertag-parkhaus/
LOCATION:MC-Bauchemie\, Ausbildungszentrum\, Müllerstraße 7\, Bottrop\, 46242
END:VEVENT
BEGIN:VEVENT
DTSTART;TZID=Europe/Berlin:20260331T100000
DTEND;TZID=Europe/Berlin:20260331T121500
DTSTAMP:20260421T032047
CREATED:20260320T084245Z
LAST-MODIFIED:20260320T084245Z
UID:14634-1774951200-1774959300@ikth.de
SUMMARY:Industriebau effizient geplant: Planung und Ausführung
DESCRIPTION:[vc_row][vc_column][vc_column_text css=““] \n\n\nAuf folgende Inhalte kannst Du Dich freuen:\n\n\n\n\nWerde Experte für effizienten Industriebau – Sei bei unserer Fortbildung dabei! \nIn der Fortbildung von Hörmannlernst Du\, wie Industrietore und Türen für Industrie- und Logistikbauten normgerecht geplant werden. Erfahre\, welche europäischen Normen und CE-Kennzeichnungen relevant sind und welche Anforderungen moderne Industrietorsysteme erfüllen müssen. Zudem erhältst Du praxisnahe Hinweise\, die Dich bei der sicheren Umsetzung im Planungsalltag unterstützen. Gleichzeitig zeigt Dir Swegon\, welches Potenzial in der energetischen Sanierung industrieller Lagergebäude steckt. Erfahre\, wie durch die Modernisierung von HLK-Systemen Energie eingespart\, Betriebskosten gesenkt und CO₂-Emissionen reduziert werden können. Zudem bekommst Du Einblicke in skalierbare Heiz- und Kühlsysteme sowie wirtschaftliche Lösungen mit oftmals kurzer Amortisationszeit. Erfahre in der Fortbildung von ESTA\, wie Hallenluft effizient genutzt und gleichzeitig Energie eingespart werden kann. Du lernst die Abgrenzung von PLT- und RLT-Anlagen kennen und erhältst einen Überblick über die Anforderungen der TRGS 528. Zudem bekommst Du praxisnahe Einblicke in die Auslegung prozesslufttechnischer Anlagen mit Wärmerückgewinnung – von den Planungsgrundlagen bis zur Umsetzung. \nWeitere Informationen finden Sie unter: \nhttps://www.wirliebenbau.de/planer-symposium-industriebau-effizient-geplant-planung-und-ausfuehrung/ \n\nDiese Veranstaltung wird mit 3 Weiterbildungsstunden anerkannt.\n\n[/vc_column_text][/vc_column][/vc_row]
URL:https://ikth.de/startseite/event/industriebau-effizient-geplant-planung-und-ausfuehrung/
LOCATION:Online
CATEGORIES:Bauwesen,Online-Veranstaltung,Sanierung
END:VEVENT
BEGIN:VEVENT
DTSTART;TZID=Europe/Berlin:20260401T100000
DTEND;TZID=Europe/Berlin:20260401T113000
DTSTAMP:20260421T032047
CREATED:20260320T084835Z
LAST-MODIFIED:20260320T084835Z
UID:14641-1775037600-1775043000@ikth.de
SUMMARY:Technische Regel Flüssiggas 2021
DESCRIPTION:[vc_row][vc_column][vc_column_text css=““] \n\n\nAuf folgende Inhalte kannst Du Dich freuen:\n\n\n\n\nWerde Profi für Flüssiggas – Sei bei unserer Fortbildung dabei!  \nIn der Fortbildung „Technische Regel Flüssiggas 2021 – Alles\, was du über Flüssiggas wissen musst“ von SCHARR erhältst Du umfassendes Fachwissen und praktische Einblicke in die Anwendung und Vorschriften rund um Flüssiggas. Diese Fortbildung richtet sich an Fachleute\, die sich intensiv mit Flüssiggas auseinandersetzen möchten\, sei es für die Planung\, Installation oder Nutzung von Flüssiggasanlagen. Zu Beginn der Fortbildung wirst Du mit den gesetzlichen Grundlagen und Rechtsvorschriften vertraut gemacht\, die für Flüssiggas von Bedeutung sind. Du erfährst\, welche Eigenschaften Flüssiggas hat und warum es als Alternative in der Energieversorgung zunehmend an Bedeutung gewinnt. Ein zentraler Bestandteil der Fortbildung ist die detaillierte Untersuchung der Komponenten von Flüssiggas-Anlagen. Hierbei werden die verschiedenen Elemente wie Flüssiggas-Lagerbehälter und deren Entnahmeleistungen erläutert\, ebenso wie die notwendigen Aufstellungsbedingungen für eine sichere und effektive Nutzung. Besonderes Augenmerk wird auf die zukunftsweisenden Aspekte des Flüssiggases gelegt. Du lernst über neue Heiztechniken und innovative Systeme wie die SUNFIRE Flüssiggas-Brennstoffzelle kennen. Außerdem erfährst Du alles über Bio-LPG\, das biogene Flüssiggas\, und seine Vorteile für eine nachhaltige Energiezukunft. Nutze diese Gelegenheit\, um Dein Wissen über Flüssiggas auf den neuesten Stand zu bringen und Deine Fachkenntnisse zu erweitern. Melde Dich jetzt zur Fortbildung an und sei bestens gerüstet für die Herausforderungen der modernen Energieversorgung. \n\nWeitere Informationen finden Sie unter: https://www.wirliebenbau.de/online-veranstaltung-technische-regel-fluessiggas-2021/ \nDiese Veranstaltung wird mit 2 Weiterbildungsstunden anerkannt.\n\n[/vc_column_text][/vc_column][/vc_row]
URL:https://ikth.de/startseite/event/technische-regel-fluessiggas-2021-3/
LOCATION:Online
CATEGORIES:Bauwesen,Online-Veranstaltung,Versorgungstechnik
END:VEVENT
BEGIN:VEVENT
DTSTART;TZID=Europe/Berlin:20260401T100000
DTEND;TZID=Europe/Berlin:20260401T130000
DTSTAMP:20260421T032047
CREATED:20260320T085406Z
LAST-MODIFIED:20260320T085406Z
UID:14647-1775037600-1775048400@ikth.de
SUMMARY:Nachhaltig Bauen neu definiert: Materialien\, Energie und Zirkularität im Fokus
DESCRIPTION:[vc_row][vc_column][vc_column_text css=““] \n\n\nAuf folgende Inhalte kannst Du Dich freuen:\n\n\n\n\nWerde Profi für nachhaltiges Bauen – Sei bei unserer Fortbildung dabei! \nIm Laufe der Fortbildung: \n\n\n\nTROX SE  \n\nDas 9R-System der Kreislaufwirtschaft adaptiert auf die TGA / Raumlufttechnik\nMöglichkeiten und Grenzen der Kreislaufwirtschaft im Bereich der raumlufttechnischen Produkte\nErste Schritte zur praktischen Umsetzung zirkulärer Ansätze\nÖkobilanzen\nEPD\n\n\n\nHolcim (Deutschland) GmbH \n\n\n\nStatus QUO | R-Beton\n\nDeutschland\nMonitoringbericht / Kreislaufwirtschaft\n\n\nR-Beton\n\nVoraussetzungen\nNormen\, Richtlinien\,\nZertifizierungen\nEinsatzmöglichkeiten\nReferenzen\n\n\n\nFranken Maxit Mauermörtel GmbH & Co.  \n\nLCA für ein EFH mit und ohne CO2 reduzierte Produkte für QNG\nBerechnung CO2 Bilanz über  GWP A1 bis A3\nAllgemeine QNG-Anforderungen an Produkte\nAusgewählte Beispielbetrachtungen für Stoffanwendungen mit geringer CO2 bzw. als CO2-Speicher\n\nwedi GmbH \n\nZirkuläre Fliesenverlegung & Bauchemie:\nKreislauffähiges Bauen (Prinzipien und Nutzen) sowie innovative\, recyclinggerechte Verlegesysteme (Anwendung und Mehrwert)\nCO₂-reduzierte Baustoffe:\nÜberblick zu Reduktionsansätzen und deren Auswirkungen sowie praxisnahe Anwendungsbeispiele\nCO₂-reduziertes Bauen:\nVergleich von Baustoffbilanzen (Bauteile und Gebäude) sowie Umweltproduktdeklarationen (lesen\, verstehen\, anwenden)\nGanzheitliche Produktnachhaltigkeit:\nKriterien für eine nachhaltige Produktauswahl sowie Bewertungslogiken und systematische Einordnung von Nachhaltigkeitsaspekten\n\nWeitere Informationen finden Sie unter: \nhttps://www.wirliebenbau.de/planer-symposium-nachhaltig-bauen-neu-definiert-materialien-energie-und-zirkularitaet-im-fokus/ \nDiese Veranstaltung wird mit 4 Weiterbildungsstunden anerkannt.\n\n\n\n\n\n\n\n\n\n\n\n[/vc_column_text][/vc_column][/vc_row]
URL:https://ikth.de/startseite/event/nachhaltig-bauen-neu-definiert-materialien-energie-und-zirkularitaet-im-fokus/
LOCATION:Online
CATEGORIES:Bautechnik,Bauwesen,Online-Veranstaltung
END:VEVENT
BEGIN:VEVENT
DTSTART;TZID=Europe/Berlin:20260402T100000
DTEND;TZID=Europe/Berlin:20260402T121500
DTSTAMP:20260421T032047
CREATED:20260320T090337Z
LAST-MODIFIED:20260320T090337Z
UID:14653-1775124000-1775132100@ikth.de
SUMMARY:Dachlandschaften gestalten: Form\, Funktion und Technik im Einklang
DESCRIPTION:[vc_row][vc_column][vc_column_text css=““] \nMach Dich fit im Thema Dachlandschaften gestalten – mit zukunftsweisenden Lösungen aus unserer Fortbildung. Mit BEMO tauchst Du kompakt in die Welt des industriellen Stehfalzdachs ein. Du lernst die Systeme und ihre Funktionsweise kennen\, erfährst\, welche technischen Anforderungen gelten und wo Machbarkeiten liegen. Ein besonderer Fokus liegt auf anspruchsvollen Dachformen: Anhand konkreter Showcases siehst Du\, wie Form\, Funktion und Technik auch bei komplexen Geometrien sicher und präzise umgesetzt werden. FOAMGLAS vermittelt Dir die zentralen Anforderungen an Planung und Ausführung langlebiger Dachkonstruktionen. Du erhältst einen Überblick über Flachdachkonstruktionen und das System Metalldach mit Stehfalz\, lernst die Vor- und Nachteile unterschiedlicher Wärmedämmungen kennen und bekommst Entscheidungshilfen für die Praxis. Ergänzt wird dies durch Einblicke in den Lebenszyklus des Kompaktdachs sowie Referenzen aus realisierten Projekten. Mit VELUX steht die Nutzung von Räumen unter dem geneigten Dach im Fokus. Du erfährst\, wie eine normgerechte Tageslichtversorgung nach DIN EN 17037 geplant wird\, welche bauphysikalischen Anforderungen an Raumklima\, Lüftung und Sonnenschutz bestehen und wie fachgerechte Anschlüsse mit Systemkomponenten umgesetzt werden. Praxisnahe Projektbeispiele zur Wohnraumerweiterung runden die Fortbildung ab. \nWeitere Informationen finden Sie unter: https://www.wirliebenbau.de/planer-symposium-dachlandschaften-gestalten-form-funktion-und-technik-im-einklang/ \nDiese Veranstaltung wird mit 3 Weiterbildungsstunden anerkannt.\n[/vc_column_text][/vc_column][/vc_row]
URL:https://ikth.de/startseite/event/dachlandschaften-gestalten-form-funktion-und-technik-im-einklang/
LOCATION:Online
CATEGORIES:Bautechnik,Nachhaltigkeit,Online-Veranstaltung
END:VEVENT
END:VCALENDAR