BEGIN:VCALENDAR
VERSION:2.0
PRODID:-//Ingenieurkammer Thüringen - ECPv5.8.0//NONSGML v1.0//EN
CALSCALE:GREGORIAN
METHOD:PUBLISH
X-WR-CALNAME:Ingenieurkammer Thüringen
X-ORIGINAL-URL:https://ikth.de/startseite
X-WR-CALDESC:Events for Ingenieurkammer Thüringen
BEGIN:VTIMEZONE
TZID:Europe/Berlin
BEGIN:DAYLIGHT
TZOFFSETFROM:+0100
TZOFFSETTO:+0200
TZNAME:CEST
DTSTART:20250330T010000
END:DAYLIGHT
BEGIN:STANDARD
TZOFFSETFROM:+0200
TZOFFSETTO:+0100
TZNAME:CET
DTSTART:20251026T010000
END:STANDARD
END:VTIMEZONE
BEGIN:VEVENT
DTSTART;TZID=Europe/Berlin:20250630T100000
DTEND;TZID=Europe/Berlin:20250630T121500
DTSTAMP:20260421T141335
CREATED:20250210T090256Z
LAST-MODIFIED:20250210T090256Z
UID:8042-1751277600-1751285700@ikth.de
SUMMARY:"Urbane Lebensräume gestalten: Vom Flachdach zum klimafreundlichen Nutzdach“
DESCRIPTION:Dauer\nInhalte\n\n\n10 Minuten\nBegrüßung und Vorstellung der ReferentInnen\n\n\nACO Passavant\n–      Grundlagen der Planung\n\n\nGmbH\n\n\n    Der Weg bis zur fertigen Planung ist oft steinig.\n    Beim Gang dieses Weges helfen Normen und Regelwerke\n\n\n\n\n40 Minuten\noft weiter.\n\n\n \n–       Welche Normen\, Regelwerke und technische Grundlagen spielen bei der Planung einer Flachdachentwässerung eine Rolle?\n\n\n \n–     Planung der Flachdachentwässerung \n\n    Bei der Planung der Dachentwässerung ist wichtigste\n\n\n\n\n \nPunkt die Berechnung der Regenwassermenge.\n\n\n \n·         Sie bestimmt die Anzahl\, die Dimension und Art der Abläufe. \n\n    Festlegung des Entwässerungssystems:\n\n\n\n\n \n·       Hier gibt es zwei verschiedene Arten\, die\n\n\n \nFreispiegelentwässerung und die\n\n\n \nUnterdruckentwässerung.\n\n\n \n–      Neben der Regelentwässerung hat ein Flachdach in den meisten\n\n\n \nFällen noch eine Notentwässerung\, die ebenfalls berechnet werden muss.\n\n\n \n–      Arten der Entwässerung\n\n\n5 Minuten\nBeantwortung der Fragen / Diskussion\n\n\nFleck GmbH\nDurchdringungen im Flachdach sicher planen\n\n\n40 Minuten\nKaltdach\n\n\n \n–      Besonderheiten eines Kaltdach\n\n\n \n–      Gebäudesanierung und Bedeutung für das Kaltdach\n\n\n \n–      Schadensminimierung bei Kaltdächern\n\n\n \n–      Nachträgliche Maßnahmen (z.B. Rücktrocknung)\n\n\n \nWarmdach\n\n\n \n–      konstruktiver Unterschied zum Kaltdach\n\n\n \n–      Planung vom Deckendurchbruch bis zur Abdichtung\n\n\n \n–      Möglichkeiten zur Vermeidung von Kondensat\n\n\n \n–      Wrasenlüfter\, Raumentlüfter\, Sanitärentlüfter\n\n\n \n–      Entlüftung von Aufzugschächten\n\n\n \nEnergie- und Gründach\n\n\n \n–      Was ändert sich bauphysikalisch\n\n\n \n–      Anforderungen an die Durchdringungen\n\n\n \n–      Lösungsansätze und Ausführungsdetails\n\n\n \n–      Sicherheitszubehör\n\n\n\n  \n\n\n\n5 Minuten\nBeantwortung der Fragen ! Diskussion\n\n\nVELUX \nDeutschland\nGmbH \n40 Minuten\nLichtlösungen im Flachdach – für alle Gebäudetypen \nDIN EN 17037 „Tageslicht in Innenräumen“ \n–     Grundlagen und Empfehlungsstufen \n–     Besonderheit: horizontale Öffnungen \nFunktionen von Fenstern\, technische Eigenschaften \n–     Belichtung\, Blendschutz\, Hitzeschutz \n–     Lüftung \n–     Entrauchung \nAnschluss-Details \n–     Flachdach-Fenster \n–     Lichtkuppeln\n\n\n5 Minuten\nBeantwortung der Fragen ! Diskussion\n\n\n10 Minuten\nOffene Fragen\, Abschlussdiskussion und Abmoderation\n\n\n\n  \n\n\n\nReferentInnen:\nMathias Johr | ACO Passavant GmbH \n–     Technischer Referent ACO Passavant GmbH\, seit Jan 2016 \n–     Techniker in der Anwendungstechnik !ACO Passavant GmbH\, Okt 2008-2015 \n–     Fa. Energy Messtechnik\, Gebesee – freier Mitarbeiter\, 2007-2008 \n–     Fa. Klum GmbH\, Bad Camberg! Taunus – freier Mitarbeiter \n\n    Planung\, Umsetzung der Ausführungsplanung\, Kalkulation\, Disposition für Projekt Herzzentrum Köln! Projektleitung Wohnbebauung Westhafen\, 2006-2007\n\n–     Selbstständigkeit\, 2004- 2006 \n–     Dumas Verfahrenstechnik GmbH \n\n    Projektleiter\, Konstrukteur Lüftung\, Bauüberwachung vor Ort\, 2003- 2004\n\n–     Fa. Klum GmbH\, Bad Camberg! Taunus \n\n      Projektant! Zeichner HLK-Technik\, 2002- 2003\n\n–     Technik -und Planungsabteilung der Firma Fa. Klum GmbH\, Erfurt! Thüringen \n\n      Tätigkeit: als Techniker HLK-Technik\, 2000- 2002\n\n\n\n\n\n\n\n\n \nPeter Nowack | Fleck GmbH\n\n\n \n–     Senior-Produktmanager FLECK GmbH\n\n\n \n–     Studium: Ozeanographie und Physik (Diplom)\n\n\n \n–     1994-1995: EGO Entwicklungsgesellschaft für Optoelektronik (R&D)\n\n\n \n–     1995-2016: ROCKWOOL International (Hochbau & OEM)\n\n\n \n–     2017-2019: PETRALANA & Carbo-Koks PL (Export)\n\n\n \n–     2020-heute: FLECK GmbH\n\n\n \nKatja Honisch | VELUX Deutschland GmbH\n\n\n \n–     2000 Diplom an der Universität Rostock\n\n\n \n–     seit 2000 Anstellung VELUX Deutschland GmbH – \n\n    Service für Architekten und Planer\n    Konzeptionierung und Durchführung von akkreditierten\n    Fortbildungsveranstaltungen sowie Fachvorträge im Bereich\n\n\n\n\n \nTageslichtplanung\n\n\nModeration\nShawn Kennedy\n\n\n \n–     Moderation und Koordination Webinare bei WirliebenBau\n\n\n\n  \n\n\n\nDauer:\n135 Minuten \nEs handelt sich um eine theoretische und praxisorientierte \nWissensvermittlung. \nErgebnissicherung durch Abschlussdiskussion.\n\n\n\n  \nSie finden den Link für diese Veranstaltung hier.
URL:https://ikth.de/startseite/event/urbane-lebensraeume-gestalten-vom-flachdach-zum-klimafreundlichen-nutzdach/2025-06-30/
CATEGORIES:Bauwesen,Klima,Online-Veranstaltung,Sanierung,Webinar
END:VEVENT
BEGIN:VEVENT
DTSTART;TZID=Europe/Berlin:20250701T091500
DTEND;TZID=Europe/Berlin:20250701T161000
DTSTAMP:20260421T141335
CREATED:20250401T105418Z
LAST-MODIFIED:20250401T105418Z
UID:8519-1751361300-1751386200@ikth.de
SUMMARY:Zukunftssicher Bauen: Brandschutzlösungen für den mehrgeschossigen Holzbau
DESCRIPTION:Programm:\n09.15 Uhr\nBegrüßung\, Vorstellung\, Tagesablauf \n  \n09.30 Uhr\nGrundlagen | Holzbau\, Brandschutz\, Bauordnungsrecht\, Forschungsvorhaben TIMpuls \nProf. Dr.-Ing. Jochen Zehfuß\, TU Braunschweig\, Institut für Baustoffe\, Massivbau und Brandschutz \nProf. Dr.-Ing. Björn Kampmeier\, Hochschule Magdeburg-Stendal\, Fachbereich Wasser\, Umwelt\, Bau und Sicherheit \n  \n10.55 Uhr \nKaffeepause \n  \n11.15 Uhr\nBrandschutztechnische Nachweisführung im Holzbau \nUniv. Prof. Dr.-Ing. Stefan Winter\, TU München\, Lehrstuhl für Holzbau und \nBaukonstruktion \n  \n12.45 Uhr\n Mittagspause \n  \n13.30 Uhr\nEinfluss sichtbarer Holzoberflächen und deren Auswirkung auf die Fassade Prof. Dr.-Ing. Jochen Zehfuß\, TU Braunschweig\, Institut für Baustoffe\, Massivbau und Brandschutz \n  \n14.15 Uhr\nBauteilanschlüsse und Fügungen aus brandschutztechnischer Sicht \nProf. Dr.-Ing. Björn Kampmeier\, Hochschule Magdeburg-Stendal\, Fachbereich \nWasser\, Umwelt\, Bau und Sicherheit \n  \n15.00 Uhr\nKaffeepause \n  \n15.20 Uhr\nSonderbauten in Holzbauweise und Hinweise zum abwehrenden Brandschutz Univ. Prof. Dr.-Ing. Stefan Winter\, TU München\, Lehrstuhl für Holzbau und Baukonstruktion \nProf. Dr.-Ing. Jochen Zehfuß\, TU Braunschweig\, Institut für Baustoffe\, Massivbau und Brandschutz \n  \n16.10 Uhr\nFragen & Ende Vortragstag \n  \nTermine/Tagungsorte:\n02.04.2025           Hamburg \n30.04.2025           Köln \n09.05.2025           Berlin \n01.07.2025           München \n  \nWeitere Informationen zu dieser Veranstaltung sowie die Anmeldung finden Sie hier. \nDiese Veranstaltung wird von der Ingenieurkammer Thüringen mit 6 WB – Stunden anerkannt.
URL:https://ikth.de/startseite/event/zukunftssicher-bauen-brandschutzloesungen-fuer-den-mehrgeschossigen-holzbau/2025-07-01/
CATEGORIES:Bauwesen,Brandschutz,DIN,Holzbau,Nachhaltigkeit,Tagung
END:VEVENT
BEGIN:VEVENT
DTSTART;TZID=Europe/Berlin:20250701T091500
DTEND;TZID=Europe/Berlin:20250701T164500
DTSTAMP:20260421T141335
CREATED:20250211T095830Z
LAST-MODIFIED:20250211T095830Z
UID:8148-1751361300-1751388300@ikth.de
SUMMARY:„Philosophische Aspekte zum Planen und Bauen – ethisch planen und bauen!?
DESCRIPTION:09:15 Uhr                            Öffnung des Portal WebEx\, Login der Teilnehmer\n09:30 – 11:00 Uhr                I. Grundlegendes zur Philosophie\n\nWozu Philosophie?\n\nBegriffe\, Definitionen und Bedeutung\nWas soll/kann Philosophie als Wissenschaft leisten?\nDie formalen Grundlagen der Philosophie\nDie materiellen Grundlagen der Philosophie\n\n\nEthik und Moral\n\nEthik und Moral – eine Abgrenzung\nEhtikkonzeptionen Europas\nTugendethik\nPflichtenethik\nUtilitarismus\nWeitere Formen\nZusammenstellung weiterer Ethikkonzeptionen\n\n\n\n11:00 – 11:15 Uhr                 Kaffeepause\n11:15 – 12:45 Uhr                 II. Philosophie in der (Bau-) Technik\n\n(Philosophisch) richtig argumentieren\n\nAussagen- und Prädikatenlogik 1. Ordnung\nEinfache Beispiele\n\n\nWas ist „Technik“ im Rahmen philosophischer Betrachtungen?\nWas könnten „gute“ Eigenschaften von „Technik“ sein?\nWie könnte/sollte eine Ethik der Technik ausgestaltet sein?\n\n  \n12:45 – 13:30 Uhr                 Mittagspause\n13:30 – 15:00 Uhr                 III. Ethisch planen und bauen!\n\nWas ist „planen“?\n\nPlanen als Tätigkeit\nPlanen als Interaktion zwischen Menschen\nPlanen als Zukunftsentwurf\nKonsequenzen der Planung\nPlanen als …\n\n\nWas ist „bauen“?\n\nBauen als Tätigkeit\nBauen als Eingriff in die Natur\nBauen als Schaffung von Artefakten\nBauen als Interaktion zwischen Menschen\nBauen als Transformationsprozess\n\n\nBauen als …\n\nDiskussion der Wahl einer Ethikkonzeption\nWelchen Eigenschaften sollte eine Ethikkonzeption genügen?\nAbwägen der Vor- und Nachteile\nBeste Begründung\nAuswahl einer Ethikkonzeption\n\n\n\n15:00 – 15:15 Uhr                         Kaffeepause\n15:15 – 16:45 Uhr                         IV. Ethisch planen und bauen?\n\nÜberprüfung der ausgewählten Ethikkonzeption\n\nFormale Widerspruchsfreiheit\nMaterielle Widerspruchsfreiheit\nBewährung in der Praxis\n\n\nWeiterführende Fragestellungen\n\nWas heißt eigentlich nachhaltiges planen und bauen?\nWas ist Nachhaltigkeit?\nWie kann Nachhaltigkeit qualitativ und quantitativ nachgewiesen werden?\nWas heißt wirtschaftliche Planung?\n\n\nWie ist Wirtschaftlichkeit definiert?\nWie ist Planung definiert?\n\nWie kann Wirtschaftlichkeit der Planung qualitativ und quantitativ nachgewiesen werden?\nWas soll ist tun?\nFair (Ver-)Handeln\nDiskussion\n\n\n\nReferent: Prof. Dr.-Ing. Dr. rer. pol. Thomas Wedemeier\nProf. Wedemeier – Beratende Ingenieure | www.wedemeier-online.de \nDiese Veranstaltung wird von der Ingenieurkammer Thüringen mit 8 WB – Stunden anerkannt. \nDiese sowie weitere Veranstaltungen von IBS finden Sie hier.
URL:https://ikth.de/startseite/event/philosophische-aspekte-zum-planen-und-bauen-ethisch-planen-und-bauen/
CATEGORIES:Bauwesen,Nachhaltigkeit,Online-Veranstaltung,Sonstiges
END:VEVENT
BEGIN:VEVENT
DTSTART;TZID=Europe/Berlin:20250701T100000
DTEND;TZID=Europe/Berlin:20250701T130000
DTSTAMP:20260421T141335
CREATED:20250210T103732Z
LAST-MODIFIED:20250210T103732Z
UID:8068-1751364000-1751374800@ikth.de
SUMMARY:"Brandschutz im Zoom: Konfliktfelder in der Brandschutzplanung im Bestand“
DESCRIPTION:Dauer\n\n\nInhalte\n\n\n\n10 Minuten\nBegrüßung und Vorstellung\n\n\nASSA ABLOY\n–    Eigenschaften von Feuerschutz!Rauchschutz-Abschnitt\n\n\nSicherheitstechnik GmbH\n–    Brandschutz nach DIN 4102 und DIN 18095\n\n\n \n–    Zulässige Veränderungen an bestehenden Feuerschutz-\n\n\n40 Minuten\nAbschnitten\n\n\n \n–    Vorhandene Tür – erweiterte Anforderungen der Sicherheit\n\n\n5 Minuten\nBeantwortung der Fragen ! Diskussion\n\n\nFRANKEN\n–    Aktuelle Baurechtliche Anforderungen zum Brandschutz auf\n\n\nSYSTEMS GmbH\nFlachdächern & Erläuterung Problematik der Nachrüstung von PV-\n\n\n40 Minuten\nAnlagen in Deutschland\n\n\n \n–     Sicherheitskonzept & Brandschutzbeschichtung\n\n\n \n–     Empfohlene Prüfverfahren & Sicherheitshinweise\n\n\n \n–     Unterstützung in Sanierungsvorhaben\n\n\n5 Minuten\nBeantwortung der Fragen ! Diskussion\n\n\nneuform-\n–    Grundlagen zur Brandschutzplanung im Bestand\n\n\nTürenwerk\n–    Brandschutz ! Rauchschutz & Regelwerke\n\n\nHans Glock\n–    Elementarten – Drehtür\, Schiebetür\, Verglasung\n\n\nGmbH & Co. KG\n–    Türausführungen – Überblick Komponenten\n\n\n40 Minuten\n–     Konfliktfelder bei der Brandschutzplanung im Bestand \n–    Bezug Türfunktionen\n\n\n \n–       Gebäude-Umnutzung\n\n\n \n–       Universal Design\n\n\n \n–         Energieeffizienz\n\n\n \n–       … \n–    Bezug Komponenten\n\n\n \n–         Wände & Bauteilanschlüsse\n\n\n \n–         Zulässige Änderungen\n\n\n \n–         Zargen für Bauen im Bestand\n\n\n \n–       … \n–    Bezug Beteiligte\n\n\n \n–         Einbau ! Montage\n\n\n \n–         Vereinbarkeit Planung ! Bauleitung\n\n\n\n\n\n\n5 Minuten\nBeantwortung der Fragen / Diskussion\n\n\nTROX GmbH\n40 Minuten\nThema der Fortbildung: \n–    Sanierung der Druckbelüftungsanlagen in einem 20 Jahre alten Hochhaus-Komplex in Hamburg \nHerausforderungen der Planung: \n–    Druckbelüftungsanlagen in Hochhäusern sind komplexe Planungsaufgaben \n–    Berechnungen unterscheiden sich von üblichen Auslegungen in der TGA \n–    Integration in ein 20 Jahre altes Bestandsgebäude gemäß aktuellen Vorschriften \nProjektbeschreibung: \n–    Fertigstellung und Abnahme im ersten Quartal 2025 \n–    Gebäudekomplex: \n–    4 Bauteile (2.UG bis 7.OG) \n–    2 Bauteile (2.UG bis 22.OG) \n–    12 Sicherheitstreppenräume \n–    23 Abluftschächte\n\n\n5 Minuten\nBeantwortung der Fragen / Diskussion\n\n\n5 Minuten\nVerabschiedung und Abmoderation\n\n\n\n\n\n\nDauer\n180 Minuten \nEs handelt sich um eine theoretische und praxisorientierte \nWissensvermittlung. \nErgebnissicherung durch Abschlussdiskussion.\n\n\n\nDen Link zu dieser Veranstaltung finde Sie hier.
URL:https://ikth.de/startseite/event/brandschutz-im-zoom-konfliktfelder-in-der-brandschutzplanung-im-bestand/2025-07-01/
CATEGORIES:Bauwesen,Brandschutz,Online-Veranstaltung,Webinar
END:VEVENT
BEGIN:VEVENT
DTSTART;TZID=Europe/Berlin:20250701T100000
DTEND;TZID=Europe/Berlin:20250701T130000
DTSTAMP:20260421T141335
CREATED:20250407T065903Z
LAST-MODIFIED:20250407T065903Z
UID:8634-1751364000-1751374800@ikth.de
SUMMARY:Konfliktfelder in der Brandschutzplanung
DESCRIPTION:Dauer\nInhalte\n\n\n10 Minuten\nBegrüßung und Vorstellung\n\n\nASSA ABLOY\n–       Eigenschaften von Feuerschutz!Rauchschutz-Abschnitt\n\n\nSicherheitstechnik GmbH\n–       Brandschutz nach DIN 4102 und DIN 18095\n\n\n \n–       Zulässige Veränderungen an bestehenden Feuerschutz-\n\n\n40 Minuten\nAbschnitten\n\n\n \n–       Vorhandene Tür – erweiterte Anforderungen der Sicherheit\n\n\n5 Minuten\nBeantwortung der Fragen ! Diskussion\n\n\nFRANKEN\n–       Aktuelle Baurechtliche Anforderungen zum Brandschutz auf\n\n\nSYSTEMS GmbH\nFlachdächern & Erläuterung Problematik der Nachrüstung von PV-\n\n\n40 Minuten\nAnlagen in Deutschland\n\n\n \n–         Sicherheitskonzept & Brandschutzbeschichtung\n\n\n \n–         Empfohlene Prüfverfahren & Sicherheitshinweise\n\n\n \n–         Unterstützung in Sanierungsvorhaben\n\n\n5 Minuten\nBeantwortung der Fragen ! Diskussion\n\n\nneuform-\n–       Grundlagen zur Brandschutzplanung im Bestand\n\n\nTürenwerk\n–    Brandschutz ! Rauchschutz & Regelwerke\n\n\nHans Glock\n–    Elementarten – Drehtür\, Schiebetür\, Verglasung\n\n\nGmbH & Co. KG\n–    Türausführungen – Überblick Komponenten\n\n\n40 Minuten\n–        Konfliktfelder bei der Brandschutzplanung im Bestand \n–    Bezug Türfunktionen\n\n\n \n–       Gebäude-Umnutzung\n\n\n \n–       Universal Design\n\n\n \n–         Energieeffizienz\n\n\n \n–       … \n–    Bezug Komponenten\n\n\n \n–         Wände & Bauteilanschlüsse\n\n\n \n–         Zulässige Änderungen\n\n\n \n–         Zargen für Bauen im Bestand\n\n\n \n–       … \n–    Bezug Beteiligte\n\n\n \n–         Einbau ! Montage\n\n\n \n–         Vereinbarkeit Planung ! Bauleitung\n\n\n\n\n\n\n5 Minuten\nBeantwortung der Fragen / Diskussion\n\n\nTROX GmbH\n40 Minuten\nThema der Fortbildung: \n–     Sanierung der Druckbelüftungsanlagen in einem 20 Jahre alten Hochhaus-Komplex in Hamburg \nHerausforderungen der Planung: \n–     Druckbelüftungsanlagen in Hochhäusern sind komplexe Planungsaufgaben \n–     Berechnungen unterscheiden sich von üblichen Auslegungen in der TGA \n–     Integration in ein 20 Jahre altes Bestandsgebäude gemäß aktuellen Vorschriften \nProjektbeschreibung: \n–     Fertigstellung und Abnahme im ersten Quartal 2025 \n–     Gebäudekomplex: \n–    4 Bauteile (2.UG bis 7.OG) \n–    2 Bauteile (2.UG bis 22.OG) \n–     12 Sicherheitstreppenräume \n–     23 Abluftschächte\n\n\n5 Minuten\nBeantwortung der Fragen / Diskussion\n\n\n5 Minuten\nVerabschiedung und Abmoderation\n\n\n\n  \n  \nWeitere Informationen sowie die Anmeldung finden Sie hier. \nDiese Veranstaltung wird von der Ingenieurkammer mit 4 WB – Stunden anerkannt.
URL:https://ikth.de/startseite/event/konfliktfelder-in-der-brandschutzplanung/2025-07-01/
CATEGORIES:Bauwesen,Brandschutz,Online-Veranstaltung,Sanierung,Webinar
END:VEVENT
BEGIN:VEVENT
DTSTART;TZID=Europe/Berlin:20250701T140000
DTEND;TZID=Europe/Berlin:20250701T160000
DTSTAMP:20260421T141335
CREATED:20250114T075717Z
LAST-MODIFIED:20250114T081502Z
UID:7835-1751378400-1751385600@ikth.de
SUMMARY:Abnahme\, Abrechnung\, Rechnungsprüfung Modul 1 von 3
DESCRIPTION:I: Grundlagen\, Voraussetzungen und Formen der Bauabnahme\n\n Welche Rechtsfolgen hat die Abnahme und wer nimmt ab?\nWas folgt aus dem Ende des Erfüllungsstadiums?\nWann beginnt die Gewährleistung?\nWelche Bedeutung hat die Umkehr der Beweislast?\nWas bedeutet Gefahrtragung?\nWann wird die Schlussrechnung fällig?\nWer erklärt die Abnahme der Bauleistung?\n\nII. Wann ist die Bauleistung abnahmereif?\n\nWann muss abgenommen werden?\nWann ist die Abnahme zu verweigern?\nWas ist ein wesentlicher Mangel?\nKann ein optischer Mangel wesentlich sein?\nWas ist\, wenn eine Fülle geringfügiger Mängel vorliegt\, die einzeln betrachtet nicht gravierend sind?\nWas ist\, wenn nur die Dokumentation fehlt?\n\nIII. Welche Formen der Abnahme sind möglich?\n\nWelche Besonderheiten bestehen bei der förmlichen Abnahme?\nMuss der Planer beim Abnahmetermin anwesend sein?\nWer führt das Abnahmeprotokoll?\nWas muss zwingend in das Abnahmeprotokoll aufgenommen werden?\nMuss der Auftragnehmer anwesend sein?\nWelche Bedeutung hat der Vertragsstrafenvorbehalt bei der Abnahme?\nWie und warum muss ein Mangelvorbehalt erklärt werden?\nWie findet eine fiktive Abnahme statt?\nWie kann eine fiktive Abnahme verhindert werden?\nWas ist Abnahme durch schlüssiges Verhalten?\nWann sind Teilabnahmen möglich?\n\n  \nDiese Veranstaltung wird von der Ingenieurkammer Thüringen mit 3 WB-Stunden anerkannt. \nAußerdem weisen wir auf die weiteren Module hin\, da dies nur der erste Teil ist\, diese finden sie hier.
URL:https://ikth.de/startseite/event/abnahme-abrechnung-rechnungspruefung-1-von-3/2025-07-01/
CATEGORIES:Honorare,Online-Veranstaltung,Seminar
END:VEVENT
BEGIN:VEVENT
DTSTART;TZID=Europe/Berlin:20250702T140000
DTEND;TZID=Europe/Berlin:20250702T160000
DTSTAMP:20260421T141335
CREATED:20250114T082532Z
LAST-MODIFIED:20250114T082532Z
UID:7844-1751464800-1751472000@ikth.de
SUMMARY:Abnahme\, Abrechnung\, Rechnungsprüfung Modul 2 von 3
DESCRIPTION:Grundlagen der Schluss- und Abschlagsrechnung; Prüffähigkeit und Richtigkeit der Rechnung\nI. Grundlagen und Besonderheiten der Schlussrechnung;\n\nWann wird die Schlussrechnung fällig?\nWas ist\, wenn der AN nicht schlussrechnet?\nWelche Rechte hat der AN\, wenn der AG nicht zahlt?\n\nII. Besonderheiten bei Abschlagszahlungen\n\nWann können Abschlagszahlungen nach VOB/B und BGB verlangt werden?\nWann sind Abschlagszahlungen fällig?\nWelche Rechte hat der AN\, wenn der AG nicht zahlt?\nLiegt in der Zahlung einer Abschlagsrechnung ein Anerkenntnis?\nKann eine Abschlagsrechnung noch nach Fertigstellung geltend gemacht werden?\n\nIII. Prüffähigkeit der Rechnung\n\nWann ist eine Rechnung prüffähig?\nIst ein Aufmaß für die Prüffähigkeit erforderlich?\nWie wirkt die Prüffähigkeit auf das Entstehen der Werklohnforderung?\nInnerhalb welcher Frist muss die fehlende Prüffähigkeit beanstandet werden?\nWie lange sind inhaltliche Einwendungen gegen die Schlussrechnung möglich?\nWann beginnt die Verjährung der Schlussrechnungsforderung?\nInnerhalb welcher Frist tritt Verjährung ein?\n\nIV. Richtigkeit der Rechnung\n\nWie wirken sich Mängel auf die Rechnungsprüfung aus?\nWie sind Nachlässe und Sicherheiten zu berücksichtigen?\nWann ist Skontoabzug zulässig?\nIst das gemeinsame Aufmaß Pflicht?\nWer trägt die Beweislast für die Richtigkeit der abgerechneten Mengen und Massen?\nWelche rechtliche Bedeutung hat das gemeinsame Aufmaß?\nWas ist zu tun\, wenn durch den laufenden Baufortschritt eine nachträgliche Aufmaßfeststellung nicht mehr möglich sind?\n\n  \nDiese Veranstaltung wird von der Ingenieurkammer Thüringen mit 3 WB-Stunden anerkannt. \nDa es weitere Module zu diesem Thema gibt\, verweisen wir hier darauf.
URL:https://ikth.de/startseite/event/abnahme-abrechnung-rechnungspruefung-modul-2-von-3/2025-07-02/
CATEGORIES:Honorare,Online-Veranstaltung,Seminar
END:VEVENT
BEGIN:VEVENT
DTSTART;TZID=Europe/Berlin:20250703T100000
DTEND;TZID=Europe/Berlin:20250703T143000
DTSTAMP:20260421T141335
CREATED:20250616T093849Z
LAST-MODIFIED:20250616T093849Z
UID:8901-1751536800-1751553000@ikth.de
SUMMARY:KRITIS & ISO 27001 – Sicherheitsanforderungen in der Planung meistern
DESCRIPTION:Auf folgende Inhalte kannst Du Dich freuen:\n\n\n\n\nEntdecke zukunftsweisende Lösungen für Schutz\, Zutritt und nachhaltiges Bauen – sei bei unserer Fortbildung dabei! \nASSA ABLOY Sicherheitstechnik GmbH zeigt Dir\, wie kompromisslose Sicherheit und einfache Bedienbarkeit zusammengehen – mit hochwertigen Sicherheitsschlössern und Zutrittslösungen nach ISO 27001\, ob schlüssel- oder transponderbasiert. \nAxis Communications GmbH nimmt Dich mit in die Zukunft der Videosicherheit 4.0. Erfahre\, wie smarte Lösungen den Bogen von betrieblichen Anforderungen (EN 62676-4) bis zur Netzwerksicherheit spannen. \nDie SÄLZER GmbH präsentiert Systemlösungen für hochsichere Eingangsbereiche und informiert über aktuelle Vorgaben wie das KRITIS-Dachgesetz. Du erhältst Einblicke in den kombinierten Schutz vor Einbruch\, Beschuss und Sprengwirkungen. \nSchüco International KG verbindet Sicherheit und Nachhaltigkeit mit Türen\, Fenstern und Fassaden aus Stahl. Du erfährst\, welche Anforderungen an Feuerschutzabschlüsse\, mechanische Festigkeit und Einbruchhemmung heute zählen. \nVetrotech Saint-Gobain Deutschland GmbH zeigt Dir\, wie modernes Sicherheitsglas Transparenz und Schutz vereint. Entdecke innovative\, multifunktionale Glaslösungen für eine sichere und stilvolle Architektur. \nWestag AG demonstriert\, was Holztüren leisten können – von Brandschutz und Schallschutz bis hin zu hochwertigen Oberflächen und den Vorgaben der RAL-Gütegemeinschaft. \nSichere Dir fundiertes Know-how\, praxisnahe Lösungen und wertvolle Impulse für Dein nächstes Projekt. \n\nIm Laufe der Fortbildung:\n\n\n\n\n\nASSA ABLOY Sicherheitstechnik GmbH\nKompromisslose Sicherheit und Bedienbarkeit  \n\nSicherheitsschlösser für hohe Anforderungen\nZutrittslösungen in Anforderung ISO 27001\nSchlüssel- und Transponderbasierte Zutrittslösungen\n\nAxis Communications GmbH\n„Smart Solutions: Die Zukunft der Videosicherheit 4.0″ \n\nVon der Betriebsanforderung (EN62676-4) zur Netzwerksicherheit.\n\n\nSÄLZER GmbH\nSystemlösungen für hochsichere Eingangsbereiche \n\nAktuelle Informationen zum KRITIS Dachgesetz\nund Resilienz Pflichten für Betreiber kritischer Anlagen\nKombinierter Schutz gegen Einbruch\, Durchschuss und Sprengwirkungshemmung\n\n\nSchüco International KG\nSicherheit und Nachhaltigkeit mit Türen\, Fenstern und Fassaden aus Stahl  \n\nAnforderungen an Feuerschutzabschlüsse nach DIN 4102-5: DIBt Schreiben “Feuerschutzabschlüsse Innentüren Einbau in Wände und Anschluss an Bauteile“ vom 07.12.2023\nGebrauchstauglichkeit von Türen: Mechanische Festigkeit EN 1192/ RAL-GZ 426 EN 1192 und Dauerfunktion nach EN 12400\nEinbruchhemmung nach EN 1627ff. – Anforderungen und Lösungen\n\nVetrotech\nGlasklare Sicherheit – Hochleistungs-Sicherheitsglas für moderne Gebäude \n\nTransparenz und Sicherheit mit Glas\nInnovation in Sicherheit: Integrative Glaslösungen\nMultifunktionale Glaslösungen in der Architektur\n\nWestag AG\nFunktion & Dimension – was Holztüren leisten können \n\nVorgaben der RAL-Gütegemeinschaft\ntechnische Anforderungen an Brand- und Schallschutz\noptische Möglichkeiten mit verschiedenen Türoberflächen\n\n\n\n\n\n  \nWeitere Informationen sowie die Anmeldung finden Sie hier. \nDiese Veranstaltung wird von der Ingenieurkammer Thüringen mit 6 WB – Stunden anerkannt.
URL:https://ikth.de/startseite/event/kritis-iso-27001-sicherheitsanforderungen-in-der-planung-meistern/
CATEGORIES:Bauwesen,Nachhaltigkeit,Online-Veranstaltung,Webinar
END:VEVENT
BEGIN:VEVENT
DTSTART;TZID=Europe/Berlin:20250703T140000
DTEND;TZID=Europe/Berlin:20250703T160000
DTSTAMP:20260421T141335
CREATED:20250114T083638Z
LAST-MODIFIED:20250114T083638Z
UID:7849-1751551200-1751558400@ikth.de
SUMMARY:Abnahme\, Abrechnung\, Rechnungsprüfung Modul 3 von 3
DESCRIPTION:Rechnungsprüfung\, Schlusszahlung\, Stundenlohn\, Kündigungsabrechnung\nI. Verfahrens- und Abwicklungsfragen bei der Rechnungsprüfung\n\nWelche Bedeutung hat der Prüfvermerk des Planers (Rechnungsprüfers)?\nWer erhält die geprüfte Rechnung?\nMuss der Rechnungsprüfer auch zugunsten des AN prüfen?\nMuss bei etwaigen Kürzungen für den Vorsteuerabzug eine neue Rechnung ausgestellt werden?\n\nII. Folgen fehlerhafter Rechnungsprüfung\n\nMuss der Planer Überzahlungen ausgleichen?\nHaftet der Planer auch\, wenn ein Rückzahlungsanspruch gegen den AN besteht?\nWelche Wirkungen hat eine VOB-Schlusszahlung?\nWann können trotz Schlussrechnung Nachforderungen gestellt werden?\nWelche Wirkungen hat eine Schlusszahlung?\nWie ist eine Schlusszahlung zu leisten?\n\nIII. Welche Wirkungen hat eine VOB-Schlusszahlung?\n\nWann können trotz Schlussrechnung Nachforderungen gestellt werden?\nWelche Wirkungen hat eine Schlusszahlung?\nWie ist eine Schlusszahlung zu leisten?\n\nIV. Stundenlohnarbeiten\n\nIst eine ausdrückliche Vereinbarung notwendig?\nReicht die LV-Bedarfsposition?\nKann „Unvorhergesehenes“ über Stundenlohn abgerechnet werden?\nWelche Wirkung haben unterzeichnete Rapportzettel?\nIst der Planer im Rahmen der Bauüberwachung berechtigt\,\nStundenlohnarbeiten anzuordnen?\n\nV. Kündigungsabrechnung beim Bauvertrag\n\nWie wird bei freier AG-Kündigung abgerechnet?\nWas sind die Folgen einer Insolvenzkündigung?\nWie wird bei AG-Kündigung aus wichtigem Grund abgerechnet?\n\n  \nDiese Veranstaltung wird von der Ingenieurkammer Thüringen mit 3 WB-Stunden anerkannt. \nAußerdem weisen wir darauf hin\, dass dies nur ein Teil des 3-Teiligen Moduls ist. Die weiteren finden Sie hier.
URL:https://ikth.de/startseite/event/abnahme-abrechnung-rechnungspruefung-modul-3-von-3/2025-07-03/
CATEGORIES:Honorare,Online-Veranstaltung,Seminar
END:VEVENT
END:VCALENDAR