BEGIN:VCALENDAR
VERSION:2.0
PRODID:-//Ingenieurkammer Thüringen - ECPv5.8.0//NONSGML v1.0//EN
CALSCALE:GREGORIAN
METHOD:PUBLISH
X-WR-CALNAME:Ingenieurkammer Thüringen
X-ORIGINAL-URL:https://ikth.de/startseite
X-WR-CALDESC:Events for Ingenieurkammer Thüringen
BEGIN:VTIMEZONE
TZID:Europe/Berlin
BEGIN:DAYLIGHT
TZOFFSETFROM:+0100
TZOFFSETTO:+0200
TZNAME:CEST
DTSTART:20250330T010000
END:DAYLIGHT
BEGIN:STANDARD
TZOFFSETFROM:+0200
TZOFFSETTO:+0100
TZNAME:CET
DTSTART:20251026T010000
END:STANDARD
END:VTIMEZONE
BEGIN:VEVENT
DTSTART;TZID=Europe/Berlin:20250520T093000
DTEND;TZID=Europe/Berlin:20250520T110000
DTSTAMP:20260419T162213
CREATED:20250506T060231Z
LAST-MODIFIED:20250506T060231Z
UID:8753-1747733400-1747738800@ikth.de
SUMMARY:Serielle Brownfield- & Hallenlösungen
DESCRIPTION:Auf folgende Inhalte kannst Du Dich freuen:\n  \n\n\n\n\nBaue Deine Expertise in Brownfield-Projekten und Hallenlösungen aus – sei bei unserer Fortbildung dabei!\nIn der Fortbildung von GOLDBECK GmbH lernst Du\, was Brownfields sind und welche Herausforderungen bei der Planung und Entwicklung auftreten können. Du erfährst\, wie der Fieldscan als strukturierte Methode hilft\, Risiken frühzeitig zu erkennen. Außerdem bekommst Du praxisnahes Wissen zu seriellen\, modularen Hallenlösungen und nachhaltigem Hallenbau. Projektbeispiele aus Logistik\, Gewerbe und Produktion runden die Schulung ab. \n\nIm Laufe der Fortbildung:\n\n\n\nEinführung\n\nBrownfield – The New “normal”?\nBrownfield’s sind keine “grün Wiesen” – Überblick der Gefahren\nKurzer Exkurs – Brownfield-Kataster\n\n\nHerausforderungen auf Brownfield’s\n\nÜberblick\, wo Herausforderungen auf einem Brownfield sind und wie diese frühzeitig erkannt werden können.\n\n\nFieldscan – was ist das?\n\nVorstellung der systematischen Herangehensweise an Brownfield’s\n\n\nSystemlösung Halle\n\nSeriell\, System\, Modular\, was versteht man darunter bei einer Halle\nGrundlagen des Hallenbaus\, richtige Halle für jede Branche\nNachhaltigkeit im Hallenbau\n\n\nProjektbeispiel\n\nProjektbeispiel Logistikhallen\nProjektbeispiel Gewerbepark\nProjektbeispiel Produktionshallen\n\n\n\n  \nDie Anmeldung sowie weitere Informationen finden Sie hier. \nDiese Veranstaltung wird von der Ingenieurkammer Thüringen mit 2 WB – Stunden anerkannt. \n 
URL:https://ikth.de/startseite/event/serielle-brownfield-hallenloesungen/
CATEGORIES:Bauwesen,Nachhaltigkeit,Online-Veranstaltung,Webinar
END:VEVENT
BEGIN:VEVENT
DTSTART;TZID=Europe/Berlin:20250520T100000
DTEND;TZID=Europe/Berlin:20250520T121500
DTSTAMP:20260419T162213
CREATED:20250506T055613Z
LAST-MODIFIED:20250506T055613Z
UID:8747-1747735200-1747743300@ikth.de
SUMMARY:Minimale Bauzeit – maximale Effizienz: Modulbaulösungen für die Zukunft!
DESCRIPTION:Auf folgende Inhalte kannst Du Dich freuen:\n  \n\n\n\n\nVertiefe Dein Fachwissen rund um serielles Bauen\, modulare Bauweisen und innovative Sanitärlösungen – sei bei unserer Fortbildung dabei!\nHolcim (Deutschland) GmbH zeigt\, wie Betonfertigteile Bauprozesse beschleunigen und Qualität sichern. Erfahre\, wie Modulbalkone aus Betonfertigteilen umgesetzt werden und warum Carbonbeton als Balkonbelag besonders nachhaltig und ressourcenschonend ist. \nIn dieser Fortbildung vermittelt OTIS GmbH & Co. OHG fundiertes Wissen rund um den Modulbau im Aufzugsbereich. Du lernst die wichtigsten Begriffsdefinitionen\, Regelwerke und Projektbeteiligten kennen – und erfährst\, welche Vorteile der modulare Ansatz speziell bei Aufzugsanlagen bietet. Praxisnah\, regelkonform und zukunftsorientiert. \nModulare Nassräume eröffnen neue Möglichkeiten für effiziente\, normgerechte Badlösungen – vorgefertigte Systeme ermöglichen Abdichtung und Gestaltung in einem Schritt.Mit Lösungen von wedi GmbH lassen sich individuelle Sanitärräume schnell\, sicher und wirtschaftlich realisieren. Vorfertigung wird so zur praxisnahen Antwort auf die steigenden Anforderungen des Marktes. \n\nIm Laufe der Fortbildung:\n\n\n\n\n\n\nHolcim (Deutschland) GmbH \n\nSerielles Bauen mit Betonfertigteilen\nModulbalkone aus Betonfertigteilen\nBalkonbelag aus Carbonbeton\, nachhaltig\nund ressourcenschonend\n\nOTIS GmbH & Co. OHG \n\nBegriffsdefinition Modulbau\nWarum Modulbau in der Aufzugsbranche?\nRegelwerke\nVoraussetzungen / Projektbeteiligte / Leistungsabgrenzung\nAnwendungsgebiete\nProjektablauf\n\n\nwedi GmbH  \n\nVeränderungen und Anforderungen des Marktes (Warum widmet wedi sich dem Thema)\nVorteile im Einsatz von modularen Nassräumen – Gestalten und normkonformes Abdichten in einem Schritt\nVorfertigung als Chance – Neue Möglichkeiten für ein individuelles Nassraumkonzept durch den Einsatz vorgefertigter Module\n\n  \n  \n  \n  \n \n\n\n\n  \nDie Anmeldung sowie weitere Informationen finden Sie hier. \nDiese Veranstaltung wird von der Ingenieurkammer Thüringen mit 3 WB – Stunden anerkannt.
URL:https://ikth.de/startseite/event/minimale-bauzeit-maximale-effizienz-modulbauloesungen-fuer-die-zukunft/
CATEGORIES:Bauwesen,Nachhaltigkeit,Online-Veranstaltung,Webinar
END:VEVENT
BEGIN:VEVENT
DTSTART;VALUE=DATE:20250521
DTEND;VALUE=DATE:20250524
DTSTAMP:20260419T162213
CREATED:20240523T062411Z
LAST-MODIFIED:20240523T062411Z
UID:7015-1747785600-1748044799@ikth.de
SUMMARY:Tragwerksplaner/in in der Denkmalpflege im Jahr 2025
DESCRIPTION:Seminarblock 3 Reihe 30\nSanierung von Holzbauten\nEinführung in die Thematik · Bestandsaufnahme und Voruntersuchung · Analyse · Modellbildung und Nachweisverfahren ·\nRechnerischer Nachweis von Holzverbindungen · Berücksichtigung von Verformung · Ingenieurwissen und Zimmerer-\nHandwerk · Handwerkliche Techniken · Reparatur von Holzgefüge · Bewertung von Ersatztechnologien · Möglichkeiten\nund denkmalpflegerische Grenzen der Rekonstruktion ursprünglicher Tragwerke · Beispiele (Bundwände\, Hängewände\,\nSprengwerke etc.) · Moderne ingenieurmäßige Sicherung · Sanierung von Ingenieurbauwerken \n  \nWeitere Informationen
URL:https://ikth.de/startseite/event/tragwerksplaner-in-in-der-denkmalpflege-im-jahr-2025/
CATEGORIES:Bauwesen
END:VEVENT
BEGIN:VEVENT
DTSTART;TZID=Europe/Berlin:20250521T083000
DTEND;TZID=Europe/Berlin:20250521T160000
DTSTAMP:20260419T162213
CREATED:20250506T061631Z
LAST-MODIFIED:20250506T061631Z
UID:8755-1747816200-1747843200@ikth.de
SUMMARY:Regen- und Mischwasserbehandlung nach DWA-A 102 - Grundsätze – Planung – praktische Umsetzung
DESCRIPTION:Seminarprogramm UFT-Akademie Thüringen/ Nordbayern:2025\n  \n08:30 – 09:30 Uhr\nAnkunft der Akademieteilnehmer\, Kaffee\, Tee\, Erfrischungsgetränke \n  \n09:30 – 09:45 Uhr\nBegrüßung und kurze Vorstellung der Firma UFT \nDipl.-Ing. (FH) Daniel Lübke\, UFT GmbH; UFT-Zweigstelle Sachsen – Sachsen-Anhalt – Thüringen\, St. Egidien\, Leiter der Zweigstelle \n  \n09:45 – 10:30 Uhr\nMisch- und Regenwasserbehandlung nach Arbeitsblatt DWA-A 102-2 – Bemessungsverfahren \nDr.-Ing. Gebhard Weiß\, UFT GmbH Bad Mergentheim\, Gesellschafter und Abteilungsleiter Wissenschaftliche Dienste \n  \n10:30 – 11:30 Uhr\nPraktischen Umsetzung der DWA A/M-102-x – Strategische Lösungswege zur Zielerreichung \nM.Sc. Dipl.-Ing. (FH) Tilo Sahlbach\, Geschäftsführender Direktor IWS – Institut für Wasserbau und Siedlungswasserwirtschaft Leipzig \n  \n11:30- 12:30 Uhr\nBauwerksgestaltung aus hydraulischer Sicht\nDr.-Ing. Gebhard Weiß\, UFT GmbH Bad Mergentheim \n  \n12:30 – 13:30 Uhr\nMittagspause\, Getränke und Imbiss \n  \n13:30 – 14:15 Uhr\nAusrüstung für die Regenwasserbehandlung im Trennsystem –Schrägklärer dimensioniert- Was brauche ich noch? \nDipl.-Ing. Rüdiger Daul\, UFT GmbH Bad Mergentheim; Gebietsrepräsentant Bayern \n  \n14:15 – 15:15 Uhr\nZeitgemäße Ausstattung von Mischwasser- und \nRegenwasserbehandlungsbauwerken- von der Drosseleinrichtung bis zur Datenerfassung /Datenübertragung \nDipl.-Ing. (FH) Daniel Lübke\, UFT GmbH \n  \n15:15 Uhr\nSchlusswort und Verabschiedung \n  \nDiese Veranstaltung wird von der Ingenieurkammer Thüringen mit 6 WB – Stunden anerkannt.
URL:https://ikth.de/startseite/event/regen-und-mischwasserbehandlung-nach-dwa-a-102-grundsaetze-planung-praktische-umsetzung/
CATEGORIES:Bautechnik,Bauwesen,Nachhaltigkeit
END:VEVENT
BEGIN:VEVENT
DTSTART;TZID=Europe/Berlin:20250521T091500
DTEND;TZID=Europe/Berlin:20250521T164500
DTSTAMP:20260419T162213
CREATED:20250211T103102Z
LAST-MODIFIED:20250211T103102Z
UID:8158-1747818900-1747845900@ikth.de
SUMMARY:„Brandschutz bei geregelten oder nicht geregelten Sonderbauten“
DESCRIPTION:09:15 – 09:30 Uhr                          Login der Teilnehmer über WebEx\n09:30- 11:00 Uhr                            1. Wovon kann „abgewichen“ werden? – Grundlagen\n\nStandardbau oder Sonderbau?\nGeregelter oder ungeregelter Sonderbau?\nAbweichung oder Erleichterung?\nVoraussetzung für die Zulässigkeit von abweichenden Tatbeständen\nErforderliche Brandschutzmaßnahme oder besondere Anforderung?\nUmfang des Anpassungsverlangens bei Bestandsbauten?\nBeurteilung des Brandrisikos und der ausreichenden Brandsicherheit\n\n11:00 – 11:15 Uhr                           Kaffeepause\n11:15– 12:45 Uhr                           2. Abweichungen (§ 67 MBO)\n\nAnalyse und Feststellung\nSind zusätzliche Brandschutzmaßnahmen erforderlich? – Wann geht’s auch ohne?\nBeantragung von Abweichungen – formales Vorgehen\nUmgang mit Sonderbauverordnungen\nZusammenspiel mit der MVV TB\nPraxisbeispiele\n\n12:45- 13:30 Uhr                           Mittagspause\n13:30 – 15:00 Uhr                         3. Erleichterungen (§ 51 MBO)\n\nAbweichende Tatbestände in Sonderbauten feststellen und bewerten\nBegründung und Gestattung von Erleichterungen\nUmgang mit Muster-Richtlinien\nPraxisbeispiele\n4„Andere“ Abweichungen (§ 85a MBO\, Bauprodukte)\n\n\nAbweichungen nach § 85a von eingeführten Technischen Baubestimmungen nach der MVV TB\nAbweichungen bei der Verwendung von Bauprodukten/Bauarten\nZustimmungen im Einzelfall\nExtrapolationen bei europäisch harmonisierten Bauprodukten\nPraxisbeispiele\n\n15:00 – 15:15 Uhr                         Kaffeepause\n15:15– 16:45 Uhr                          5. Anwendung von Methoden des Brandschutzingenieurwesens\n\nMöglichkeiten der Nachweisführung\nEinführung in DIN 18009-1 und -2\nBegründen von Abweichungen oder Erleichterungen\nPraxisbeispiele\n\nReferent: Prof. Dr.-Ing. habil. Architekt Gerd Geburtig\nFreischaffender Architekt und Inhaber der Planungsgruppe Geburtig\, Architekten & Ingenieure\, Weimar\, Nachweisberechtigter für vorbeugenden Brandschutz\, Mitglied in den Arbeitsausschüssen „Brandschutz-ingenieurverfahren“ (DIN 18009) und „Brandverhalten von Baustoffen und Bauteilen – Klassifizierung (Katalog)“ (DIN 4102-4) sowie Prüfingenieur für Brandschutz – www.pg-geburtig.de \n  \nDiese Veranstaltung wird von der Ingenieurkammer Thüringen mit 8 WB – Stunden anerkannt. \nDiese sowie weitere Veranstaltungen von IBS finden Sie hier. \n 
URL:https://ikth.de/startseite/event/brandschutz-bei-geregelten-oder-nicht-geregelten-sonderbauten/
CATEGORIES:Baurecht,Bauwesen,Brandschutz,Online-Veranstaltung
END:VEVENT
BEGIN:VEVENT
DTSTART;TZID=Europe/Berlin:20250521T100000
DTEND;TZID=Europe/Berlin:20250521T121500
DTSTAMP:20260419T162213
CREATED:20250506T054019Z
LAST-MODIFIED:20250506T054019Z
UID:8740-1747821600-1747829700@ikth.de
SUMMARY:Werkstoff der Zukunft – Bauen mit Holz
DESCRIPTION:Auf folgende Inhalte kannst Du Dich freuen:\n  \n\n\n\n\nErlebe die nächste Generation des Holzbaus und der Dämmtechnik – sei bei unserer Fortbildung dabei!\nDrei Unternehmen – ein Ziel: zukunftsfähiges Bauen mit Holz. Die Vorträge von Deutsche FOAMGLAS GmbH\, Franken Maxit Mauermörtel GmbH & Co. und TROX SE bieten spannende Einblicke in technische Lösungen und nachhaltige Materialien. \nDeutsche FOAMGLAS GmbH präsentiert moderne Flachdachsysteme in Holzbauweise – von belüfteten und unbelüfteten Aufbauten über sommerlichen Wärmeschutz\, Schallschutz und vorbeugenden Brandschutz bis hin zu genutzten Gründächern und innovativer Aufdachdämmung. \nFranken Maxit Mauermörtel GmbH & Co. stellt Stroh als Rohstoff der Zukunft vor: ökologischer Trockenbau\, CO²-speichernde Putz- und Trittschalldämmsysteme\, Innendämmungen und gestalterische Möglichkeiten mit Naturmaterialien zeigen\, wie sich Design und Nachhaltigkeit vereinen lassen. \nTROX SE beleuchtet den Brandschutz im Holzbau: vom berechenbaren Brandverhalten über Brandschutzklappen und flexible Einbauarten bis zu Einblicken in realistische Brandversuche – inklusive Zukunftsperspektiven für sichere\, nachhaltige Holzkonstruktionen. \nIm Laufe der Fortbildung:\n\n\n  \n\n\n\nDeutsche FOAMGLAS GmbH \n\nFlachdächer in Holzbauweise\n\nVom Klassiker zum modernen Standard – unbelüftete und belüftete Dachaufbauten\nAufdachdämmung für Flachdächer in Holzbauweise (Typ I)\n\n\nSommerlicher Wärmeschutz und die Amplitudenverschiebung\nSchallschutz von Flachdächern oder Dachterrassen in Holzbauweise\nVorbeugender Brandschutz\nGenutzte Gründächer\nVerlegung von Aufdachdämmung\n\nTROX SE \n\nHolz im Brandfall: Geringe Wärmeleitfähigkeit und Verkohlungsschicht sorgen für ein berechenbares Brandverhalten\nBrandschutzklappen in Holzbauwerken: Möglich und sinnvoll\, auch bei nachhaltigen Holzkonstruktionen\nEinbauarten: Integration in Vollholz- und Holzfachwerksysteme\, flexible Einbaumöglichkeiten\nNachhaltigkeit von Holz: Ökologische Vorteile im Vergleich zu anderen Materialien\, Einfluss auf Brandschutz\nBrandversuche: Wichtiger Prüfmaßstab für die Belastung von Tragsystemen und Brandschutzklappen\nBelastungstests: Einblicke in Brandversuche\, die extreme Belastungen für Brandschutzsysteme simulieren\nZukunftsperspektiven: Weiterentwicklungen und Trends im Brandschutz für Holzbauwerke\n\n\nFranken Maxit Mauermörtel GmbH & Co. \n\nGrundlagen: Stroh als Rohstoff der Zukunft\n\nStroh und Holz: Eine gelungene Baustoff-Kombination\nRohstoffverfügbarkeit\n\n\nSystemlösungen im Holzbau\n\nÖkologisches Trockenbau/ Putzträgersystem: Von der Platte bis hin zur Verarbeitung\nTrockenbau/ Putzträgersystem im Holzbau als CO²-Speicher\nVor- und Nachteile verschiedener Putzaufbauten auf dem Strohpanel\nInnendämmung mit Strohpanel\nDämmen mit Strohpanel auf Holzständer\nPutzaufbauten auf Innendämmung\nÖkologisches Trittschallsystem: Von den technischen Daten bis hin zur Verarbeitung\nFußbodenaufbauten mit Naturfaser\nFußbodenfläche als CO²-Speicher\nDie Natur im Design: Stroh als Designplatte\nNatur haptisch und ästhetisch einsetzten\n\n\nPotentiale zur CO²-Reduktion\n\nCO² Reduktion im System\nVerarbeitungsreferenzen aus der Praxis\n\n\n\n\n\n\n\n  \nDie Anmeldung sowie weitere Informationen finden Sie hier. \nDiese Veranstaltung wird von der Ingenieurkammer Thüringen mit 3 WB – Stunden anerkannt.
URL:https://ikth.de/startseite/event/werkstoff-der-zukunft-bauen-mit-holz/
CATEGORIES:Bauwesen,Brandschutz,Holzbau,Nachhaltigkeit,Online-Veranstaltung,Webinar
END:VEVENT
BEGIN:VEVENT
DTSTART;TZID=Europe/Berlin:20250521T140000
DTEND;TZID=Europe/Berlin:20250521T160000
DTSTAMP:20260419T162213
CREATED:20250114T101914Z
LAST-MODIFIED:20250114T101914Z
UID:7898-1747836000-1747843200@ikth.de
SUMMARY:Grundlagen des Architekten- und Ingenieurvertrages sowie neue Honorarordnung 2021 Modul 2 von 3
DESCRIPTION:Prüffähigkeit und inhaltliche Richtigkeit der Honorarrechnung\nI. Welche Bedeutung hat die Prüffähigkeit der Honorarrechnung?\n\nWann wird die Honorarforderung fällig?\nWelche Kriterien gelten für die Prüffähigkeit?\nWas ist bei fehlender Prüffähigkeit der Rechnung?\n\nII. Welche Abrechnungsgrundlagen sind inhaltlich wichtig?\n\nNach welchen Vorgaben sind die anrechenbaren Kosten zu ermitteln?\nWann kommt eine Honorarreduzierung bei Teilleistungen in Betracht?\nWann sind die anrechenbaren Kosten der technischen Ausrüstung bei Architekten- bzw. Ingenieurleistungen zu berücksichtigen?\nWelche Vorgaben gelten für die richtige Ermittlung der Honorarzone?\nBerücksichtigung der Honorarabrechnungsparameter – Beispielrechnung\nWie werden Nebenkosten abgerechnet?\nWarum ist die objektbezogene Trennung wichtig?\n\n  \nDiese Veranstaltung wird von der Ingenieurkammer Thüringen mit 3 WB-Stunden anerkannt. \nDie weiteren Module finden Sie hier.
URL:https://ikth.de/startseite/event/grundlagen-des-architekten-und-ingenieurvertrages-sowie-neue-honorarordnung-2021-modul-2-von-3/2025-05-21/
CATEGORIES:Honorare,Online-Veranstaltung,Seminar
END:VEVENT
BEGIN:VEVENT
DTSTART;TZID=Europe/Berlin:20250521T140000
DTEND;TZID=Europe/Berlin:20250521T160000
DTSTAMP:20260419T162213
CREATED:20250114T102408Z
LAST-MODIFIED:20250114T102408Z
UID:7903-1747836000-1747843200@ikth.de
SUMMARY:Grundlagen des Architekten- und Ingenieurvertrages sowie neue Honorarordnung 2021 Modul 3 von 3
DESCRIPTION:Bauen im Bestand und planerische Nachtragsleistungen\nI. Welche Vereinbarungen sind für das „Bauen im Bestand“ zu treffen?\n\nInwieweit ist mitzuverarbeitende vorhandene Bausubstanz bei den anrechenbaren Kosten berücksichtigungsfähig?\nWann und in welcher Höhe kommt ein Umbauzuschlag in Betracht?\nWas ist\, wenn kein Umbauzuschlag vereinbart ist?\nNEU: Welche Möglichkeiten eröffnen sich durch die HOAI ab dem 01.01.2021?\n\nII. Wie werden planerische Nachtragsleistungen abgerechnet?\n\nWas sind überhaupt Nachträge im Planungsbereich?\nWo liegen die Unterschiede zwischen Varianten und Alternativen?\nWie gestaltet sich die Vergütung bei Leistungserweiterungen?\nWie gestaltet sich die Vergütung bei Leistungsänderungen?\nWie werden „Besondere Leistungen“ abgerechnet?\nWie wird die Nachtragsprüfung der bauausführenden Unternehmen vergütet?\n\nIII. Grundlagen zur angemessenen Honorarermittlung für Planerleistungen\n\nNEU: Welche Möglichkeiten ergeben sich aus der HOAI 2021?\nWelche Kosten fallen wann\, wo und wie an?\nAuf welchen Vorgaben sollte die Vergütungskalkulation aufbauen?\n\n  \nDiese Veranstaltung wird von der Ingenieurkammer Thüringen mit 3 WB-Stunden anerkannt. \nDie weiteren Module finden Sie hier.
URL:https://ikth.de/startseite/event/grundlagen-des-architekten-und-ingenieurvertrages-sowie-neue-honorarordnung-2021-modul-3-von-3/2025-05-21/
CATEGORIES:Honorare,Online-Veranstaltung,Seminar
END:VEVENT
BEGIN:VEVENT
DTSTART;TZID=Europe/Berlin:20250522T100000
DTEND;TZID=Europe/Berlin:20250522T113000
DTSTAMP:20260419T162213
CREATED:20250506T053312Z
LAST-MODIFIED:20250506T053312Z
UID:8736-1747908000-1747913400@ikth.de
SUMMARY:Geprüfte Abschottungsmöglichkeiten im Holzbau
DESCRIPTION:Auf folgende Inhalte kannst Du Dich freuen:\n  \n\n\n\n\nLerne innovative Lösungen für nachhaltiges Bauen kennen – sei bei unserer Fortbildung dabei!\nAktuelle Vorschriften\, spezielle Anforderungen im Holzbau und innovative Anwendungsmöglichkeiten – all das steht im Mittelpunkt dieser Fortbildung von Flamro und Walraven. Du erhältst praxisnahes Wissen rund um Rohr-\, Kabel- und Kombiabschottungen\, inklusive Lösungen für besondere Einbausituationen. Wie Theorie zur greifbaren Lösung wird\, zeigen Dir konkrete Beispiele aus der Praxis – direkt anwendbar und mit echtem Mehrwert für Deine tägliche Arbeit. \nIm Laufe der Fortbildung:\n\n\n\nEinschlägige Vorschriften für die Leitungsabschottung\nSpezifische Richtlinien im Holzbau\nAktuelle Anwendungsmöglichkeiten\nLösungen für die Rohr-\, Kabel- & Kombiabschottung inkl. Sonderanwendungen\nBeispiele aus der Praxis\n\n  \nUnsere Referenten behandeln beispielsweise folgende Fragestellungen:\n  \n\nWelche Vorschriften gelten für die Leitungsabschottung im Brandschutz?\n\nAktuelle Regelwerke wie die MLAR (Muster-Leitungsanlagen-Richtlinie) und relevante europäische Normen geben klare Vorgaben zur fachgerechten Abschottung von Leitungsanlagen. Sie regeln den Brandschutz in Wänden und Decken\, damit Feuer und Rauch sich nicht unkontrolliert ausbreiten. \n\nWas ist bei Leitungsabschottungen im Holzbau besonders zu beachten?\n\nDer Baustoff Holz stellt durch seine brennbaren Eigenschaften besondere Anforderungen an Abschottungslösungen. Es sind speziell geprüfte Systeme erforderlich\, die sowohl den Brandschutz als auch die Beweglichkeit der Konstruktion berücksichtigen. \n\nWie lassen sich Rohr-\, Kabel- und Kombiabschottungen in der Praxis umsetzen?\n\nMit modularen Systemlösungen können verschiedene Leitungen sicher durch Brandabschnitte geführt werden. Dabei sind Montagefreundlichkeit\, Zulassungen und die Kombinierbarkeit verschiedener Medien zentrale Vorteile – ideal für Neubau und Sanierung. \n  \nDie Anmeldung sowie weitere Informationen finden Sie hier. \nDiese Veranstaltung wird von der Ingenieurkammer Thüringen mit 2 WB – Stunden anerkannt.
URL:https://ikth.de/startseite/event/gepruefte-abschottungsmoeglichkeiten-im-holzbau/
CATEGORIES:Bauwesen,Holzbau,Online-Veranstaltung,Webinar
END:VEVENT
END:VCALENDAR