BEGIN:VCALENDAR
VERSION:2.0
PRODID:-//Ingenieurkammer Thüringen - ECPv5.8.0//NONSGML v1.0//EN
CALSCALE:GREGORIAN
METHOD:PUBLISH
X-WR-CALNAME:Ingenieurkammer Thüringen
X-ORIGINAL-URL:https://ikth.de/startseite
X-WR-CALDESC:Events for Ingenieurkammer Thüringen
BEGIN:VTIMEZONE
TZID:Europe/Berlin
BEGIN:DAYLIGHT
TZOFFSETFROM:+0100
TZOFFSETTO:+0200
TZNAME:CEST
DTSTART:20250330T010000
END:DAYLIGHT
BEGIN:STANDARD
TZOFFSETFROM:+0200
TZOFFSETTO:+0100
TZNAME:CET
DTSTART:20251026T010000
END:STANDARD
END:VTIMEZONE
BEGIN:VEVENT
DTSTART;TZID=Europe/Berlin:20250414T090000
DTEND;TZID=Europe/Berlin:20250414T160000
DTSTAMP:20260420T135646
CREATED:20251016T121608Z
LAST-MODIFIED:20251016T121608Z
UID:9281-1744621200-1744646400@ikth.de
SUMMARY:Bauschadenseminar 2026
DESCRIPTION:Impulsvortrag Prof. Dr. Markus Kuhnhenne. \n\n\n​​ \n\n\n „Angebranntes Dach“ mit Sanierung. \n\n\n​​ \n\n\n VOB Teil C ATV DIN 18351\, Aufmaß und Abrechnung von vorgehängten hinterlüfteten Fassaden.​ \n\n\n​​ \n\n\nEine 100 Meter lange Titanzink-Kastenrinne zwischen 2 Trapezprofil-Satteldächern. Wie gestaltet man die Entwässerung und die Notüberläufe richtig?​ \n\n\n​​ \n\n\nPV- und Carrier-Systeme an Sandwichelementen. Bericht über aktuelle formale Grundlagen. Worauf muss man achten? Konstruktives.  \n\n\n​​ \n\n\nDas weggeflogene Dach einer Sporthalle – Ein Stehfalzdach mit Dachüberstand.​ \n\n\n​​ \n\n\nVerformte Kassettenwandsysteme – Ausprägung und Ursachen.​ \n\n\n​​ \n\n\nMassive korrosive Schädigung einer Attikaabdeckung​. \n\n\n​​ \n\n\nFlächenbündige Fensterelemente in einer Sandwichfassade. Wassereintritte im Sturzbereich der Fenster.​ \n\n\n​​ \n\n\nDas „knackende“ Sandwichdach einer Reithalle​. \n\n\n​​ \n\n\nUndichte Sandwichdächer – immer wieder und immer wieder gleiche Ursachen​. \n\n\n​​ \n\n\nZusammenfassung\, offengebliebene Fragen und Verabschiedung​. \n\n\n\n\n\n\n\n\nzur Anmeldung geht es hier. \n\nDiese Veranstaltung wird mit 8 Weiterbildungsstunden anerkannt.
URL:https://ikth.de/startseite/event/bauschadenseminar-2026/
CATEGORIES:Bautechnik,Bauwesen
END:VEVENT
BEGIN:VEVENT
DTSTART;TZID=Europe/Berlin:20250415T100000
DTEND;TZID=Europe/Berlin:20250415T113000
DTSTAMP:20260420T135646
CREATED:20250401T071217Z
LAST-MODIFIED:20250401T071217Z
UID:8481-1744711200-1744716600@ikth.de
SUMMARY:Lebensraum statt Parkraum – Parkraum platzsparend planen
DESCRIPTION:Auf folgende Inhalte kannst Du Dich freuen:\nWerde Profi für platzsparende Parkräume – Sei bei unserer Fortbildung dabei!\n  \nStädte verdichten sich\, Flächen werden knapper – die Anforderungen an smarte und nachhaltige Planungslösungen steigen. Mit der RESPACE Produktfamilie zeigen wir Dir\, wie Automatische Parksysteme nicht nur Platz\, sondern auch Zeit und Kosten sparen können. \nFreu Dich auf praxisnahe Einblicke\, innovative Konzepte und die Vorstellung von Produktinnovationen. \nErfahre von Lödige Industries GmbH\, wie Du mit Automatischen Parksystemen Lebensräume schaffen kannst – sicher\, effizient und elegant in Deine Projekte integriert. Sei dabei und stelle Deine Fragen live an unsere Experten! \nSichere Dir Deinen Platz und werde Profi für platzsparende Parkräume! \n  \nIm Laufe der Fortbildung:\n\nAutomatische Parksysteme und Flächennutzung\nVorteile der neuen RESPACE Produktfamilie\nIntegration von Elektromobilität\nErfolgreiche Projektplanung für automatische Parksysteme\nZukunftsorientierte Lösungen durch automatische Parksysteme\n\n  \nWeitere Infos sowie die Anmeldung finden Sie hier. \nDiese Veranstaltung wird mit 2 WB – Stunden von der Ingenieurkammer Thüringen anerkannt.
URL:https://ikth.de/startseite/event/lebensraum-statt-parkraum-parkraum-platzsparend-planen/
CATEGORIES:Bauwesen,Online-Veranstaltung,Sonstiges
END:VEVENT
BEGIN:VEVENT
DTSTART;TZID=Europe/Berlin:20250415T100000
DTEND;TZID=Europe/Berlin:20250415T113000
DTSTAMP:20260420T135646
CREATED:20250407T063245Z
LAST-MODIFIED:20250407T063245Z
UID:8632-1744711200-1744716600@ikth.de
SUMMARY:Lebensraum statt Parkraum – Parkraum platzsparend planen
DESCRIPTION:Auf folgende Inhalte kannst Du Dich freuen:\n\n\n\n\nWerde Profi für platzsparende Parkräume – Sei bei unserer Fortbildung dabei!\nStädte verdichten sich\, Flächen werden knapper – die Anforderungen an smarte und nachhaltige Planungslösungen steigen. Mit der RESPACE Produktfamilie zeigen wir Dir\, wie Automatische Parksysteme nicht nur Platz\, sondern auch Zeit und Kosten sparen können. Freu Dich auf praxisnahe Einblicke\, innovative Konzepte und die Vorstellung von Produktinnovationen. Erfahre von Lödige Industries GmbH\, wie Du mit Automatischen Parksystemen Lebensräume schaffen kannst – sicher\, effizient und elegant in Deine Projekte integriert. Sei dabei und stelle Deine Fragen live an unsere Experten! \nSichere Dir Deinen Platz und werde Profi für platzsparende Parkräume! \nIm Laufe der Fortbildung:\n\n\n\nAutomatische Parksysteme und Flächennutzung\nVorteile der neuen RESPACE Produktfamilie\nIntegration von Elektromobilität\nErfolgreiche Projektplanung für automatische Parksysteme\nZukunftsorientierte Lösungen durch automatische Parksysteme\n\nDie Anmeldung sowie weitere wichtigen Informationen erhalten Sie hier. \nDiese Veranstaltung wird von der Ingenieurkammer Thüringen  mit 2 WB – Stunden anerkannt. \n 
URL:https://ikth.de/startseite/event/lebensraum-statt-parkraum-parkraum-platzsparend-planen-2/
CATEGORIES:Bauwesen,Online-Veranstaltung,Webinar
END:VEVENT
BEGIN:VEVENT
DTSTART;TZID=Europe/Berlin:20250417T100000
DTEND;TZID=Europe/Berlin:20250417T121500
DTSTAMP:20260420T135646
CREATED:20250407T082351Z
LAST-MODIFIED:20250407T082351Z
UID:8649-1744884000-1744892100@ikth.de
SUMMARY:Brandschutz im Zoom: Vom Türsystem bis zur Fassade – Alles über Brandschutzabschlüsse
DESCRIPTION:Auf folgende Inhalte kannst Du Dich freuen:\n  \n\n\n\n\nWerde Profi für Brandschutz und Türlösungen – Sei bei unserer Fortbildung dabei!\n  \nIn der Fortbildung von Hörmann KG Verkaufsgesellschaft lernst Du die Grundlagen für Feuer- und Rauchschutzabschlüsse kennen. Erfahre\, wie sich Innen- und Außentüren normativ unterscheiden\, welche Leistungseigenschaften und CE-Kennzeichen relevant sind und was du über Stahlblechtüren\, Rohrrahmenelemente sowie Feuer- und Rauchschutztore wissen musst. Zudem bekommst Du wertvolle Praxistipps\, die dich im Planungsalltag unterstützen. \nGleichzeitig zeigt Dir neuform-Türenwerk Hans Glock GmbH & Co. KG\, worauf es bei modernen Türlösungen ankommt. Erfahre mehr über Ausführungsarten\, Türfunktionen und Regelwerke sowie die Anforderungen an Brandschutz und Rauchschutz. Zudem bekommst Du wertvolle Einblicke in Zulassungen (ZiE) und Türelement-Komponenten – von Zarge und Türblatt bis zu weiteren Bauteilen. \nErfahre von Schüco International KG\, welche Anforderungen und Nachweise bei Brandschutzfassaden entscheidend sind – von der CE-Kennzeichnung bis zur nationalen Zulassung. Wir beleuchten den sicheren Übergang von F0 zu F90 sowie die Integration von Feuerschutzabschlüssen in Brandschutzfassaden. Zudem erhältst Du Einblicke in Lösungen für anspruchsvolle Brandschutz-Dachverglasungen und deren fachgerechte Umsetzung. \n\n\n\n\nNutze diese Gelegenheit\, um Dein Fachwissen zu erweitern und praxisnahe Lösungen für sichere und normgerechte Türsysteme kennenzulernen. Melde Dich jetzt an! \n\n\n\n\n\nIm Laufe der Fortbildung:\n\n\n  \n\n\n\n\nHörmann KG Verkaufsgesellschaft\n  \n\nGrundlagen für Feuer- und Rauchschutzabschlüsse\nNormative Unterscheidung Innen- und Außentüren\nLeistungseigenschaften & CE-Kennzeichen\nStahlblechtüren und Rohrrahmenelemente\nFeuer- und Rauchschutztore\nPraxistipps für den Planungsalltag\n\nSchüco International KG \n\nBrandschutzfassaden\, Zulassung oder CE-Kennzeichnung\nBrandschutzfassaden – Übergang von F0 zu F-90\nFeuerschutzabschlüße in BS-Fassaden\nBrandschutzdachverglasungen\n\n\n\nneuform-Türenwerk Hans Glock GmbH & Co. KG\n\nAusführungsarten (Türarten\, Festverglasung)\nTürfunktionen & Regelwerke\n\nBrandschutz\, Rauchschutz\nergänzende Funktionen / Eigenschaften\nZulassungen / ZiE…\n\n\n Türelement-Komponenten\n\n\n\nZarge\nTürblatt\nKomponenten\n\n\n\n\n\n  \n  \n \n\n\n\n  \nWeitere Informationen sowie die Anmeldung finden Sie hier. \nDiese Veranstaltung wird von der Ingenieurkammer Thüringen mit 3 WB – Stunden anerkannt.
URL:https://ikth.de/startseite/event/brandschutz-im-zoom-vom-tuersystem-bis-zur-fassade-alles-ueber-brandschutzabschluesse/
CATEGORIES:Barrierefrei,Bauwesen,Brandschutz,DIN,Online-Veranstaltung,Webinar
END:VEVENT
END:VCALENDAR