BEGIN:VCALENDAR
VERSION:2.0
PRODID:-//Ingenieurkammer Thüringen - ECPv5.8.0//NONSGML v1.0//EN
CALSCALE:GREGORIAN
METHOD:PUBLISH
X-WR-CALNAME:Ingenieurkammer Thüringen
X-ORIGINAL-URL:https://ikth.de/startseite
X-WR-CALDESC:Events for Ingenieurkammer Thüringen
BEGIN:VTIMEZONE
TZID:Europe/Berlin
BEGIN:DAYLIGHT
TZOFFSETFROM:+0100
TZOFFSETTO:+0200
TZNAME:CEST
DTSTART:20250330T010000
END:DAYLIGHT
BEGIN:STANDARD
TZOFFSETFROM:+0200
TZOFFSETTO:+0100
TZNAME:CET
DTSTART:20251026T010000
END:STANDARD
END:VTIMEZONE
BEGIN:VEVENT
DTSTART;TZID=Europe/Berlin:20250203T100000
DTEND;TZID=Europe/Berlin:20250203T130000
DTSTAMP:20260424T160228
CREATED:20240718T120624Z
LAST-MODIFIED:20240718T120624Z
UID:7256-1738576800-1738587600@ikth.de
SUMMARY:Planer Symposium – Intelligente Gebäudeplanung – Smarte Armaturen\, Intelligente Steuerung und Vernetzung von Fenstern und Türen\, bedarfsgesteuertes Raumklima
DESCRIPTION:Auf folgende Inhalte kannst Du Dich freuen:\n\nIm Lauf der Fortbildung:\n  \nGEZE GmbH \n\nGebäudeleittechnik Grundlagen\nGebäudeleittechnik an einer Tür?\nTürplanung heißt die Berücksichtigung von Normen und Richtlinien\nVernetzung verschiedener Komponenten\nWo liegen die Anfänge der Gebäudeautomation?\nBasiswissen BACnet\nZentraler Baustein der GLT\nIntegration und Funktionen\nVisualisierung der GLT\n\n  \nHansa Armaturen GmbH \n\nVDI 6023\nVDI 6024\nSmarte Armaturen\nDigital Service\n\n  \nSwegon Germany GmbH \n\nGrundlagen der Raumluftqualität\nHerausforderungen im Gebäudemanagement\nDas System im Detail\n\n  \nVELUX Deutschland GmbH \n\nBelichtung\nSommerlicher Wärmeschutz\nLüftung\nAutomatisierung + Raumklimatisierung\nEinbindung in PV-Anlagen\nProjekte\n\n  \n  \nDie Veranstaltung ist durch die IKTh mit 4 WB-Stunden anerkannt. \n  \nWeitere Informationen zur Veranstaltung
URL:https://ikth.de/startseite/event/planer-symposium-intelligente-gebaeudeplanung-smarte-armaturen-intelligente-steuerung-und-vernetzung-von-fenstern-und-tueren-bedarfsgesteuertes-raumklima-2-2025-02-03/
LOCATION:Online
CATEGORIES:Bauwesen,Online-Veranstaltung
END:VEVENT
BEGIN:VEVENT
DTSTART;TZID=Europe/Berlin:20250204T100000
DTEND;TZID=Europe/Berlin:20250204T113000
DTSTAMP:20260424T160228
CREATED:20240718T113816Z
LAST-MODIFIED:20240718T113816Z
UID:7246-1738663200-1738668600@ikth.de
SUMMARY:Online Veranstaltung – Starkwetter – Hochwasserschutz vom Dach in den Keller
DESCRIPTION:Auf folgende Inhalte kannst Du Dich freuen:\nIm Lauf der Fortbildung:\n  \nACO Passavant GmbH \n\nKlimatische Veränderungen und die Folgen für die Dachentwässerung\nDie fachgerechte Auslegung von Dachentwässerungssystemen\nRegelgerechte Schwellen und barrierefreie Übergänge\nRegenwasserbewirtschaftung und der Wasserkreislauf\n\n  \nUrbanscape (Knauf Insulation GmbH) \n\nDachbegrünung und Regenwassermanagement: wie Gründächer Wasser zurückhalten und kontrolliert ableiten\nVorteile von Dachbegrünungen (Schwerpunkt Hochwasserschutz)\nArten von Dachbegrünungen und herkömmliche Schichtaufbauten\nEinsatz von Mineralwolle in Gründächern: Ihre Eigenschaften und Vorteile im Regenwassermanagement\nRegenwassermanagement: Abflussberechnungen mit dem Abflussbeiwert C\, Leistung der Drainage und ortsabhängige Retentionsberechnungen (Wasseraufnahmefähigkeit und Rückhaltungsvermögen) dank das Performance Evaluation Tool\nRetentionsdach: Erwartungen und Lösungsansatz\n\n  \n  \nDie Veranstaltung ist durch die IKTh mit 2 WB-Stunden anerkannt. \n  \nWeitere Informationen
URL:https://ikth.de/startseite/event/online-veranstaltung-starkwetter-hochwasserschutz-vom-dach-in-den-keller-2/2025-02-04/
CATEGORIES:Bauwesen,Online-Veranstaltung
END:VEVENT
BEGIN:VEVENT
DTSTART;TZID=Europe/Berlin:20250204T140000
DTEND;TZID=Europe/Berlin:20250204T160000
DTSTAMP:20260424T160228
CREATED:20250114T101443Z
LAST-MODIFIED:20251124T120500Z
UID:7891-1738677600-1738684800@ikth.de
SUMMARY:Grundlagen des Architekten- und Ingenieurvertrages sowie neue Honorarordnung 2021
DESCRIPTION:Akquisitionsphase sowie Abschluss und Inhalte des Planervertrages\nI. Welche Besonderheiten sind bei Anbahnung des Planervertrages zu beachten?\n\nWas versteht die Rechtsprechung unter Akquisitionsphase?\nWelche Möglichkeiten bieten sich\, um die Akquisitionsphase zu verkürzen?\nWas versteht man unter Bedarfsplanung und wann ist sie sinnvoll?\nWann ist eine Widerrufsbelehrung zu erteilen und welche Folgen hat deren Unterlassung?\n\nII. Welche Inhalte des Planervertrages sind wichtig?\n\nNach welchen Kriterien bestimmt sich das Leistungsziel?\nIst eine generelle Bezugnahme auf HOAI-Leistungen sinnvoll?\nWorauf ist bei Baukostenangaben und Baukostenprognosen zu achten?\nWelche rechtlichen Folgewirkungen hat das Erreichen bzw. Nichterreichen des werk­vertraglichen Leistungserfolges?\nWelche Haftungsbeschränkungen sind möglich und zulässig?\n\nIII. Welche Inhalte Formalitäten sind bei der Honorarvereinbarung zu beachten?\n\nWie sollte die Honorarfestlegung erfolgen (Auswirkungen EuGH vom 4.7.2019)?\nWelche Auswirkungen ergeben sich durch den Wegfall des gesetzlichen Preisrahmens der HOAI-Mindest- und Höchstsätze (Auswirkungen EuGH vom 4.7.2019)?\nNEU: Was bringt die HOAI ab dem 01.01.2021?\nKönnen Pauschal- und Zeithonorare vereinbart werden?\nWelche Besonderheiten gelten bei kommunalen Auftraggebern?\n\nIV. Was ist wichtig bei Vergabe öffentlicher Planungsaufträge? (Grundzüge)\n\nWann muss eine Ausschreibung nach GWB und VgV erfolgen?\nWie wird der Schwellenwert ermittelt? Gilt HOAI-Preisrecht?\nWelche Rechtsschutzmöglichkeiten bestehen?\n\n  \nZur Anmeldung kommen Sie hier. \nDiese Veranstaltung wird von der Ingenieurkammer Thüringen mit 3 WB-Stunden anerkannt.\n 
URL:https://ikth.de/startseite/event/grundlagen-des-architekten-und-ingenieurvertrages-sowie-neue-honorarordnung-2021-modul-1-von-3/
CATEGORIES:Honorare,Online-Veranstaltung,Seminar
END:VEVENT
BEGIN:VEVENT
DTSTART;TZID=Europe/Berlin:20250205T140000
DTEND;TZID=Europe/Berlin:20250205T160000
DTSTAMP:20260424T160228
CREATED:20250114T101914Z
LAST-MODIFIED:20250114T101914Z
UID:7896-1738764000-1738771200@ikth.de
SUMMARY:Grundlagen des Architekten- und Ingenieurvertrages sowie neue Honorarordnung 2021 Modul 2 von 3
DESCRIPTION:Prüffähigkeit und inhaltliche Richtigkeit der Honorarrechnung\nI. Welche Bedeutung hat die Prüffähigkeit der Honorarrechnung?\n\nWann wird die Honorarforderung fällig?\nWelche Kriterien gelten für die Prüffähigkeit?\nWas ist bei fehlender Prüffähigkeit der Rechnung?\n\nII. Welche Abrechnungsgrundlagen sind inhaltlich wichtig?\n\nNach welchen Vorgaben sind die anrechenbaren Kosten zu ermitteln?\nWann kommt eine Honorarreduzierung bei Teilleistungen in Betracht?\nWann sind die anrechenbaren Kosten der technischen Ausrüstung bei Architekten- bzw. Ingenieurleistungen zu berücksichtigen?\nWelche Vorgaben gelten für die richtige Ermittlung der Honorarzone?\nBerücksichtigung der Honorarabrechnungsparameter – Beispielrechnung\nWie werden Nebenkosten abgerechnet?\nWarum ist die objektbezogene Trennung wichtig?\n\n  \nDiese Veranstaltung wird von der Ingenieurkammer Thüringen mit 3 WB-Stunden anerkannt. \nDie weiteren Module finden Sie hier.
URL:https://ikth.de/startseite/event/grundlagen-des-architekten-und-ingenieurvertrages-sowie-neue-honorarordnung-2021-modul-2-von-3/2025-02-05/
CATEGORIES:Honorare,Online-Veranstaltung,Seminar
END:VEVENT
BEGIN:VEVENT
DTSTART;TZID=Europe/Berlin:20250206T140000
DTEND;TZID=Europe/Berlin:20250206T160000
DTSTAMP:20260424T160228
CREATED:20250114T102408Z
LAST-MODIFIED:20250114T102408Z
UID:7901-1738850400-1738857600@ikth.de
SUMMARY:Grundlagen des Architekten- und Ingenieurvertrages sowie neue Honorarordnung 2021 Modul 3 von 3
DESCRIPTION:Bauen im Bestand und planerische Nachtragsleistungen\nI. Welche Vereinbarungen sind für das „Bauen im Bestand“ zu treffen?\n\nInwieweit ist mitzuverarbeitende vorhandene Bausubstanz bei den anrechenbaren Kosten berücksichtigungsfähig?\nWann und in welcher Höhe kommt ein Umbauzuschlag in Betracht?\nWas ist\, wenn kein Umbauzuschlag vereinbart ist?\nNEU: Welche Möglichkeiten eröffnen sich durch die HOAI ab dem 01.01.2021?\n\nII. Wie werden planerische Nachtragsleistungen abgerechnet?\n\nWas sind überhaupt Nachträge im Planungsbereich?\nWo liegen die Unterschiede zwischen Varianten und Alternativen?\nWie gestaltet sich die Vergütung bei Leistungserweiterungen?\nWie gestaltet sich die Vergütung bei Leistungsänderungen?\nWie werden „Besondere Leistungen“ abgerechnet?\nWie wird die Nachtragsprüfung der bauausführenden Unternehmen vergütet?\n\nIII. Grundlagen zur angemessenen Honorarermittlung für Planerleistungen\n\nNEU: Welche Möglichkeiten ergeben sich aus der HOAI 2021?\nWelche Kosten fallen wann\, wo und wie an?\nAuf welchen Vorgaben sollte die Vergütungskalkulation aufbauen?\n\n  \nDiese Veranstaltung wird von der Ingenieurkammer Thüringen mit 3 WB-Stunden anerkannt. \nDie weiteren Module finden Sie hier.
URL:https://ikth.de/startseite/event/grundlagen-des-architekten-und-ingenieurvertrages-sowie-neue-honorarordnung-2021-modul-3-von-3/2025-02-06/
CATEGORIES:Honorare,Online-Veranstaltung,Seminar
END:VEVENT
END:VCALENDAR