BEGIN:VCALENDAR
VERSION:2.0
PRODID:-//Ingenieurkammer Thüringen - ECPv5.8.0//NONSGML v1.0//EN
CALSCALE:GREGORIAN
METHOD:PUBLISH
X-WR-CALNAME:Ingenieurkammer Thüringen
X-ORIGINAL-URL:https://ikth.de/startseite
X-WR-CALDESC:Events for Ingenieurkammer Thüringen
BEGIN:VTIMEZONE
TZID:Europe/Berlin
BEGIN:DAYLIGHT
TZOFFSETFROM:+0100
TZOFFSETTO:+0200
TZNAME:CEST
DTSTART:20260329T010000
END:DAYLIGHT
BEGIN:STANDARD
TZOFFSETFROM:+0200
TZOFFSETTO:+0100
TZNAME:CET
DTSTART:20261025T010000
END:STANDARD
END:VTIMEZONE
BEGIN:VEVENT
DTSTART;TZID=Europe/Berlin:20260318T080000
DTEND;TZID=Europe/Berlin:20260518T140000
DTSTAMP:20260421T021958
CREATED:20251208T143657Z
LAST-MODIFIED:20251209T093118Z
UID:9512-1773820800-1779112800@ikth.de
SUMMARY:Tragwerksplaner/in in der Denkmalpflege - Bestandsaufnahme und Voruntersuchung
DESCRIPTION:Themen Seminarblock  2: \n\nMethodik der Aufnahme\nUntersuchung und Bewertung historischer Tragwerke\nAuswerten und Einbeziehen von Ergebnissen der Quellen und Bauforschung\nRestauratorische Untersuchungen\nBauphysikalische\, bauchemische und baubiologische Voruntersuchungen\nErstellen von statisch-konstruktiven Bestandsaufnahmen\nStatisch-konstruktive Bestandsaufnahme und deren Wertung\nWeiterbearbeitung alter Befunde\nModifikation und Ergänzung vorhandener Pläne und Dokumentationen\nBautechnische Voruntersuchungen\nZiele und technische Möglichkeiten\nDokumentation\, Analyse und Weiterverarbeitung der Ergebnisse\nUntersuchungsmethoden\nBestimmung von Materialkennwerten und -zuständen durch Bohrwiderstandsmessung\nEndoskopie\nProbeentnahme und Laboranalyse\nSchwingungsmessung\, Ultraschall\, Mikrowelle\nAugenscheinliche und handwerkliche Untersuchung\n\nZertifikatslehrgang in 8 Seminarblöcken / Einstieg jederzeit möglich \nZur Anmeldung kommen Sie hier. \nDiese Veranstaltung wird von der Ingenieurkammer Thüringen anerkannt.
URL:https://ikth.de/startseite/event/tragwerksplaner-in-in-der-denkmalpflege-bestandsaufnahme-und-voruntersuchung-2/
CATEGORIES:Online-Veranstaltung,Seminar,Sonstiges,Tragwerksplanung
END:VEVENT
BEGIN:VEVENT
DTSTART;TZID=Europe/Berlin:20260327T083000
DTEND;TZID=Europe/Berlin:20260327T123000
DTSTAMP:20260421T021958
CREATED:20260320T082732Z
LAST-MODIFIED:20260320T082732Z
UID:14618-1774600200-1774614600@ikth.de
SUMMARY:Brandschutz im Holzbau – Die Planungsgrenzen haben sich verschoben!
DESCRIPTION:[vc_row][vc_column][vc_column_text css=““] \n\n\nAuf folgende Inhalte kannst Du Dich freuen:\n\n\n\n\nWerde zum Profi für Brandschutz im Holzbau – Sei bei unserer Fortbildung dabei! \nIn der Fortbildung „Brandschutz im Holzbau – Alte Planungsgrenzen haben sich verschoben“ von Würth wirst Du die neuesten Entwicklungen und Anforderungen im Holzbau kennenlernen. Entdecke\, wie sich die baurechtlichen Rahmenbedingungen durch die Musterbauordnung MBO 2019 und die neue Holzbaurichtlinie MHolzBauRL verändert haben. Erfahre\, welche neuen Voraussetzungen für Gebäude der Klasse 5 gelten und wie Du als Planer die Brandschutzanforderungen im Holzbau erfolgreich umsetzt. Wir bieten Dir praxisnahe Einblicke in die Grundprinzipien des Brandschutzes\, die Durchführung der Nachweise und technische Baubestimmungen. Lerne\, wie Du wichtige Ausführungsdetails\, Abschottungen und Befestigungen an Holzbauteilen korrekt planst und umsetzt. Sei dabei\, wenn es darum geht\, alte Planungsgrenzen neu zu definieren und Dich auf die aktuellen Anforderungen im Holzbau vorzubereiten. Melde Dich jetzt an und nutze die Gelegenheit\, Dein Wissen auf den neuesten Stand zu bringen! \nWeitere Informationen finden Sie unter: https://www.wirliebenbau.de/online-veranstaltung-brandschutz-im-holzbau/ \n\nDiese Veranstaltung wird mit 5 Weiterbildungsstunden anerkannt.\n\n[/vc_column_text][/vc_column][/vc_row]
URL:https://ikth.de/startseite/event/brandschutz-im-holzbau-die-planungsgrenzen-haben-sich-verschoben/2026-03-27/
LOCATION:Online
CATEGORIES:Brandschutz,Holzbau,Online-Veranstaltung
END:VEVENT
END:VCALENDAR