BEGIN:VCALENDAR
VERSION:2.0
PRODID:-//Ingenieurkammer Thüringen - ECPv5.8.0//NONSGML v1.0//EN
CALSCALE:GREGORIAN
METHOD:PUBLISH
X-WR-CALNAME:Ingenieurkammer Thüringen
X-ORIGINAL-URL:https://ikth.de/startseite
X-WR-CALDESC:Events for Ingenieurkammer Thüringen
BEGIN:VTIMEZONE
TZID:Europe/Berlin
BEGIN:DAYLIGHT
TZOFFSETFROM:+0100
TZOFFSETTO:+0200
TZNAME:CEST
DTSTART:20250330T010000
END:DAYLIGHT
BEGIN:STANDARD
TZOFFSETFROM:+0200
TZOFFSETTO:+0100
TZNAME:CET
DTSTART:20251026T010000
END:STANDARD
END:VTIMEZONE
BEGIN:VEVENT
DTSTART;TZID=Europe/Berlin:20250605T100000
DTEND;TZID=Europe/Berlin:20250605T130000
DTSTAMP:20260423T105749
CREATED:20250113T074610Z
LAST-MODIFIED:20250113T074610Z
UID:7805-1749117600-1749128400@ikth.de
SUMMARY:Brandschutz im Zoom: Bestandsgebäude auf- und umrüsten (brandschutztechnische Ertüchtigung)
DESCRIPTION:Dauer\nInhalte\n\n\n10 Minuten\nBegrüßung und Vorstellung der Referenten\n\n\nGEZE \n40 Minuten\n–     Nachrüstung von Automatiktüren: Was ist erlaubt\, welche Normen sind aktuell anzuwenden und wo kann es zu Herausforderungen kommen? \n–     Wir beleuchten die Planung von der Bestandsaufnahme bis zum Einbau.\n\n\n5 Minuten\nBeantwortung der Fragen ! Diskussion\n\n\nTreppenmeister\n40 Minuten\n–     Allgemeines über Brandschutztreppen aus Holz \n–     Einsatzmöglichkeiten von F30-Brandschutztreppen \n–     Rechtliche Rahmenbedingungen \n–     Nachweise und Prüfverfahren \n–     Ausführung und Anforderungen \n–     Projektablauf – von der Anforderung bis zur Ausführung\n\n\n5 Minuten\nBeantwortung der Fragen ! Diskussion\n\n\nPriorit \n40 Minuten\n–     Beispiele für bauliche Problemstellungen \n–     Erfahrungen aus dem beruflichen Alltag \n–    Klärung Bestandsschutz \n–    Abgleich mit der bauzeitlich gültigen Bauordnung \n–    Einwände gegen Bestandsschutz \n–     Möglicher Umgang und Auswirkungen \n–    bei baulichen Veränderungen im Bestand \n–    mit Hinweis auf konkrete Gefährdung \n–    mit Forderungen nach Begehung \n–    mit der Benennung zusätzlicher Schutzziele durch den Versicherer !      Nutzer ! Auftraggeber \n–    bei einer Nutzungsänderung \n–     Zwischenfazit – ist der Bestandsschutz gegeben?\n\n\n\n  \n  \n\n\n\n \n–     Brandschutzplanung neu \n–    Gebäudeklasse -* Anforderung an Bauteile \n–    Bestandsaufnahme Gebäude gesamt \n–    BauO -* VV TB \n–    MLAR \n–     Überprüfung der baulichen Gegebenheiten \n–     Systemvergleich \n–    Massivwand! Trockenbauwand! Systemwand \n–    Feuerschutzabschluss! Schachtöffnungsabschluss \n–    Einzelnachweise!Nachweisführung im System \n–     Beispiele gebauter Lösungen \n–    Verteiler im Treppenraum \n–    Installationsschacht im Treppenraum \n–    Nachträglicher Abströmschacht \n–    Sonderlösung Labor \n–    Lösungen für den Denkmalschutz\n\n\n5 Minuten\nBeantwortung der Fragen ! Diskussion\n\n\nWichmann\n40 Minuten\nPlanung und Anwendung von Kabelboxen zur Brandabschottung in der Elektroinstallation in Bestandsgebäuden–     Bauordnungsrechtliche Anforderungen \n–     Herausforderungen bei der Umsetzung der Anforderungen im Bestand \n–     Nachhaltiger Brandschutz: Anspruch und Möglichkeiten \n–     Typische Planungs- und Einbaufehler aus der Praxis \n–     Erleichterungen bei der Brandschutz- und Elektroplanung mit       Kabelboxen \n–     Praxisgerechte Lösungsmöglichkeiten mit Kabelboxen \n–     Tipps für den Umgang mit Regelwerken \n–     Möglichkeiten zu Abweichungen bei der Planung und Verwendung von Kabelboxen\n\n\n5 Minuten\nBeantwortung der Fragen ! Diskussion\n\n\n10 Minuten\nVerabschiedung und Abmoderation\n\n\n\n  \nDie Online-Veranstaltung finden Sie unter: https://www.wirliebenbau.de/online-veranstaltung-brandschutz-im-zoom-bestandsgebaeude-auf-und-umruesten-brandschutztechnische-ertuechtigung/ \nBei dieser Veranstaltung werden 4 WB – Stunden von der Ingenieurkammer Thüringen anerkannt.
URL:https://ikth.de/startseite/event/brandschutz-im-zoom-bestandsgebaeude-auf-und-umruesten-brandschutztechnische-ertuechtigung/
CATEGORIES:Brandschutz,Online-Veranstaltung,Webinar
END:VEVENT
END:VCALENDAR