BEGIN:VCALENDAR
VERSION:2.0
PRODID:-//Ingenieurkammer Thüringen - ECPv5.8.0//NONSGML v1.0//EN
CALSCALE:GREGORIAN
METHOD:PUBLISH
X-WR-CALNAME:Ingenieurkammer Thüringen
X-ORIGINAL-URL:https://ikth.de/startseite
X-WR-CALDESC:Events for Ingenieurkammer Thüringen
BEGIN:VTIMEZONE
TZID:Europe/Berlin
BEGIN:DAYLIGHT
TZOFFSETFROM:+0100
TZOFFSETTO:+0200
TZNAME:CEST
DTSTART:20250330T010000
END:DAYLIGHT
BEGIN:STANDARD
TZOFFSETFROM:+0200
TZOFFSETTO:+0100
TZNAME:CET
DTSTART:20251026T010000
END:STANDARD
END:VTIMEZONE
BEGIN:VEVENT
DTSTART;TZID=Europe/Berlin:20250417T100000
DTEND;TZID=Europe/Berlin:20250417T121500
DTSTAMP:20260422T200028
CREATED:20250407T082351Z
LAST-MODIFIED:20250407T082351Z
UID:8649-1744884000-1744892100@ikth.de
SUMMARY:Brandschutz im Zoom: Vom Türsystem bis zur Fassade – Alles über Brandschutzabschlüsse
DESCRIPTION:Auf folgende Inhalte kannst Du Dich freuen:\n  \n\n\n\n\nWerde Profi für Brandschutz und Türlösungen – Sei bei unserer Fortbildung dabei!\n  \nIn der Fortbildung von Hörmann KG Verkaufsgesellschaft lernst Du die Grundlagen für Feuer- und Rauchschutzabschlüsse kennen. Erfahre\, wie sich Innen- und Außentüren normativ unterscheiden\, welche Leistungseigenschaften und CE-Kennzeichen relevant sind und was du über Stahlblechtüren\, Rohrrahmenelemente sowie Feuer- und Rauchschutztore wissen musst. Zudem bekommst Du wertvolle Praxistipps\, die dich im Planungsalltag unterstützen. \nGleichzeitig zeigt Dir neuform-Türenwerk Hans Glock GmbH & Co. KG\, worauf es bei modernen Türlösungen ankommt. Erfahre mehr über Ausführungsarten\, Türfunktionen und Regelwerke sowie die Anforderungen an Brandschutz und Rauchschutz. Zudem bekommst Du wertvolle Einblicke in Zulassungen (ZiE) und Türelement-Komponenten – von Zarge und Türblatt bis zu weiteren Bauteilen. \nErfahre von Schüco International KG\, welche Anforderungen und Nachweise bei Brandschutzfassaden entscheidend sind – von der CE-Kennzeichnung bis zur nationalen Zulassung. Wir beleuchten den sicheren Übergang von F0 zu F90 sowie die Integration von Feuerschutzabschlüssen in Brandschutzfassaden. Zudem erhältst Du Einblicke in Lösungen für anspruchsvolle Brandschutz-Dachverglasungen und deren fachgerechte Umsetzung. \n\n\n\n\nNutze diese Gelegenheit\, um Dein Fachwissen zu erweitern und praxisnahe Lösungen für sichere und normgerechte Türsysteme kennenzulernen. Melde Dich jetzt an! \n\n\n\n\n\nIm Laufe der Fortbildung:\n\n\n  \n\n\n\n\nHörmann KG Verkaufsgesellschaft\n  \n\nGrundlagen für Feuer- und Rauchschutzabschlüsse\nNormative Unterscheidung Innen- und Außentüren\nLeistungseigenschaften & CE-Kennzeichen\nStahlblechtüren und Rohrrahmenelemente\nFeuer- und Rauchschutztore\nPraxistipps für den Planungsalltag\n\nSchüco International KG \n\nBrandschutzfassaden\, Zulassung oder CE-Kennzeichnung\nBrandschutzfassaden – Übergang von F0 zu F-90\nFeuerschutzabschlüße in BS-Fassaden\nBrandschutzdachverglasungen\n\n\n\nneuform-Türenwerk Hans Glock GmbH & Co. KG\n\nAusführungsarten (Türarten\, Festverglasung)\nTürfunktionen & Regelwerke\n\nBrandschutz\, Rauchschutz\nergänzende Funktionen / Eigenschaften\nZulassungen / ZiE…\n\n\n Türelement-Komponenten\n\n\n\nZarge\nTürblatt\nKomponenten\n\n\n\n\n\n  \n  \n \n\n\n\n  \nWeitere Informationen sowie die Anmeldung finden Sie hier. \nDiese Veranstaltung wird von der Ingenieurkammer Thüringen mit 3 WB – Stunden anerkannt.
URL:https://ikth.de/startseite/event/brandschutz-im-zoom-vom-tuersystem-bis-zur-fassade-alles-ueber-brandschutzabschluesse/
CATEGORIES:Barrierefrei,Bauwesen,Brandschutz,DIN,Online-Veranstaltung,Webinar
END:VEVENT
END:VCALENDAR