BEGIN:VCALENDAR
VERSION:2.0
PRODID:-//Ingenieurkammer Thüringen - ECPv5.8.0//NONSGML v1.0//EN
CALSCALE:GREGORIAN
METHOD:PUBLISH
X-WR-CALNAME:Ingenieurkammer Thüringen
X-ORIGINAL-URL:https://ikth.de/startseite
X-WR-CALDESC:Veranstaltungen für Ingenieurkammer Thüringen
BEGIN:VTIMEZONE
TZID:Europe/Berlin
BEGIN:DAYLIGHT
TZOFFSETFROM:+0100
TZOFFSETTO:+0200
TZNAME:CEST
DTSTART:20220327T010000
END:DAYLIGHT
BEGIN:STANDARD
TZOFFSETFROM:+0200
TZOFFSETTO:+0100
TZNAME:CET
DTSTART:20221030T010000
END:STANDARD
END:VTIMEZONE
BEGIN:VEVENT
DTSTART;TZID=Europe/Berlin:20221125T133000
DTEND;TZID=Europe/Berlin:20221125T150000
DTSTAMP:20260424T004720
CREATED:20221109T121648Z
LAST-MODIFIED:20221109T121648Z
UID:4556-1669383000-1669388400@ikth.de
SUMMARY:Webinar - Bauleitung juristisch richtig
DESCRIPTION:Bildungsträger: Wienerberger GmbH\nVeranstaltungsart: Online-Format\nVeranstaltungstitel: Bauleitung juristisch richtig\nBeginnend: 25.11.2022\, 13:30 bis 15:00 Uhr (90 min)\nReferent:in: Herr Dipl.-Ing. (FH) Andresa Fligg\nAngaben Referent:in:\nRechtsanwalt und Bauingenieur Andreas Fligg beleuchtet die Tätigkeiten der Bauleitung von der Ausschreibung\nbis zur Bauüberwachung und zeigt praxisnah\, wie der richtige Umgang mit dem Bauvertragsrecht aussieht\nInhalte: Wer hätte gedacht\, dass es in der Bauleitung neben dem entsprechenden fachlichen Know-how mehr\nund mehr auch eines fundierten juristischen Wissens bedarf? Es ist wie immer: Die Zeiten ändern sich und heute\nist eine tiefgreifende Kenntnis des Bauvertragsrechts im Zuge einer erfolgreichen Projektabwicklung eigentlich\nunabdingbar. Nachträge\, der Umgang mit Behinderungen und Mängelanzeigen\, die Abnahme der\nBauleistungen … die Liste der möglichen Fallstricke von der Ausschreibung bis zur Bauüberwachung ist lang.\n„Mein Ziel besteht darin\, BauleiterInnen den richtigen Umgang mit dem Bauvertragsrecht nahezubringen.“\nDer Fachanwalt für Bau- und Architektenrecht Andreas Fligg gibt in diesem kompakten Online-Seminar\npraxisnah konkrete Antworten auf die Fragestellungen rund um:\n• Definition des Bauvertrages als besonders ausgestalteter Werkvertrag\n• Anordnungsrecht des Auftraggebers und Recht zur Änderung des Vertrages\n• Behinderungen der Leistungen\n• Abnahme und Zustandsfeststellung bei Verweigerung der Abnahme\n• Verpflichtung zur Erstellung einer prüfbaren Abrechnung\n• Vereinbarung der VOB/B\n• Besonderheiten bei der Bauleitung unter Berücksichtigung der VOB/B\nVeranstaltungslink: https://wienerberger-wissen.de/online-fortbildungen/bauleitung-juristisch-richtig/\nAblauf:\n13:30–14:45 Uhr: Vortrag\n14:45–15:00 Uhr: Diskussion via Chatfunktion\nPräsenz-Tracking:\nFür die Ausstellung der Teilnahmebestätigung zur Vergabe von Fortbildungspunkten muss die teilnehmende\nPerson nachweislich an der Online-Live-Fortbildung teilgenommen haben. Zum Nachweis werden im Verlauf der\nOnline-Fortbildung zwei kurze Umfragen eingespielt\, die von Ihnen in einem bestimmten Zeitfenster\nbeantwortet werden müssen. Die Umfragen dienen lediglich zur Abfrage der Teilnahme und werden nicht weiter\nausgewertet oder verwendet. Nur wenn an beiden Umfragen teilgenommen wurde\, wird die Teilnahme durch\ndie Ingenieure und Architektenkammern anerkannt. \nDie Veranstaltung ist mit 2 Weiterbildungsstunden á 45 min. anerkannt.
URL:https://ikth.de/startseite/event/webinar-bauleitung-juristisch-richtig/
LOCATION:Online
CATEGORIES:Baurecht,Bauwesen,Online-Veranstaltung,Webinar
END:VEVENT
END:VCALENDAR