BEGIN:VCALENDAR
VERSION:2.0
PRODID:-//Ingenieurkammer Thüringen - ECPv5.8.0//NONSGML v1.0//EN
CALSCALE:GREGORIAN
METHOD:PUBLISH
X-WR-CALNAME:Ingenieurkammer Thüringen
X-ORIGINAL-URL:https://ikth.de/startseite
X-WR-CALDESC:Veranstaltungen für Ingenieurkammer Thüringen
BEGIN:VTIMEZONE
TZID:Europe/Berlin
BEGIN:DAYLIGHT
TZOFFSETFROM:+0100
TZOFFSETTO:+0200
TZNAME:CEST
DTSTART:20210328T010000
END:DAYLIGHT
BEGIN:STANDARD
TZOFFSETFROM:+0200
TZOFFSETTO:+0100
TZNAME:CET
DTSTART:20211031T010000
END:STANDARD
END:VTIMEZONE
BEGIN:VEVENT
DTSTART;TZID=Europe/Berlin:20210929T100000
DTEND;TZID=Europe/Berlin:20210929T113000
DTSTAMP:20260423T172300
CREATED:20210902T084622Z
LAST-MODIFIED:20210902T084707Z
UID:2815-1632909600-1632915000@ikth.de
SUMMARY:Wärmepumpen-Effizienzkonzepte für Neubau und Bestand
DESCRIPTION:Link zur Veranstaltung  \nAnerkannt durch IKTh mit 2 WBs
URL:https://ikth.de/startseite/event/waermepumpen-effizienzkonzepte-fuer-neubau-und-bestand-2/
LOCATION:Online
CATEGORIES:Online-Veranstaltung
END:VEVENT
END:VCALENDAR