BEGIN:VCALENDAR
VERSION:2.0
PRODID:-//Ingenieurkammer Thüringen - ECPv5.8.0//NONSGML v1.0//EN
CALSCALE:GREGORIAN
METHOD:PUBLISH
X-WR-CALNAME:Ingenieurkammer Thüringen
X-ORIGINAL-URL:https://ikth.de/startseite
X-WR-CALDESC:Veranstaltungen für Ingenieurkammer Thüringen
BEGIN:VTIMEZONE
TZID:Europe/Berlin
BEGIN:DAYLIGHT
TZOFFSETFROM:+0100
TZOFFSETTO:+0200
TZNAME:CEST
DTSTART:20220327T010000
END:DAYLIGHT
BEGIN:STANDARD
TZOFFSETFROM:+0200
TZOFFSETTO:+0100
TZNAME:CET
DTSTART:20221030T010000
END:STANDARD
END:VTIMEZONE
BEGIN:VEVENT
DTSTART;TZID=Europe/Berlin:20221102T100000
DTEND;TZID=Europe/Berlin:20221102T131500
DTSTAMP:20260424T133504
CREATED:20220915T090429Z
LAST-MODIFIED:20220915T091901Z
UID:4426-1667383200-1667394900@ikth.de
SUMMARY:VOB/B kompakt für Profis - Rechtssicherheit und Handlungsoptionen für die erfolgreiche Bauabwicklung
DESCRIPTION:Ziel des Webinars ist die rechtssichere und je nach Situation optimale Anwendung der Regelungen der VOB/B. Die Kenntnis von unterschiedlichen Auslegungen durch die Gerichte\, das Ausloten der Spielräume und das Wissen um die Lücken der VOB/B ermöglichen es den Baubeteiligten\, ihre Chancen zu wahren\, Risiken bei der Bauabwicklung zu minimieren und Krisen zu bewältigen. Dazu werden alle Vorschriften vorgestellt (Überraschungen garantiert)\, anhand praktischer Fälle erläutert und die aktuelle Rechtsprechung in verständlicher Form erklärt. \nDer Fokus liegt dabei nicht nur auf den einzelnen Paragraphen\, sondern auch auf dem Gesamtkontext der VOB/B zum Bauvertragsrecht. \n\nInhalt \n\nTeil 1 am 02.11.2022 von 10:00 – 13:15 Uhr \n\nDer Bauvertrag (Einheitspreisvertrag\, Pauschalvertrag\, Mischformen)\nDie VOB/B als Allgemeine Geschäftsgrundlage\nDie VOB/B „als Ganzes“ – Folgen von Abweichungen im Bauvertrag (Chancen und Risiken)\nDie VOB/C (automatische Geltung bei Vereinbarung der VOB/B)\nDie Vergütungsregeln der VOB/B (Nachträge\, Mehrmengen\, Stundenlohn etc.)\nPflichten des Auftragnehmers\nPflichten/Mitwirkungen des Auftraggebers\nDie Bauzeit – überwindbare Hürden für Bauzeitnachträge\n\nTeil 2 am 09.11.2022 von 10:00 – 13:15 Uhr \n\nGefahrtragungsregeln einschließlich höhere Gewalt\, Schäden durch Unwetter\, Beschädigung durch Dritte\nKündigung des Bauvertrages\nHaftung und Gewährleistung\nAbnahme der Bauleistung\nDie Bezahlung der Bauleistung (Zahlungsvoraussetzungen bei Abschlagsrechnung\, Schlussrechnung)\nSicherheiten\nProzessuales (Gerichtsstand\, § 18 Abs. 2-Verfahren bei öffentlichem Auftraggeber)\nErgänzendes aus dem BGB\n\n\nTeilnehmerkreis \nBau- und Projektleiter\, Bautechniker\, Baustellenführungspersonal\, Architekten und Ingenieure sowie Bauüberwacher aus Bauunternehmen\, Bauträgergesellschaften\, Architektur- und Ingenieurbüros\n\nDie Veranstaltung ist durch die IKTh anerkannt mit 8 WBStunden.\n\nAnmeldung
URL:https://ikth.de/startseite/event/vob-b-kompakt-fuer-profis-rechtssicherheit-und-handlungsoptionen-fuer-die-erfolgreiche-bauabwicklung/2022-11-02/
LOCATION:Online
CATEGORIES:Baurecht,Bauwesen,Online-Veranstaltung,Webinar
ORGANIZER;CN="Bauakademie%20Sachsen":MAILTO:info@bauakademie-sachsen.de
END:VEVENT
END:VCALENDAR