BEGIN:VCALENDAR
VERSION:2.0
PRODID:-//Ingenieurkammer Thüringen - ECPv5.8.0//NONSGML v1.0//EN
CALSCALE:GREGORIAN
METHOD:PUBLISH
X-WR-CALNAME:Ingenieurkammer Thüringen
X-ORIGINAL-URL:https://ikth.de/startseite
X-WR-CALDESC:Veranstaltungen für Ingenieurkammer Thüringen
BEGIN:VTIMEZONE
TZID:Europe/Berlin
BEGIN:DAYLIGHT
TZOFFSETFROM:+0100
TZOFFSETTO:+0200
TZNAME:CEST
DTSTART:20230326T010000
END:DAYLIGHT
BEGIN:STANDARD
TZOFFSETFROM:+0200
TZOFFSETTO:+0100
TZNAME:CET
DTSTART:20231029T010000
END:STANDARD
END:VTIMEZONE
BEGIN:VEVENT
DTSTART;VALUE=DATE:20231102
DTEND;VALUE=DATE:20231103
DTSTAMP:20260421T183242
CREATED:20231101T130853Z
LAST-MODIFIED:20231101T131020Z
UID:5776-1698883200-1698969599@ikth.de
SUMMARY:VOB/A Seminar
DESCRIPTION:Bau- und Vergaberecht VOB/A – Vergabe von Bauleistungen \n\n\n\n\n\nSeminarleiter:\nHerr Scheid\n\n\nZeitraum:\n02.11.2023\n\n\nOrt:\nRadisson Blu Hotel Erfurt\n\n\nFreie Plätze:\n2\n\n\nPreis für Mitglieder:\n€ 20\,00\n\n\nPreis für Gäste:\n€ 90\,00\n\n\n\n\n  \nDie Veranstaltung ist durch die IKTh mit 7 Weiterbildungsstunden anerkannt. \n  \nWeitere Informationen
URL:https://ikth.de/startseite/event/vob-a-seminar/
LOCATION:Radisson Blu Hotel Erfurt
CATEGORIES:Baurecht,Bauwesen,Seminar
END:VEVENT
END:VCALENDAR