BEGIN:VCALENDAR
VERSION:2.0
PRODID:-//Ingenieurkammer Thüringen - ECPv5.8.0//NONSGML v1.0//EN
CALSCALE:GREGORIAN
METHOD:PUBLISH
X-WR-CALNAME:Ingenieurkammer Thüringen
X-ORIGINAL-URL:https://ikth.de/startseite
X-WR-CALDESC:Veranstaltungen für Ingenieurkammer Thüringen
BEGIN:VTIMEZONE
TZID:Europe/Berlin
BEGIN:DAYLIGHT
TZOFFSETFROM:+0100
TZOFFSETTO:+0200
TZNAME:CEST
DTSTART:20240331T010000
END:DAYLIGHT
BEGIN:STANDARD
TZOFFSETFROM:+0200
TZOFFSETTO:+0100
TZNAME:CET
DTSTART:20241027T010000
END:STANDARD
END:VTIMEZONE
BEGIN:VEVENT
DTSTART;TZID=Europe/Berlin:20241030T100000
DTEND;TZID=Europe/Berlin:20241030T143000
DTSTAMP:20260424T062011
CREATED:20241030T094216Z
LAST-MODIFIED:20241030T094216Z
UID:7610-1730282400-1730298600@ikth.de
SUMMARY:Systembeispiele für Sicherheitsanforderungen „Multifunktionale Lösungen einfach erklärt"
DESCRIPTION:Die Veranstaltung findet Live über GoToWebinar statt. Die Teilnehmer können sich selbstständig über unsere Homepage anmelden. Die Teilnehmerdauer wird über GoToWebinar erfasst und ebenso wie alle gestellten Fragen und Kurzumfragen in einer Excel dargestellt. Die Teilnehmer\, welche vollständig anwesend waren\, erhalten im Nachgang eine Teilnehmerbestätigung ausgestellt. Die Teilnehmer können über die Chat-Funktion mit den Referenten in Interaktion treten. Die Teilnehmer können von dem Moderator ebenfalls das Mikrofon freigeschaltet bekommen. Fragen werden direkt an die Referenten weitergegeben und beantwortet. Dies Erfolgt just in dem Moment\, in dem die Frage gestellt wird. Die Teilnehmer erhalten die Seminarunterlagen zum Download zur Verfügung gestellt. Alle technischen Möglichkeiten werden den Teilnehmern zu Beginn der Veranstaltung erklärt und aufgezeigt. Ein technischer Support und die Betreuung durch einen Moderator findet statt. \nzur Anmeldung \nDiese Veranstaltung wird durch die Ingenieurkammer Thüringen mit 6 WB-Stunden anerkannt.
URL:https://ikth.de/startseite/event/systembeispiele-fuer-sicherheitsanforderungen-multifunktionale-loesungen-einfach-erklaert/
CATEGORIES:Sonstiges
END:VEVENT
END:VCALENDAR