BEGIN:VCALENDAR
VERSION:2.0
PRODID:-//Ingenieurkammer Thüringen - ECPv5.8.0//NONSGML v1.0//EN
CALSCALE:GREGORIAN
METHOD:PUBLISH
X-WR-CALNAME:Ingenieurkammer Thüringen
X-ORIGINAL-URL:https://ikth.de/startseite
X-WR-CALDESC:Veranstaltungen für Ingenieurkammer Thüringen
BEGIN:VTIMEZONE
TZID:Europe/Berlin
BEGIN:DAYLIGHT
TZOFFSETFROM:+0100
TZOFFSETTO:+0200
TZNAME:CEST
DTSTART:20220327T010000
END:DAYLIGHT
BEGIN:STANDARD
TZOFFSETFROM:+0200
TZOFFSETTO:+0100
TZNAME:CET
DTSTART:20221030T010000
END:STANDARD
END:VTIMEZONE
BEGIN:VEVENT
DTSTART;VALUE=DATE:20220927
DTEND;VALUE=DATE:20220928
DTSTAMP:20260424T141543
CREATED:20220704T124005Z
LAST-MODIFIED:20220704T124415Z
UID:4103-1664236800-1664323199@ikth.de
SUMMARY:Soprema Fachseminar für Architekten und Planer
DESCRIPTION:Mit Know-how beste Ergebnisse erzielen\, das ist das Motto der SOPREMA Fortbildungsangebote für Architekten und Planer. Besuchen Sie unsere Fachseminare\, machen Sie sich praktisch fit in einem praxisorientierten Workshop oder fragen Sie uns nach Inhouse-Seminaren in Ihrem Unternehmen. \n  \nInfos zus Veranstaltung \nDie Weiterbildung ist mit 8 WB Stunden anerkannt durch die IKTH.
URL:https://ikth.de/startseite/event/soprema-fachseminar-fuer-architekten-und-planer/
CATEGORIES:Baurecht,Kongress,Nachhaltigkeit
END:VEVENT
END:VCALENDAR