BEGIN:VCALENDAR
VERSION:2.0
PRODID:-//Ingenieurkammer Thüringen - ECPv5.8.0//NONSGML v1.0//EN
CALSCALE:GREGORIAN
METHOD:PUBLISH
X-WR-CALNAME:Ingenieurkammer Thüringen
X-ORIGINAL-URL:https://ikth.de/startseite
X-WR-CALDESC:Veranstaltungen für Ingenieurkammer Thüringen
BEGIN:VTIMEZONE
TZID:Europe/Berlin
BEGIN:DAYLIGHT
TZOFFSETFROM:+0100
TZOFFSETTO:+0200
TZNAME:CEST
DTSTART:20260329T010000
END:DAYLIGHT
BEGIN:STANDARD
TZOFFSETFROM:+0200
TZOFFSETTO:+0100
TZNAME:CET
DTSTART:20261025T010000
END:STANDARD
END:VTIMEZONE
BEGIN:VEVENT
DTSTART;TZID=Europe/Berlin:20260313T083000
DTEND;TZID=Europe/Berlin:20260313T164500
DTSTAMP:20260421T164131
CREATED:20251105T113649Z
LAST-MODIFIED:20251105T113700Z
UID:9397-1773390600-1773420300@ikth.de
SUMMARY:SIGA Fachseminar in der SIGA Academy «Fenster und Fassade»
DESCRIPTION:Unterrichtseinheit durch SIGA Anwendungstechnik zum Themenkomplex: «Bauphysik» \nProduktionsrundgang: \n• Herstellungstechnologie für Bahnen der Gebäudehülle und Klebemittel für die Luft- und Winddichte Gebäudehülle \n• Produktionsphilosophie: TPS \n• Qualitätssicherungsverfahren \n  \nUnterrichtseinheit durch SIGA Anwendungstechnik zum Themenkomplex: «Bauphysik» und «Konstruktionsdetails» \n  \nUnterrichtseinheit durch SIGA Labormitarbeiter (Doktor der Chemie) zum Themenkomplex: «Labormessungen» \n  \nUnterrichtseinheit durch SIGA Anwendungstechnik Trocknungsreserve berücksichtigen \n• Die geplanten Konstruktionsdetails werden praktisch an Baustell-Modellen ausgeführt und hinsichtlich Ausführungsqualität beurteilt \n  \nUnterrichtseinheit durch SIGA Anwendungstechnik Trocknungsreserve berücksichtigen \n• Die geplanten Konstruktionsdetails werden praktisch an Baustell-Modellen ausgeführt und hinsichtlich Ausführungsqualität beurteilt \n  \nUnterrichtseinheit durch SIGA Anwendungstechniker (zertifizierter Luftdichtheitsmesser und FliB Mitglied) zum Themenkomplex: «Druckdifferenzmessverfahren» \n  \nzur Anmeldung geht es hier. \nDiese Veranstaltung wird mit 8 Weiterbildungsstunden anerkannt.\n  \n  \n  \n 
URL:https://ikth.de/startseite/event/siga-fachseminar-in-der-siga-academy-fenster-und-fassade/
CATEGORIES:Bautechnik,Sonstiges
END:VEVENT
END:VCALENDAR