BEGIN:VCALENDAR
VERSION:2.0
PRODID:-//Ingenieurkammer Thüringen - ECPv5.8.0//NONSGML v1.0//EN
CALSCALE:GREGORIAN
METHOD:PUBLISH
X-WR-CALNAME:Ingenieurkammer Thüringen
X-ORIGINAL-URL:https://ikth.de/startseite
X-WR-CALDESC:Veranstaltungen für Ingenieurkammer Thüringen
BEGIN:VTIMEZONE
TZID:Europe/Berlin
BEGIN:DAYLIGHT
TZOFFSETFROM:+0100
TZOFFSETTO:+0200
TZNAME:CEST
DTSTART:20230326T010000
END:DAYLIGHT
BEGIN:STANDARD
TZOFFSETFROM:+0200
TZOFFSETTO:+0100
TZNAME:CET
DTSTART:20231029T010000
END:STANDARD
END:VTIMEZONE
BEGIN:VEVENT
DTSTART;TZID=Europe/Berlin:20230704T090000
DTEND;TZID=Europe/Berlin:20230704T120000
DTSTAMP:20260423T181951
CREATED:20230428T105513Z
LAST-MODIFIED:20230428T110113Z
UID:5145-1688461200-1688472000@ikth.de
SUMMARY:Planer Symposium – Raus aus der Energiekrise – Effizient um- und aufrüsten
DESCRIPTION:Die Veranstaltung ist mit 4 Weiterbildungsstunden anerkannt. \nZur Veranstaltung
URL:https://ikth.de/startseite/event/planer-symposium-raus-aus-der-energiekrise-effizient-um-und-aufruesten/2023-07-04/
CATEGORIES:Energieberatung,Versorgungstechnik
END:VEVENT
END:VCALENDAR