BEGIN:VCALENDAR
VERSION:2.0
PRODID:-//Ingenieurkammer Thüringen - ECPv5.8.0//NONSGML v1.0//EN
CALSCALE:GREGORIAN
METHOD:PUBLISH
X-WR-CALNAME:Ingenieurkammer Thüringen
X-ORIGINAL-URL:https://ikth.de/startseite
X-WR-CALDESC:Veranstaltungen für Ingenieurkammer Thüringen
BEGIN:VTIMEZONE
TZID:Europe/Berlin
BEGIN:DAYLIGHT
TZOFFSETFROM:+0100
TZOFFSETTO:+0200
TZNAME:CEST
DTSTART:20240331T010000
END:DAYLIGHT
BEGIN:STANDARD
TZOFFSETFROM:+0200
TZOFFSETTO:+0100
TZNAME:CET
DTSTART:20241027T010000
END:STANDARD
END:VTIMEZONE
BEGIN:VEVENT
DTSTART;TZID=Europe/Berlin:20240710T100000
DTEND;TZID=Europe/Berlin:20240710T121500
DTSTAMP:20260426T012058
CREATED:20240313T131840Z
LAST-MODIFIED:20240313T131955Z
UID:6529-1720605600-1720613700@ikth.de
SUMMARY:Planer Symposium – Brandschutz im Zoom: Konfliktfelder in der Brandschutzplanung
DESCRIPTION:Auf folgende Inhalte kannst Du Dich freuen:\nIm Lauf der Fortbildung:\n  \nASSA ABLOY Sicherheitstechnik GmbH: \n\nAufbau und Funktion von Notausgangs- und Panikverschlüssen\nEN 179; EN 1125; ELTVTR; EN 13637\nFluchttürverriegelung – Sicherung von Fluchttüren gegen Missbrauch\nWelche Vorschriften muss ich beachten?\nZusammenspiel der Komponenten\n\n  \nneuform-Türenwerk Hans Glock GmbH & Co. KG: \nTürfunktionen & Regelwerke \n\nWas sind Brand- und Rauchschutzelemente?\nTürarten für Brand- und Rauchschutzbereiche\nZulassungskonforme Abmessungen\n\nKonfliktfelder in der Planung \n\nZulässige Änderungen\nBarrierefreiheit\nWände & Bauteilanschlüsse\nLichter Durchgang\nKomponenten\nPlanung / Bauleitung\nBauen im Bestand\n\n  \nWichmann Brandschutzsysteme GmbH & Co. KG\nPlanung und Anwendung von Kabelboxen zur Brandabschottung in der Elektroinstallation in Bestandsgebäuden \n\nBauordnungsrechtliche Anforderungen\nHerausforderungen bei der Umsetzung der Anforderungen im Bestand\nNachhaltiger Brandschutz: Anspruch und Möglichkeiten\nTypische Planungs- und Einbaufehler aus der Praxis\nErleichterungen bei der Brandschutz- und Elektroplanung mit Kabelboxen\nPraxisgerechte Lösungsmöglichkeiten mit Kabelboxen\nTipps für den Umgang mit Regelwerken\nMöglichkeiten zu Abweichungen bei der Planung und Verwendung von Kabelboxen\n\n  \n  \nDie Veranstaltung ist durch die IKTh mit 3 WB-Stunden anerkannt. \n  \nWeitere Informationen zur Veranstaltung
URL:https://ikth.de/startseite/event/planer-symposium-brandschutz-im-zoom-konfliktfelder-in-der-brandschutzplanung-2/
LOCATION:Online
CATEGORIES:Brandschutz,Online-Veranstaltung
END:VEVENT
END:VCALENDAR