BEGIN:VCALENDAR
VERSION:2.0
PRODID:-//Ingenieurkammer Thüringen - ECPv5.8.0//NONSGML v1.0//EN
CALSCALE:GREGORIAN
METHOD:PUBLISH
X-WR-CALNAME:Ingenieurkammer Thüringen
X-ORIGINAL-URL:https://ikth.de/startseite
X-WR-CALDESC:Veranstaltungen für Ingenieurkammer Thüringen
BEGIN:VTIMEZONE
TZID:Europe/Berlin
BEGIN:DAYLIGHT
TZOFFSETFROM:+0100
TZOFFSETTO:+0200
TZNAME:CEST
DTSTART:20240331T010000
END:DAYLIGHT
BEGIN:STANDARD
TZOFFSETFROM:+0200
TZOFFSETTO:+0100
TZNAME:CET
DTSTART:20241027T010000
END:STANDARD
END:VTIMEZONE
BEGIN:VEVENT
DTSTART;TZID=Europe/Berlin:20241104T140000
DTEND;TZID=Europe/Berlin:20241104T153000
DTSTAMP:20260425T030241
CREATED:20240724T092019Z
LAST-MODIFIED:20240724T092019Z
UID:7277-1730728800-1730734200@ikth.de
SUMMARY:Online Veranstaltung – Wie belüfte ich Wohnraum richtig
DESCRIPTION:Auf folgende Inhalte kannst Du Dich freuen:\nIm Lauf der Fortbildung:\nKermi GmbH: \n\nGrundlagen der Belüftung von Wohnraum\nBrauche ich eine Lüftungstechnische Einrichtung?\nUnterschied DIN18017-3 und DIN 1946-6\nVor- und Nachteile der verschiedenen Lüftungssysteme\nFreie Lüftung\nVentilator gestützte Systeme\nAbluft-System\nPendellüfter-System\nZu- & Abluftsystem\nEnergieeinsparpotenzial eines Lüftungssystems\n\n  \n  \nDie Veranstaltung ist durch die IKTh mit 2 WB-Stunden anerkannt. \n  \nWeitere Informationen zur Veranstaltung
URL:https://ikth.de/startseite/event/online-veranstaltung-wie-beluefte-ich-wohnraum-richtig/
LOCATION:Online
CATEGORIES:Bauwesen,Online-Veranstaltung
END:VEVENT
END:VCALENDAR