BEGIN:VCALENDAR
VERSION:2.0
PRODID:-//Ingenieurkammer Thüringen - ECPv5.8.0//NONSGML v1.0//EN
CALSCALE:GREGORIAN
METHOD:PUBLISH
X-WR-CALNAME:Ingenieurkammer Thüringen
X-ORIGINAL-URL:https://ikth.de/startseite
X-WR-CALDESC:Veranstaltungen für Ingenieurkammer Thüringen
BEGIN:VTIMEZONE
TZID:Europe/Berlin
BEGIN:DAYLIGHT
TZOFFSETFROM:+0100
TZOFFSETTO:+0200
TZNAME:CEST
DTSTART:20250330T010000
END:DAYLIGHT
BEGIN:STANDARD
TZOFFSETFROM:+0200
TZOFFSETTO:+0100
TZNAME:CET
DTSTART:20251026T010000
END:STANDARD
END:VTIMEZONE
BEGIN:VEVENT
DTSTART;TZID=Europe/Berlin:20250204T100000
DTEND;TZID=Europe/Berlin:20250204T113000
DTSTAMP:20260424T180905
CREATED:20240718T113816Z
LAST-MODIFIED:20240718T113816Z
UID:7246-1738663200-1738668600@ikth.de
SUMMARY:Online Veranstaltung – Starkwetter – Hochwasserschutz vom Dach in den Keller
DESCRIPTION:Auf folgende Inhalte kannst Du Dich freuen:\nIm Lauf der Fortbildung:\n  \nACO Passavant GmbH \n\nKlimatische Veränderungen und die Folgen für die Dachentwässerung\nDie fachgerechte Auslegung von Dachentwässerungssystemen\nRegelgerechte Schwellen und barrierefreie Übergänge\nRegenwasserbewirtschaftung und der Wasserkreislauf\n\n  \nUrbanscape (Knauf Insulation GmbH) \n\nDachbegrünung und Regenwassermanagement: wie Gründächer Wasser zurückhalten und kontrolliert ableiten\nVorteile von Dachbegrünungen (Schwerpunkt Hochwasserschutz)\nArten von Dachbegrünungen und herkömmliche Schichtaufbauten\nEinsatz von Mineralwolle in Gründächern: Ihre Eigenschaften und Vorteile im Regenwassermanagement\nRegenwassermanagement: Abflussberechnungen mit dem Abflussbeiwert C\, Leistung der Drainage und ortsabhängige Retentionsberechnungen (Wasseraufnahmefähigkeit und Rückhaltungsvermögen) dank das Performance Evaluation Tool\nRetentionsdach: Erwartungen und Lösungsansatz\n\n  \n  \nDie Veranstaltung ist durch die IKTh mit 2 WB-Stunden anerkannt. \n  \nWeitere Informationen
URL:https://ikth.de/startseite/event/online-veranstaltung-starkwetter-hochwasserschutz-vom-dach-in-den-keller-2/2025-02-04/
CATEGORIES:Bauwesen,Online-Veranstaltung
END:VEVENT
END:VCALENDAR