BEGIN:VCALENDAR
VERSION:2.0
PRODID:-//Ingenieurkammer Thüringen - ECPv5.8.0//NONSGML v1.0//EN
CALSCALE:GREGORIAN
METHOD:PUBLISH
X-WR-CALNAME:Ingenieurkammer Thüringen
X-ORIGINAL-URL:https://ikth.de/startseite
X-WR-CALDESC:Veranstaltungen für Ingenieurkammer Thüringen
BEGIN:VTIMEZONE
TZID:Europe/Berlin
BEGIN:DAYLIGHT
TZOFFSETFROM:+0100
TZOFFSETTO:+0200
TZNAME:CEST
DTSTART:20240331T010000
END:DAYLIGHT
BEGIN:STANDARD
TZOFFSETFROM:+0200
TZOFFSETTO:+0100
TZNAME:CET
DTSTART:20241027T010000
END:STANDARD
END:VTIMEZONE
BEGIN:VEVENT
DTSTART;TZID=Europe/Berlin:20241212T100000
DTEND;TZID=Europe/Berlin:20241212T113000
DTSTAMP:20260425T161129
CREATED:20240411T085551Z
LAST-MODIFIED:20240411T085551Z
UID:6617-1733997600-1734003000@ikth.de
SUMMARY:Online Veranstaltung – Effektive Schallschutzplanung im Holzbau
DESCRIPTION:Auf folgende Inhalte kannst Du Dich freuen:\nIm Lauf der Fortbildung:\nDer Schallschutz im Holzbau ist effektiv und wirtschaftlich darstellbar\, wenn in der Planung entsprechende Weichen richtig gestellt werden. \nIn diesem Webinar werden praxiserprobte Lösungen aufgezeigt: \n\nStreitigkeiten im Keim ersticken: Schallschutzanforderungen richtig vereinbaren\nDie wichtigsten Planungsparameter: Welche Größen gilt es zu berücksichtigen\, um einen zufriedenstellenden Schallschutz in der Nutzung zu erreichen?\nRichtig Nachweisen: DIN 4109-2 <-> differenzierte Flankenbetrachtung\nPraxiserprobte Konstruktionen: Lösungsansätze am ausgeführten Objekt\nSchallschutz gegen Außenlärm: Wie bleibt es in einer lauten Umgebung drinnen leise?\n\n  \nDie Veranstaltung ist durch die IKTh mit 2 WB-Stunden anerkannt. \n  \nWeitere Informationen
URL:https://ikth.de/startseite/event/online-veranstaltung-effektive-schallschutzplanung-im-holzbau/2024-12-12/
LOCATION:Online
CATEGORIES:Holzbau,Online-Veranstaltung
END:VEVENT
END:VCALENDAR