BEGIN:VCALENDAR
VERSION:2.0
PRODID:-//Ingenieurkammer Thüringen - ECPv5.8.0//NONSGML v1.0//EN
CALSCALE:GREGORIAN
METHOD:PUBLISH
X-WR-CALNAME:Ingenieurkammer Thüringen
X-ORIGINAL-URL:https://ikth.de/startseite
X-WR-CALDESC:Veranstaltungen für Ingenieurkammer Thüringen
BEGIN:VTIMEZONE
TZID:Europe/Berlin
BEGIN:DAYLIGHT
TZOFFSETFROM:+0100
TZOFFSETTO:+0200
TZNAME:CEST
DTSTART:20250330T010000
END:DAYLIGHT
BEGIN:STANDARD
TZOFFSETFROM:+0200
TZOFFSETTO:+0100
TZNAME:CET
DTSTART:20251026T010000
END:STANDARD
END:VTIMEZONE
BEGIN:VEVENT
DTSTART;TZID=Europe/Berlin:20250929T090000
DTEND;TZID=Europe/Berlin:20251001T164500
DTSTAMP:20260425T124839
CREATED:20250211T072822Z
LAST-MODIFIED:20250211T072944Z
UID:8117-1759136400-1759337100@ikth.de
SUMMARY:„Mängel und Schäden am Bau erkennen und bewerten“
DESCRIPTION:Diese Veranstaltung geht über 2 Tage. \nTag 1:\n\n09:00 – 09:30 Uhr      Anmeldung der Teilnehmer im Portal WebEx\n09:30 – 11:00 Uhr      I. Rechtliche und Technische Grundlagen\n\nGrundlegendes\nKlärung und Abgrenzung von Begriffen\nBGB (2. Buch\, insb. Werkvertrags- und Kaufvertragsrecht)\nVOB/B/C\, ZPO/StPO\n\n11:00 – 11:15 Uhr      Kaffeepause\n11:15 – 12:45 Uhr      II. Rechtliche und Technische Grundlagen\n\nanerkannte Regeln der Technik\nweitere Regelwerke\nRechtsprechung\nBauphysik\, Bauchemie\, Baubiologie\, Baukonstruktion und Bautechnik zur Mangel- und Schadensanalyse\nErfahrungen aus der Praxis\n\n12:45 – 13:30 Uhr      Mittagspause\n13:30 – 15:00 Uhr      III. Grundlagen der Analyse von Mängeln und Schäden\n\nMethoden zur vollständigen und richtigen Untersuchung\ndirekte/indirekte Prüf- und Messmethoden und ihre Beurteilung\nGerätetechnik\n\n15:00 – 15:15 Uhr      Kaffeepause\n15:15 – 16:45 Uhr      IV. Bewertung von Mängeln und Schäden\n\nMethoden zur vollständigen und richtigen Bewertung\nqualitative und quantitative Bewertungen\nErmittlung von Minderungen\, Quotelungen und Schadenshöhe\n\n  \nTag 2:\n09:00 – 09:30 Uhr      Anmeldung der Teilnehmer im Portal WebEx\n09:30 – 11:00 Uhr      I. Hinzunehmende und nicht hinzunehmende Abweichungen\n\nGrundlagen\nVerkehrssitte\n\n11:00 – 11:15 Uhr      Kaffeepause\n11:15 – 12:45 Uhr      II. Beispiele 1\n\nBauschadensgutachten\nAbgrenzung Mangel-/Schadensursachen\nPlanungsmängel/Schäden\nAusführungsmängel/Schäden: Rohbaugewerke\, Ausbaugewerke\nMängel an typischen Konstruktionselementen und Werkstoffen: Mauerwerk\, Putz\, Verkleidungen\, Oberflächen\, Stahlbeton\, Estrich/Belag\, Holzkonstruktionen\, Fenster\, Glas\, Türen\, Stahlkonstruktionen\, Dächer u.a.\n\n12:45 – 13:30 Uhr      Mittagspause\n13:30 – 15:00 Uhr      III. Beispiele 2\n\nMängel und Schäden infolge der Nutzung\nWeitere Beispiele\nBeispiele der Seminarteilnehmer\n\n15:00 – 15:15 Uhr      Kaffeepause\n15:15 – 16:45 Uhr      IV. Ergänzungen\nMöglichkeiten und Grenzen von Sanierungsmaßnahmen\, dargestellt an Beispielen \n  \nReferent: Prof. Dr.-Ing. Dr.rer.pol. Thomas Wedemeier\nProf. Wedemeier – Beratende Ingenieure | www.wedemeier-online.de \n  \nDiese Veranstaltung wird von der Ingenieurkammer Thüringen mit 16 WB – Stunden anerkannt. \nDiese sowie weitere Veranstaltungen von IBS finden Sie hier.
URL:https://ikth.de/startseite/event/maengel-und-schaeden-am-bau-erkennen-und-bewerten/2025-09-29/
CATEGORIES:Bauwesen,Nachhaltigkeit,Online-Veranstaltung
END:VEVENT
END:VCALENDAR