BEGIN:VCALENDAR
VERSION:2.0
PRODID:-//Ingenieurkammer Thüringen - ECPv5.8.0//NONSGML v1.0//EN
CALSCALE:GREGORIAN
METHOD:PUBLISH
X-WR-CALNAME:Ingenieurkammer Thüringen
X-ORIGINAL-URL:https://ikth.de/startseite
X-WR-CALDESC:Veranstaltungen für Ingenieurkammer Thüringen
BEGIN:VTIMEZONE
TZID:Europe/Berlin
BEGIN:DAYLIGHT
TZOFFSETFROM:+0100
TZOFFSETTO:+0200
TZNAME:CEST
DTSTART:20260329T010000
END:DAYLIGHT
BEGIN:STANDARD
TZOFFSETFROM:+0200
TZOFFSETTO:+0100
TZNAME:CET
DTSTART:20261025T010000
END:STANDARD
END:VTIMEZONE
BEGIN:VEVENT
DTSTART;TZID=Europe/Berlin:20260630T100000
DTEND;TZID=Europe/Berlin:20260630T113000
DTSTAMP:20260421T194406
CREATED:20260112T153026Z
LAST-MODIFIED:20260202T100246Z
UID:9598-1782813600-1782819000@ikth.de
SUMMARY:Keramische Fliesen – Praktisch erklärt
DESCRIPTION:Auf folgende Inhalte kannst Du Dich freuen:\n\n\n\n\nErhalte Praxiswissen über keramische Beläge und Anwendungsgebiete – Sei bei unserer Fortbildung dabei! \nDie Fortbildung „Keramische Fliesen – Praktisch erklärt. Praxiswissen über keramische Beläge und Anwendungsgebiete“ von RAKO ist speziell für Fachleute konzipiert\, die ihr Wissen über keramische Fliesen vertiefen möchten. Hier erhältst Du fundierte Einblicke in alle Aspekte\, die für die Auswahl\, Anwendung und Pflege von keramischen Belägen entscheidend sind. \nDu startest mit einer umfassenden Einführung in die Grundlagen der keramischen Fliesen. Erkunde die Rohstoffe\, die in der Produktion verwendet werden\, und erhalte technisches Know-How über die Herstellung von Fliesen. Verstehe die Eigenschaften und die Produktionstechnik\, um die Qualität und Langlebigkeit der Fliesen besser einschätzen zu können. \nIn der Praxisphase der Fortbildung werden gezielt die Anforderungen an mechanisch hochbelastete Fliesenbeläge behandelt. Hierbei liegt der Fokus auf den spezifischen Anforderungen\, die Fliesen erfüllen müssen\, um unter starker Beanspruchung dauerhaft zuverlässig zu bleiben. Zusätzlich bekommst du praxisnahe Reinigungsempfehlungen\, die Dir helfen\, die Fliesen in einem optimalen Zustand zu halten. Die Fortbildung schließt mit detaillierten Lösungen für die Anwendung keramischer Fliesen ab\, sodass Du alle Facetten ihrer Nutzung professionell meistern kannst. \nNutze die Gelegenheit\, Dein Fachwissen zu erweitern und Dich auf dem neuesten Stand der Technik zu halten. Melde Dich jetzt an und profitiere von praxisorientierten Einblicken in die Welt der keramischen Fliesen. \nIm Laufe der Fortbildung: \n\n\n\nKeramische Fliesen \nAlles was Fachleute über keramische Beläge wissen sollten \n\nRohstoffe\nProduktion\nTechnisches Know-How\n\n\nPraxiswissen mit den Schwerpunkten \nAus der Praxis für die Praxis \n\nAnforderungen an mechanisch hochbelastete Fliesenbeläge\nReinigungsempfehlungen\nDetaillösungen mit und durch keramischen Fliesen\n\n\n\n\n\n\n\n  \nZur Anmeldung kommen Sie hier. \nDiese Veranstaltung wird mit 2 Weiterbildungsstunden anerkannt.
URL:https://ikth.de/startseite/event/keramische-fliesen-praktisch-erklaert-copy/
CATEGORIES:Online-Veranstaltung,Sonstiges,Webinar
END:VEVENT
END:VCALENDAR