BEGIN:VCALENDAR
VERSION:2.0
PRODID:-//Ingenieurkammer Thüringen - ECPv5.8.0//NONSGML v1.0//EN
CALSCALE:GREGORIAN
METHOD:PUBLISH
X-WR-CALNAME:Ingenieurkammer Thüringen
X-ORIGINAL-URL:https://ikth.de/startseite
X-WR-CALDESC:Veranstaltungen für Ingenieurkammer Thüringen
BEGIN:VTIMEZONE
TZID:Europe/Berlin
BEGIN:DAYLIGHT
TZOFFSETFROM:+0100
TZOFFSETTO:+0200
TZNAME:CEST
DTSTART:20260329T010000
END:DAYLIGHT
BEGIN:STANDARD
TZOFFSETFROM:+0200
TZOFFSETTO:+0100
TZNAME:CET
DTSTART:20261025T010000
END:STANDARD
END:VTIMEZONE
BEGIN:VEVENT
DTSTART;TZID=Europe/Berlin:20260423T090000
DTEND;TZID=Europe/Berlin:20260423T123000
DTSTAMP:20260420T160218
CREATED:20260225T121010Z
LAST-MODIFIED:20260225T121010Z
UID:9963-1776934800-1776947400@ikth.de
SUMMARY:Kalksandstein Frühjahrs-Akademie 2026
DESCRIPTION:[vc_row][vc_column][vc_column_text css=““] \nNachhaltigkeit im Baugewerbe – Ein Überblick\nHerr Dr. Pohl wird im ersten Teil seines Vortrages Konzeption\, Vorgehensweise und Kernergebnisse einer Ökobilanzstudie vorstellen. Auf Gebäudeebene eines realen Wohngebäudes wird aufzeigt\, dass sich Mehrfamilienhäuser aus Kalksandstein ganzheitlich durch eine hohe Nachhaltigkeitsqualität auszeichnen. Dadurch erhalten zentrale Akteure in Wohnungsbauprojekten wie Architekt*innen und Fachplanende sowie die kommunale und private Wohnungswirtschaft\, inklusive bauausführender Unternehmen\, einen exemplarischen Nachweis\, dass die Bauweise in Kalksandstein insbesondere auch die Anforderungen aktueller Förderprogramme erfüllen\, insofern QNG-konform ist. Es werden die Zertifizierungssysteme der Deutschen Gesellschaft für Nachhaltiges Bauen (DGNB) und Bewertungssystem Nachhaltiges Gebäude (BNG) auf ein musterhaftes Mehrfamilienhaus aus Kalksandstein angewendet. Die Ergebnisse unterschiedlicher Bewertungssysteme im Vergleich zu Holz werden gegenübergestellt. \nIm zweiten Teil seines Vortrages werden die wichtigsten Erkenntnisse und Bewertungen aus dem aktuellen PreCheck BiRN vorgestellt. Die Analyse des PreChecks BiRN ermöglichen eine differenzierte Betrachtung der Nachhaltigkeitsqualitäten und der QNG-Readiness im betrachteten Kontext. Basierend auf den ausgewerteten Daten ergibt sich ein zusammenfassendes Fazit zur Nachhaltigkeitsqualität und zu QNG-Readiness für das Mehrfamilienhaus KS. Die Bewertung legt einen besonderen Fokus auf die erreichte Qualität im Hinblick auf die festgelegten Nachhaltigkeitskriterien sowie die Bereitschaft zur Erfüllung der QNG-Anforderungen. Ein zentraler Aspekt der Analyse betrifft die erforderlichen Eingangs- und Nachweisdaten\, die in den Bewertungssystemen DGNB und BNG benötigt werden. Die Identifikation und Bereitstellung dieser Daten ist entscheidend für die Nachweisführung der angestrebten Nachhaltigkeitsstandards.\nAbschließend erfolgt eine Einordnung des mit der Umsetzung verbundenen Aufwandes im Verhältnis zum erwarteten Nutzen. Diese Betrachtung unterstützt die Einschätzung der Wirtschaftlichkeit und der Effektivität der angewandten Maßnahmen im Gesamtprozess. \nZeitablauf: \n09:00 Uhr bis 10:30 Uhr Vortrag Teil I\n10:30 Uhr bis 11:00 Uhr Pause\n11:00 Uhr bis 12:30 Uhr Vortrag Teil II \nWeitere Informationen sowie die Anmeldung finden Sie unter: https://www.ks-nord.de/service-und-aktuelles/veranstaltungen-seminare-und-workshops/ \nDiese Veranstaltung wird mit 2\,5 Weiterbildungsstunden anerkannt.\n[/vc_column_text][/vc_column][/vc_row]
URL:https://ikth.de/startseite/event/kalksandstein-fruehjahrs-akademie-2026/
LOCATION:Online
CATEGORIES:Bauwesen,Nachhaltigkeit,Online-Veranstaltung
END:VEVENT
END:VCALENDAR