BEGIN:VCALENDAR
VERSION:2.0
PRODID:-//Ingenieurkammer Thüringen - ECPv5.8.0//NONSGML v1.0//EN
CALSCALE:GREGORIAN
METHOD:PUBLISH
X-WR-CALNAME:Ingenieurkammer Thüringen
X-ORIGINAL-URL:https://ikth.de/startseite
X-WR-CALDESC:Veranstaltungen für Ingenieurkammer Thüringen
BEGIN:VTIMEZONE
TZID:Europe/Berlin
BEGIN:DAYLIGHT
TZOFFSETFROM:+0100
TZOFFSETTO:+0200
TZNAME:CEST
DTSTART:20220327T010000
END:DAYLIGHT
BEGIN:STANDARD
TZOFFSETFROM:+0200
TZOFFSETTO:+0100
TZNAME:CET
DTSTART:20221030T010000
END:STANDARD
END:VTIMEZONE
BEGIN:VEVENT
DTSTART;TZID=Europe/Berlin:20221201T080000
DTEND;TZID=Europe/Berlin:20221201T153000
DTSTAMP:20260424T042337
CREATED:20220915T110654Z
LAST-MODIFIED:20220915T110654Z
UID:4467-1669881600-1669908600@ikth.de
SUMMARY:Gefahr durch Radon! - Handlungshinweise für Planer und Ausführende
DESCRIPTION:Die Richtlinie 2013/59/EURATOM des Rates vom 05.12.2013 zur Festlegung grundlegender Sicherheitsnormen wird 2018 in nationales Recht umgesetzt. Somit wird erstmalig im nationalen Strahlenschutzrecht der Schutz der Gebäudenutzer vor Radon in Gebäuden verankert werden – Radonkonzentrationen in bestehenden Gebäuden sollen vermindert und neue Gebäude so errichtet werden\, dass ein Radonzutritt mit baulichen Maßnahmen verhindert wird. Die gesamte Wertschöpfungskette Bau ist von der EURATOM-Richtlinie vielfältig betroffen. Daher müssen Wirtschaft\, Wissenschaft und Investoren die neue Radonrichtlinie beachten. Von sehr großer Bedeutung wird die Vereinbarkeit von korrektiven Maßnahmen im Radonschutz und energetischer Sanierung sein. Ein kohärentes\, vorausschauendes und abgestimmtes Vorgehen muss sichergestellt sein\, damit nicht nach dem 06.02.2018\, wenn die Umsetzung in nationales Recht erfolgt sein muss\, erneute Sanierungsmaßnahmen erforderlich werden. \nNach einer kurzen Erläuterung der Gefahr des Radongases in Gebäuden und deren Folgen für den Menschen werden bauliche Möglichkeiten für die Bauwirtschaft aufgezeigt. Die praktischen Beispiele reichen vom präventivem Charakter im Neubau bis zu konkreten Sanierungsmaßnahmen im Altbau. Für Planer und ausführende Unternehmen sind sie somit gleichermaßen informativ anzusehen. Im Seminar werden praktische Lösungsansätze zur Einhaltung der neuen Radon-Richtwerte aufgezeigt und erfolgreiche Reduzierungsmaßnahmen der Radonkonzentration zur Vermeidung von gesundheitlichen Schäden bei Personen vorgestellt. \n\nInhalt \n\n\nRadon – stoffliche Besonderheiten\nbisherige Regelungen\, Neuerungen in der Richtlinie 2013/59/EURATOM\ngesundheitliche Gefährdungen\nUmgang mit Radon\nMessmethoden\nbauliche Schutzmaßnahmen im Neubau\nSchutzmaßnahmen in bestehenden Gebäuden\n\n\nTeilnehmerkreis \nArchitektur- und Ingenieurbüros Handwerksunternehmen Bauunternehmen\n\nDie Veranstaltung ist durch die IKTh anerkannt mit 8 WB-Stunden.\n\nAnmeldung
URL:https://ikth.de/startseite/event/gefahr-durch-radon-handlungshinweise-fuer-planer-und-ausfuehrende/
LOCATION:Dresden
CATEGORIES:Bauwesen,DIN,Seminar,Tagung
ORGANIZER;CN="Bauakademie%20Sachsen":MAILTO:info@bauakademie-sachsen.de
END:VEVENT
END:VCALENDAR