BEGIN:VCALENDAR
VERSION:2.0
PRODID:-//Ingenieurkammer Thüringen - ECPv5.8.0//NONSGML v1.0//EN
CALSCALE:GREGORIAN
METHOD:PUBLISH
X-WR-CALNAME:Ingenieurkammer Thüringen
X-ORIGINAL-URL:https://ikth.de/startseite
X-WR-CALDESC:Veranstaltungen für Ingenieurkammer Thüringen
BEGIN:VTIMEZONE
TZID:Europe/Berlin
BEGIN:DAYLIGHT
TZOFFSETFROM:+0100
TZOFFSETTO:+0200
TZNAME:CEST
DTSTART:20240331T010000
END:DAYLIGHT
BEGIN:STANDARD
TZOFFSETFROM:+0200
TZOFFSETTO:+0100
TZNAME:CET
DTSTART:20241027T010000
END:STANDARD
END:VTIMEZONE
BEGIN:VEVENT
DTSTART;VALUE=DATE:20240626
DTEND;VALUE=DATE:20240628
DTSTAMP:20260425T234244
CREATED:20240307T091723Z
LAST-MODIFIED:20240307T091723Z
UID:6330-1719360000-1719532799@ikth.de
SUMMARY:FeuerTrutz Brandschutzkongress 2024
DESCRIPTION:Beim jährlich stattfindenden Brandschutzkongress referieren renommierte Fachleute über die wichtigsten aktuellen Fragestellungen aus dem baulichen\, anlagentechnischen und organisatorischen Brandschutz. \nDer FeuerTrutz Brandschutzkongress ist die größte Brandschutztagung in Deutschland und bildet zusammen mit der parallel stattfindenden FeuerTrutz Fachmesse für viele Brandschützer:innen das Branchenhighlight im Jahreskalender. Bei keiner anderen Veranstaltung in Europa findet sich eine vergleichbare Bandbreite an Vorträgen\, Unternehmen und Lösungen für die Bereiche baulicher\, anlagentechnischer und betrieblicher Brandschutz. Der Zutritt für die Fachmesse ist im Kongressticket inklusive\, so dass Kongressbesucher:innen an beiden Tagen das komplette Angebot nutzen können. \nDie Top Themen beim Brandschutzkongress 2024: \n\nDie neue Holzbau-Richtlinie im Praxischeck\nWie Brandschutz im Bestand gelingt\nNachhaltigkeitsaspekte in der Brandschutzplanung\n\n  \nDer Brandschutzkongress ist auf möglichst großen und konkret umsetzbaren Praxisnutzen für Planer:innen\, Prüfende und Mitarbeitende von Behörden ausgerichtet. Die Veranstaltung ist auch zur Weiterbildung von Brandschutzbeauftragten geeignet. \nSie profitieren vom Fachwissen zahlreicher Top-Fachleute sowie der Kombination aus zweitägigem Fachkongress und begleitender Messe mit zahlreichen Ausstellenden aus allen Segmenten des vorbeugenden Brandschutzes. Für Sie bietet sich damit die Gelegenheit\, sich an zwei kompakten Tagen umfassend und fundiert fortzubilden. \nNeben der Vermittlung von Fachwissen steht der fachliche Austausch im Fokus der beiden Kongresstage. Nach jedem Vortrag besteht die Möglichkeit für Diskussionen und Fragerunden vor Ort und digital über den Chat. \n\nBrandschutzkongress: Vor Ort und im Online-Livestream\n  \nBrandschutzkongress vor Ort \nBei der Teilnahme vor Ort wählen Sie aus je drei parallelen Kongresszügen vormittags und nachmittags\, an denen Sie teilnehmen möchten. Ein Wechsel zwischen einzelnen Vorträgen paralleler Kongresszüge ist nicht möglich. Sie vepassen trotzdem nichts: Alle Vorträge werden aufgezeichnet und Sie können Sie sich nach der Veranstaltung anschauen. \n  \nBrandschutzkongress im Online-Livestream \nFür die Teilnehmer\, die den Brandschutzkongress in Nürnberg nicht besuchen können oder möchten\, wird dieser ebenfalls als Livestream angeboten\, so dass eine Kongressteilnahme auch vom Büro oder aus dem Homeoffice heraus möglich sein wird. \n  \nZielgruppe\nFachplaner:innen und Sachverständige für baulichen und gebäudetechnischen Brandschutz; Architekt:innen und Bauingenieur:innen mit Planungs- und Beratungsleistungen zum Brandschutz; Mitarbeiter:innen von Behörden und Brandschutzdienststellen; Brandschutzbeauftragte aus mittleren und größeren Unternehmen; spezialisierte Anbieter:innen und Ausführende von Brandschutzeinrichtungen; Berufs- und Werksfeuerwehrleute; Betreiber:innen von Spezialimmobilien und Facility-Manager:innen; Errichter:innen von Lösch- und Lüftungsanlagen\, Brandmelde- und Elektrotechnik; Trockenbauer:innen. \n  \nDie Veranstaltung ist durch die IKTh mit \nBlock A gesamt 9\,5 WB-Std. \nBlock B gesamt 11 WB-Std. \nBlock C gesamt 8 WB-Std. \nBlock D gesamt 8\,5 WB-Std. \nanerkannt. \n  \nWeitere Informationen zur Veranstaltung
URL:https://ikth.de/startseite/event/feuertrutz-brandschutzkongress-2024/
LOCATION:Nürnberg oder Online
CATEGORIES:Brandschutz
END:VEVENT
END:VCALENDAR