BEGIN:VCALENDAR
VERSION:2.0
PRODID:-//Ingenieurkammer Thüringen - ECPv5.8.0//NONSGML v1.0//EN
CALSCALE:GREGORIAN
METHOD:PUBLISH
X-WR-CALNAME:Ingenieurkammer Thüringen
X-ORIGINAL-URL:https://ikth.de/startseite
X-WR-CALDESC:Veranstaltungen für Ingenieurkammer Thüringen
BEGIN:VTIMEZONE
TZID:Europe/Berlin
BEGIN:DAYLIGHT
TZOFFSETFROM:+0100
TZOFFSETTO:+0200
TZNAME:CEST
DTSTART:20260329T010000
END:DAYLIGHT
BEGIN:STANDARD
TZOFFSETFROM:+0200
TZOFFSETTO:+0100
TZNAME:CET
DTSTART:20261025T010000
END:STANDARD
END:VTIMEZONE
BEGIN:VEVENT
DTSTART;TZID=Europe/Berlin:20260611T093000
DTEND;TZID=Europe/Berlin:20260611T143000
DTSTAMP:20260420T210508
CREATED:20260416T123205Z
LAST-MODIFIED:20260416T123205Z
UID:35281-1781170200-1781188200@ikth.de
SUMMARY:Fachtagung Bundesfachbereich Maschinen\, Anlagen\, Betriebseinrichtungen (MAB)
DESCRIPTION:[vc_row][vc_column][vc_column_text css=““]Fachbereichsübergreifende Veranstaltung mit Everllence SE (vormals MAN Energy Solutions SE) in Augsburg. Unterstützt von der IHK Schwaben und dem BVS Bundesfachbereich MAB (Maschinen\, Anlagen\, Betriebseinrichtungen)\, Berlin Zukunft gestalten – dieses Motto des Unternehmens Everllence zeigt\, dass Veränderungen unternehmerische Chancen darstellen. Das Unternehmen ist ein Beispiel für eine lange Erfolgsgeschichte\, in der Veränderungen immer wieder auch Chancen für neue Geschäftsfelder offengelegt haben. Ebenso geht es uns als Sachverständige. Unsere Kunden erwarten von uns als Sachverständige ein integriertes Auftreten über die Fachbereiche hinweg. Wir müssen Themen vernetzt und mit den Kunden auf Augenhöhe bearbeiten. Dies wollen wir mit fachbereichsübergreifenden Themen diskutieren und unterstützen. Natürlich steht ein Unternehmen wie Everllence zuerst für den Maschinen- und Anlagenbau. Doch zeigt das Produktportfolio auf\, wie wichtig betriebswirtschaftliche Fragestellungen sind\, welche neuen Anforderungen sich an Immobilien und die Technische Gebäudeausrüstung stellen\, wie elektronische Anlagen und die Informationstechnik jedes Produkt durchzieht. Dieser Erfahrungsaustausch soll dazu beitragen. \nWeitere Informationen sowie Anmeldung finden Sie unter: https://www.bvs-ev.de/veranstaltungen/fachtagung-bundesfachbereich-maschinen-anlagen-betriebseinrichtungen-mab-2026-06-11-07-30[/vc_column_text][/vc_column][/vc_row]
URL:https://ikth.de/startseite/event/fachtagung-bundesfachbereich-maschinen-anlagen-betriebseinrichtungen-mab/
LOCATION:Industrie- und Handelskammer Schwaben\, Stettenstraße 1+3\, Augsburg\, 86150
CATEGORIES:Tagung
END:VEVENT
END:VCALENDAR