BEGIN:VCALENDAR
VERSION:2.0
PRODID:-//Ingenieurkammer Thüringen - ECPv5.8.0//NONSGML v1.0//EN
CALSCALE:GREGORIAN
METHOD:PUBLISH
X-WR-CALNAME:Ingenieurkammer Thüringen
X-ORIGINAL-URL:https://ikth.de/startseite
X-WR-CALDESC:Veranstaltungen für Ingenieurkammer Thüringen
BEGIN:VTIMEZONE
TZID:Europe/Berlin
BEGIN:DAYLIGHT
TZOFFSETFROM:+0100
TZOFFSETTO:+0200
TZNAME:CEST
DTSTART:20250330T010000
END:DAYLIGHT
BEGIN:STANDARD
TZOFFSETFROM:+0200
TZOFFSETTO:+0100
TZNAME:CET
DTSTART:20251026T010000
END:STANDARD
END:VTIMEZONE
BEGIN:VEVENT
DTSTART;TZID=Europe/Berlin:20250610T100000
DTEND;TZID=Europe/Berlin:20250610T121500
DTSTAMP:20260421T161052
CREATED:20250210T102323Z
LAST-MODIFIED:20250210T102323Z
UID:8058-1749549600-1749557700@ikth.de
SUMMARY:"Energieeinsparung durch effizientes um- und aufrüsten“
DESCRIPTION:Dauer\nInhalte\n\n\n10 Minuten\nBegrüßung und Vorstellung der ReferentInnen\n\n\nHansa Armaturen\n–     Energieverbrauch für die Warmwasserbereitstellung\n\n\nGmbH\n–     VDI 6024\n\n\n40 Minuten\n–     Wasser und Energiesparende Armaturen\n\n\n5 Minuten\nBeantwortung der Fragen ! Diskussion\n\n\nTROX GmbH\n–     Energie sparen mit Filter\n\n\n40 Minuten\n–     Filterklassen\n\n\n\n–     ISO 16890\n\n\n\n–     EN1822\n\n\n\n–     Energiekostenrechner für Filter\n\n\n5 Minuten\nBeantwortung der Fragen ! Diskussion\n\n\nZehnder Group\n–     Warum wird ein Lüftungskonzept benötigt?\n\n\nDeutschland\n–     Die wichtigsten Punkte der DIN 1946-6\n\n\nGmbH\n–     Regelkonformes verbauen eines Lüftungssystems anhand von\n\n\n40 Minuten\nPraxisbeispielen\n\n\n\n–     Wie kann ein Lüftungssystem in der Sanierung seriell vorgefertigt eingebaut werden?\n\n\n5 Minuten\nBeantwortung der Fragen ! Diskussion\n\n\n10 Minuten\nOffene Fragen\, Abschlussdiskussion und Abmoderation\n\n\n\n\n\n\nDauer:\n135 Minuten \nEs handelt sich um eine theoretische und praxisorientierte \nWissensvermittlung. \nErgebnissicherung durch Abschlussdiskussion.\n\n\n\nEinen Link zu dieser Veranstaltung finden Sie hier. \n\n\n\n\n\n\n\n\n\n\n\n\n\n\n\n\n\n\n\n\n\n\n\n\n\n\n\n\n\n\n\n\n\n\n\n\n\n\n\n\n\n\n\n\n\n\n\n\n\n\n\n\n\n\n\n\n\n\n\n\n\n\n\n\n\n\n\n\n\n\n\n\n\n\n\n\n\n\n\n\n 
URL:https://ikth.de/startseite/event/energieeinsparung-durch-effizientes-um-und-aufruesten/2025-06-10/
CATEGORIES:Bauwesen,Energieberatung,Online-Veranstaltung,Webinar
END:VEVENT
END:VCALENDAR