BEGIN:VCALENDAR
VERSION:2.0
PRODID:-//Ingenieurkammer Thüringen - ECPv5.8.0//NONSGML v1.0//EN
CALSCALE:GREGORIAN
METHOD:PUBLISH
X-WR-CALNAME:Ingenieurkammer Thüringen
X-ORIGINAL-URL:https://ikth.de/startseite
X-WR-CALDESC:Veranstaltungen für Ingenieurkammer Thüringen
BEGIN:VTIMEZONE
TZID:Europe/Berlin
BEGIN:DAYLIGHT
TZOFFSETFROM:+0100
TZOFFSETTO:+0200
TZNAME:CEST
DTSTART:20210328T010000
END:DAYLIGHT
BEGIN:STANDARD
TZOFFSETFROM:+0200
TZOFFSETTO:+0100
TZNAME:CET
DTSTART:20211031T010000
END:STANDARD
END:VTIMEZONE
BEGIN:VEVENT
DTSTART;TZID=Europe/Berlin:20211008T130000
DTEND;TZID=Europe/Berlin:20211008T164500
DTSTAMP:20260425T131328
CREATED:20210809T104857Z
LAST-MODIFIED:20210809T105105Z
UID:2698-1633698000-1633711500@ikth.de
SUMMARY:EASTWOOD
DESCRIPTION:Link zur Veranstaltung  \nAnerkannt durch IKTh mit 8 WBs \n 
URL:https://ikth.de/startseite/event/eastwood-2/
LOCATION:Online
CATEGORIES:Online-Veranstaltung
END:VEVENT
END:VCALENDAR