BEGIN:VCALENDAR
VERSION:2.0
PRODID:-//Ingenieurkammer Thüringen - ECPv5.8.0//NONSGML v1.0//EN
CALSCALE:GREGORIAN
METHOD:PUBLISH
X-WR-CALNAME:Ingenieurkammer Thüringen
X-ORIGINAL-URL:https://ikth.de/startseite
X-WR-CALDESC:Veranstaltungen für Ingenieurkammer Thüringen
BEGIN:VTIMEZONE
TZID:Europe/Berlin
BEGIN:DAYLIGHT
TZOFFSETFROM:+0100
TZOFFSETTO:+0200
TZNAME:CEST
DTSTART:20260329T010000
END:DAYLIGHT
BEGIN:STANDARD
TZOFFSETFROM:+0200
TZOFFSETTO:+0100
TZNAME:CET
DTSTART:20261025T010000
END:STANDARD
END:VTIMEZONE
BEGIN:VEVENT
DTSTART;TZID=Europe/Berlin:20260826T091500
DTEND;TZID=Europe/Berlin:20260827T124500
DTSTAMP:20260424T104417
CREATED:20260416T092838Z
LAST-MODIFIED:20260416T092838Z
UID:35194-1787735700-1787834700@ikth.de
SUMMARY:Besprechungen wirklich führen – Das Heft fest in der Hand
DESCRIPTION:[vc_row][vc_column][vc_column_text css=““]Besprechungen sind wichtig zum Informationsaustausch\, zur Verhandlungsführung\, Entscheidungsfindung und zur Koordination und sind auch im heutigen Zeitalter internetgestützter Kommunikation aus dem Büroalltag nicht wegzudenken. Schlecht geführte\, unnötig lange und zu viele Besprechungen mit mageren Ergebnissen kosten alle Teilnehmer jedoch Zeit und Geduld\, untergraben ihre Motivation und Bereitschaft zur konstruktiven Mitarbeit. \nWeitere Informationen sowie Anmeldung finden Sie unter: https://ibs-seminare.de/26-27-08-2026-online-seminar/[/vc_column_text][/vc_column][/vc_row]
URL:https://ikth.de/startseite/event/besprechungen-wirklich-fuehren-das-heft-fest-in-der-hand-2/
LOCATION:Online
CATEGORIES:Online-Veranstaltung
END:VEVENT
END:VCALENDAR