BEGIN:VCALENDAR
VERSION:2.0
PRODID:-//Ingenieurkammer Thüringen - ECPv5.8.0//NONSGML v1.0//EN
CALSCALE:GREGORIAN
METHOD:PUBLISH
X-WR-CALNAME:Ingenieurkammer Thüringen
X-ORIGINAL-URL:https://ikth.de/startseite
X-WR-CALDESC:Veranstaltungen für Ingenieurkammer Thüringen
BEGIN:VTIMEZONE
TZID:Europe/Berlin
BEGIN:DAYLIGHT
TZOFFSETFROM:+0100
TZOFFSETTO:+0200
TZNAME:CEST
DTSTART:20220327T010000
END:DAYLIGHT
BEGIN:STANDARD
TZOFFSETFROM:+0200
TZOFFSETTO:+0100
TZNAME:CET
DTSTART:20221030T010000
END:STANDARD
END:VTIMEZONE
BEGIN:VEVENT
DTSTART;TZID=Europe/Berlin:20220120T092000
DTEND;TZID=Europe/Berlin:20220120T163000
DTSTAMP:20260423T142927
CREATED:20220104T101648Z
LAST-MODIFIED:20220104T101753Z
UID:3600-1642670400-1642696200@ikth.de
SUMMARY:BAUSEMINAR 2022 in Dresden
DESCRIPTION:Link zur Veranstaltung \nAnerkannt durch IKTh mit 7 Weiterbildungsstunden* (* 1 Weiterbildungsstunde = 45 Minuten)
URL:https://ikth.de/startseite/event/bauseminar-2022-in-dresden/
LOCATION:Bilderberg Bellevue Dresden\, \, Große Meißner Str. 15\, Dresden\, 01097\, Deutschland
CATEGORIES:Seminar
END:VEVENT
END:VCALENDAR