BEGIN:VCALENDAR
VERSION:2.0
PRODID:-//Ingenieurkammer Thüringen - ECPv5.8.0//NONSGML v1.0//EN
CALSCALE:GREGORIAN
METHOD:PUBLISH
X-WR-CALNAME:Ingenieurkammer Thüringen
X-ORIGINAL-URL:https://ikth.de/startseite
X-WR-CALDESC:Veranstaltungen für Ingenieurkammer Thüringen
BEGIN:VTIMEZONE
TZID:Europe/Berlin
BEGIN:DAYLIGHT
TZOFFSETFROM:+0100
TZOFFSETTO:+0200
TZNAME:CEST
DTSTART:20220327T010000
END:DAYLIGHT
BEGIN:STANDARD
TZOFFSETFROM:+0200
TZOFFSETTO:+0100
TZNAME:CET
DTSTART:20221030T010000
END:STANDARD
END:VTIMEZONE
BEGIN:VEVENT
DTSTART;TZID=Europe/Berlin:20221107T100000
DTEND;TZID=Europe/Berlin:20221107T140000
DTSTAMP:20260424T184949
CREATED:20220818T131021Z
LAST-MODIFIED:20220826T092940Z
UID:4365-1667815200-1667829600@ikth.de
SUMMARY:Auftaktveranstaltung des Netzwerks „Digitales Planen\, Bauen und Betreiben in Thüringen“
DESCRIPTION:Veranstalter\nArchitektenkammer Thüringen\, Ingenieurkammer Thüringen\, Bauindustrieverband Hessen-Thüringen e.V.\, Handwerkskammer\, FH Erfurt und Bauhaus-Universität Weimar\nGeeignet für\nAbsolventen\, Hochbauarchitekten\, Landschaftsarchitekten\, Innenarchitekten\, Stadtplaner\n\n  \n\nZu seiner Auftaktveranstaltung lädt das Netzwerk „Digitales Planen\, Bauen und Betreiben in Thüringen“ (dpbb.THÜR) am 7. November 2022 auf Schloss Ettersburg ein. \nDas Netzwerk hat sich zur Aufgabe gestellt\, mit der regelmäßigen Durchführung von Impulsveranstaltungen dazu beizutragen\, die Orientierung in den digitalen Methoden der Planung\, der Bauausführung und des Betreibens von Bauobjekten zu befördern. \nThemenschwerpunkte sind unter anderem: \n\nNiederschwellige BIM-Implementierung im Planungsbüro\nDigitale Gebäudeoptimierung für Bauherren\nBeauftragung und Nutzung digitaler Leistungen durch Auftraggeber*innen\n\nKurz zusammengefasst: \n\nWann: 7. November 2022\, 10.00 Uhr – 14.00 Uhr\nWo: Schloss Ettersburg\, Gewehrsaal\nTagungsgebühr: kostenfrei\nProgramm: Veröffentlichung in Kürze an dieser Stelle\n\nDie Veranstaltung ist mit 5 Weiterbildungsstunden anerkannt. \n\nweitere Informationen und Anmeldung (über Architektenkammer Thüringen)
URL:https://ikth.de/startseite/event/auftaktveranstaltung-des-netzwerks-digitales-planen-bauen-und-betreiben-in-thueringen/
LOCATION:Schloss Ettersburg\, Gewehrsaal\,\, Am Schloss 1\, 99439 Ettersburg
CATEGORIES:Bauwesen,BIM
END:VEVENT
END:VCALENDAR