BEGIN:VCALENDAR
VERSION:2.0
PRODID:-//Ingenieurkammer Thüringen - ECPv5.8.0//NONSGML v1.0//EN
CALSCALE:GREGORIAN
METHOD:PUBLISH
X-WR-CALNAME:Ingenieurkammer Thüringen
X-ORIGINAL-URL:https://ikth.de/startseite
X-WR-CALDESC:Veranstaltungen für Ingenieurkammer Thüringen
BEGIN:VTIMEZONE
TZID:Europe/Berlin
BEGIN:DAYLIGHT
TZOFFSETFROM:+0100
TZOFFSETTO:+0200
TZNAME:CEST
DTSTART:20230326T010000
END:DAYLIGHT
BEGIN:STANDARD
TZOFFSETFROM:+0200
TZOFFSETTO:+0100
TZNAME:CET
DTSTART:20231029T010000
END:STANDARD
END:VTIMEZONE
BEGIN:VEVENT
DTSTART;TZID=Europe/Berlin:20231214T100000
DTEND;TZID=Europe/Berlin:20231214T113000
DTSTAMP:20260424T193809
CREATED:20231207T073156Z
LAST-MODIFIED:20231207T073621Z
UID:5898-1702548000-1702553400@ikth.de
SUMMARY:Architektur und Brandschutz: Besser mit KI?
DESCRIPTION:Auf folgende Inhalte kannst Du Dich freuen:\n\n\n\n\nIn Zusammenarbeit mit unserem Partner Siemens veranstalten wir diese online Fortbildung zum Thema Architektur und Brandschutz mit KI insbesondere für Architekten und Ingenieure. Deine Teilnahme wird mit Fortbildungspunkten von Deiner Kammer belohnt. Künstliche Intelligenz (KI) spielt in der Architektur und Gebäudetechnik immer mehr eine Rolle. Die Einsatzmöglichkeiten reichen von generativem Design über Materialoptimierung\, Gewerkeplanung\, Simulationen und Analysen bis hin zum späteren Gebäudebetrieb. So unterstützt die KI bereits in der Entwurfs- und Planungsphase\, optimale Gebäudelösungen zu entwickeln. So auch für den Brandschutz. Manche architektonischen Entwürfe\, wie z.B. großzügige Atrien oder Eingangshallen mit hohen Decken\, lassen konventionelle Brandmelder und Richtlinien an ihre Grenzen stoßen. Hier bietet sich eine KI-basierte Video-Branderkennung an. In rauen Umgebungen\, wie Industriebereichen oder Produktionshallen\, erschweren Umgebungseinflüsse wie Staub\, Abgase\, Thermik und Feuchtigkeit die sichere Detektion von Bränden. Hier gewährleistet die Video-Branderkennung die Sicherheit von Menschen und den Schutz von Sachwerten durch eine zuverlässige und frühzeitige Erkennung von Rauch und Flammen. In allen diesen Fällen stellt Siemens mit dem FireCatcher eine innovative Lösung bereit\, die auch in bestehende Brandschutzlösungen integriert werden kann. Das Webinar zeigt Architekten und Planern\, wie die KI-basierte Video-Branderkennung in unterschiedlichsten Gebäudearten und Raumumgebungen zum Einsatz kommen kann\, wenn aufgrund der äußeren Gegebenheiten konventionelle Brandschutzlösungen nicht greifen. Die Integration in das Brandmeldekonzept wird ebenfalls im Webinar aufgegriffen. \n  \nIm Laufe der Fortbildung: \n\nWas ist KI?\nEinsatzmöglichkeiten für Planer und Architekten\nAktuelle normative Situation für die Branderkennung mit Videotechnologie\nTechnische Informationen zum FireCatcher\nApplikationsbeispiele (teilweise mit Video)\n\n\n\n  \nDie Veranstaltung ist durch die IKTh mit 2 WB Stunden anerkannt. \n  \nWeitere Informationen
URL:https://ikth.de/startseite/event/architektur-und-brandschutz-besser-mit-ki/
LOCATION:Online Veranstaltung
CATEGORIES:Brandschutz,Online-Veranstaltung
END:VEVENT
END:VCALENDAR