BEGIN:VCALENDAR
VERSION:2.0
PRODID:-//Ingenieurkammer Thüringen - ECPv5.8.0//NONSGML v1.0//EN
CALSCALE:GREGORIAN
METHOD:PUBLISH
X-WR-CALNAME:Ingenieurkammer Thüringen
X-ORIGINAL-URL:https://ikth.de/startseite
X-WR-CALDESC:Veranstaltungen für Ingenieurkammer Thüringen
BEGIN:VTIMEZONE
TZID:Europe/Berlin
BEGIN:DAYLIGHT
TZOFFSETFROM:+0100
TZOFFSETTO:+0200
TZNAME:CEST
DTSTART:20220327T010000
END:DAYLIGHT
BEGIN:STANDARD
TZOFFSETFROM:+0200
TZOFFSETTO:+0100
TZNAME:CET
DTSTART:20221030T010000
END:STANDARD
END:VTIMEZONE
BEGIN:VEVENT
DTSTART;VALUE=DATE:20221109
DTEND;VALUE=DATE:20221111
DTSTAMP:20260424T202945
CREATED:20220818T112243Z
LAST-MODIFIED:20220818T112243Z
UID:4350-1667952000-1668124799@ikth.de
SUMMARY:AB-TAGE »BETON« 2022
DESCRIPTION:Die Zukunft des Bauens\nWie könnte die Zukunft des Bauens aussehen? Was kommt in den nächsten Jahren durch stetig steigende Anforderungen an die Senkung des Ressourcen- und Energieverbrauchs auf die Baubranche zu? Derzeitige Diskussionen zielen zunehmend auf den Zusammenhang zwischen Bauen und Klimawandel ab. Nachhaltigkeit und Ressourcenschonung sind dabei das Maß aller Dinge. In der Praxis kommen weitere Probleme wie der sich zuspitzende Fachkräftemangel\, Materialengpässe oder geopolitische Veränderungen hinzu. Sicher ist\, dass wir intelligentere und effizientere Produktionstechnologien sowie neue\, innovative Materialien brauchen werden\, um die Herausforderungen unserer Zeit zu bewältigen. \nIAB-Fachtagung setzt neue Impulse für die Bauwirtschaft\nWie die Zukunft des Bauens aussehen wird\, können auch wir nicht beantworten. Aber wir haben viele Ideen! Daher möchten wir Sie gern am 09. und 10. November zu den IAB-TAGEN »Beton« 2022 nach Weimar einladen. Lassen Sie uns gemeinsam über aktuelle Probleme und gegenwärtige Trends sprechen und neue Impulse für das Bauen der Zukunft setzen. Intensivieren Sie bereits vorhandene und knüpfen Sie neue Kontakte zu Ingenieuren und Architekten\, Unternehmen aus der Baustoff-\, der Baumaschinen- und der Betonbauindustrie sowie zu Vertretern von Forschungseinrichtungen\, Hochschulen und Behörden. \nAusgewählte Referenten präsentieren Lösungsansätze\nAusgewählte Referenten informieren über den Status quo im Bauwesen und präsentieren Lösungsansätze aus Theorie und Praxis. Themenschwerpunkte sind in diesem Jahr der ressourcenschonende Umgang mit Baustoffen\, neue Produktionstechnologien sowie die Automatisierung im Bauwesen. Eine tagungsbegleitende Fachausstellung sowie der traditionelle Erfahrungsaustausch in lockerer Atmosphäre runden das Programm der IAB-TAGE »BETON« 2022 ab. \nZur Veranstaltung \nDie Veranstaltung wird mit 14 WB Stunden durch die IKTh anerkannt.
URL:https://ikth.de/startseite/event/ab-tage-beton-2022/
CATEGORIES:Bauwesen,Klima,Nachhaltigkeit,Tagung
END:VEVENT
END:VCALENDAR