BEGIN:VCALENDAR
VERSION:2.0
PRODID:-//Ingenieurkammer Thüringen - ECPv5.8.0//NONSGML v1.0//EN
CALSCALE:GREGORIAN
METHOD:PUBLISH
X-WR-CALNAME:Ingenieurkammer Thüringen
X-ORIGINAL-URL:https://ikth.de/startseite
X-WR-CALDESC:Veranstaltungen für Ingenieurkammer Thüringen
BEGIN:VTIMEZONE
TZID:Europe/Berlin
BEGIN:DAYLIGHT
TZOFFSETFROM:+0100
TZOFFSETTO:+0200
TZNAME:CEST
DTSTART:20230326T010000
END:DAYLIGHT
BEGIN:STANDARD
TZOFFSETFROM:+0200
TZOFFSETTO:+0100
TZNAME:CET
DTSTART:20231029T010000
END:STANDARD
END:VTIMEZONE
BEGIN:VEVENT
DTSTART;TZID=Europe/Berlin:20230420T100000
DTEND;TZID=Europe/Berlin:20230420T143000
DTSTAMP:20260424T094825
CREATED:20230308T142406Z
LAST-MODIFIED:20230308T142406Z
UID:4791-1681984800-1682001000@ikth.de
SUMMARY:3. Veranstaltung des Netzwerks „Digitales Planen\, Bauen und Betreiben in Thüringen“
DESCRIPTION:Veranstalter\nArchitektenkammer Thüringen\, Ingenieurkammer Thüringen\, Bauindustrieverband Hessen-Thüringen e.V.\, Handwerkskammer Erfurt\, FH Erfurt und Bauhaus-Universität Weimar\nGeeignet für\nAbsolventen\, Hochbauarchitekten\, Landschaftsarchitekten\, Innenarchitekten\, Stadtplaner\nFortbildungsstunden\n5 (für Mitglieder der Ingenieurkammer Thüringen anrechenbare Fortbildungsstunden)\n\n\nZu seiner dritten Veranstaltung lädt das Netzwerk „Digitales Planen\, Bauen und Betreiben in Thüringen“ (dpbb.THÜR) am 20.04.2023 auf Schloss Ettersburg ein. \nDas Netzwerk hat sich zur Aufgabe gestellt\, mit der regelmäßigen Durchführung von Impulsveranstaltungen dazu beizutragen\, die Orientierung in den digitalen Methoden der Planung\, der Bauausführung und des Betreibens von Bauobjekten zu befördern. \nVorläufiges Programm\nab 9:30 Uhr: Einlass \n10:00 Uhr: \n\n Begrüßung\nFranziska Weise\, Geschäftsführerin der Architektenkammer Thüringen\n\n10:15 Uhr bis 11:00 Uhr: \n\n BIM-Datenbanken: Verknüpfungen des Planungssystems mit dem Standard-Leistungsbuch\nReferent: n.n.\n\n11.00 Uhr bis 11:45 Uhr: \n\n BIM im Brandschutz: Standardisierung von brandschutzrelevanten Attributen in der IFC-Schnittstelle\nReferentin: Janna Walter\, Technische Hochschule Mittelhessen\n\n11.45 Uhr bis 12.00 Uhr: Offene Fragerunde \n12.00 Uhr bis 12:30 Uhr: Mittagsimbiss \n12:30 Uhr bis 13:15 Uhr: \n\nEntwurf einer optimierten Methodik der teilautomatisierten Quartiersplanung\nReferent: Moritz Hofmann\, Geschäftsführer modular one Immobilienleasing\n\n13:15 Uhr bis 14:00 Uhr: \n\nBeauftragung digitaler Leistungen mittels Auftragsgeberinformationsanforderungen (AIA)\nReferent: Christoph Röhr\, RMA – Real Estate Management Assistance GmbH\n\n14:00 Uhr bis 14:30 Uhr: Offene Fragerunde \n\nAnmeldegebühr: 45\,00 Euro \nHinweis: Die Kapazität im Gewehrsaal ist auf 120 Teilnehmende begrenzt. Anmeldungen werden in der Reihenfolge des Eingangs berücksichtigt. \n\n\nAnmeldung zur Veranstaltung\nDie Anmeldung ist bis 13.04.2023 möglich. \nMit dem Absenden dieses Formulars melden Sie sich verbindlich zu dieser Veranstaltung an. Eventuelle Anmeldegebühren – siehe Beschreibung – werden Ihnen in Rechnung gestellt. \nStornierungsbedingungen\nDie Stornierung bedarf der Schriftform. Maßgeblich ist der Zugang der schriftlichen Erklärung beim Veranstalter. Die Benennung von Ersatzteilnehmern ist möglich. \nStornierungsgebühren\nBis 14 Tage vor Beginn der Veranstaltung: 20 % des Entgelts\,-Ab 13 Tagen vor Beginn der Veranstaltung: 50 % des Entgelts\, -bei Nichterscheinen oder nicht rechtzeitiger schriftlicher Stornierung bis spätestens zum Anmeldeschluss: 100 % \nAbsage von Veranstaltungen\nMuss eine Veranstaltung aufgrund von zu geringer Nachfrage\, wegen Ausfalls des Dozenten\, höherer Gewalt oder sonstiger unvorhersehbarer Ereignisse abgesagt werden\, werden die Teilnehmer umgehend schriftlich informiert. Das bereits überwiesene Entgelt wird auf dem Wege der Kontoüberweisung zurückerstattet. Im Weiteren besteht kein Anspruch auf Durchführung der Veranstaltung und Ersatz gleich welcher Art und Höhe. \nErgänzende Hinweise \n\nMit der Anmeldung erklären Sie sich einverstanden\, dass Ihre bei der Anmeldung gemachten Angaben zu Zwecken der Veranstaltungsorganisation gespeichert werden. Bitte beachten Sie auch unsere Datenschutzerklärung\nVon der Veranstaltung erstellen wir Bildmaterial bzw. Videoaufzeichnungen. Mit Ihrer Anmeldung erklären Sie sich damit einverstanden\, dass wir ggf. Fotos/Videoaufzeichnungen veröffentlichen\, auf denen Sie zu erkennen sind.\n\nAnmeldung
URL:https://ikth.de/startseite/event/3-veranstaltung-des-netzwerks-digitales-planen-bauen-und-betreiben-in-thueringen/
LOCATION:Schloss Ettersburg\, Am Schloss\, Ettersburg\, 99439
CATEGORIES:BIM
END:VEVENT
END:VCALENDAR