BEGIN:VCALENDAR
VERSION:2.0
PRODID:-//Ingenieurkammer Thüringen - ECPv5.8.0//NONSGML v1.0//EN
CALSCALE:GREGORIAN
METHOD:PUBLISH
X-WR-CALNAME:Ingenieurkammer Thüringen
X-ORIGINAL-URL:https://ikth.de/startseite
X-WR-CALDESC:Veranstaltungen für Ingenieurkammer Thüringen
BEGIN:VTIMEZONE
TZID:Europe/Berlin
BEGIN:DAYLIGHT
TZOFFSETFROM:+0100
TZOFFSETTO:+0200
TZNAME:CEST
DTSTART:20220327T010000
END:DAYLIGHT
BEGIN:STANDARD
TZOFFSETFROM:+0200
TZOFFSETTO:+0100
TZNAME:CET
DTSTART:20221030T010000
END:STANDARD
END:VTIMEZONE
BEGIN:VEVENT
DTSTART;TZID=Europe/Berlin:20220119T090000
DTEND;TZID=Europe/Berlin:20220121T000000
DTSTAMP:20260423T160718
CREATED:20210630T140102Z
LAST-MODIFIED:20210923T130944Z
UID:2307-1642582800-1642723200@ikth.de
SUMMARY:15. Allgäuer Baufachkongress
DESCRIPTION:Link zur Veranstaltung  \nAnerkannt durch IKTh mit 24 Weiterbildungsstunden \n 
URL:https://ikth.de/startseite/event/15-allgaeuer-baufachkongress/
LOCATION:Oberstdorf Haus
END:VEVENT
END:VCALENDAR